BEGIN:VCALENDAR
VERSION:2.0
PRODID:-//achurchnearyou.com//eventfeed//EN
CALSCALE:GREGORIAN
METHOD:PUBLISH
X-WR-TIMEZONE:UTC
BEGIN:VEVENT
SUMMARY:Breakfast Church
DTSTART;TZID=Europe/London:20260419T093000
DTEND;TZID=Europe/London:20260419T100000
DTSTAMP:20260419T164648Z
UID:4734642026-04-19 09:30:00+01:00achurchnearyou
CATEGORIES:
DESCRIPTION:Breakfast available from 9.00am. Informal all-age worship 9.30
 -10.00am.
GEO:-1.63484;51.043811
LOCATION:West Dean: St Mary the Virgin
URL:https://www.achurchnearyou.com/church/9486/service-and-events/events/4
 73464/
END:VEVENT
BEGIN:VEVENT
SUMMARY:Breakfast Church
DTSTART;TZID=Europe/London:20260517T093000
DTEND;TZID=Europe/London:20260517T100000
DTSTAMP:20260419T164648Z
UID:4734642026-05-17 09:30:00+01:00achurchnearyou
CATEGORIES:
DESCRIPTION:Breakfast available from 9.00am. Informal all-age worship 9.30
 -10.00am.
GEO:-1.63484;51.043811
LOCATION:West Dean: St Mary the Virgin
URL:https://www.achurchnearyou.com/church/9486/service-and-events/events/4
 73464/
END:VEVENT
BEGIN:VEVENT
SUMMARY:Breakfast Church
DTSTART;TZID=Europe/London:20260621T093000
DTEND;TZID=Europe/London:20260621T100000
DTSTAMP:20260419T164648Z
UID:4734642026-06-21 09:30:00+01:00achurchnearyou
CATEGORIES:
DESCRIPTION:Breakfast available from 9.00am. Informal all-age worship 9.30
 -10.00am.
GEO:-1.63484;51.043811
LOCATION:West Dean: St Mary the Virgin
URL:https://www.achurchnearyou.com/church/9486/service-and-events/events/4
 73464/
END:VEVENT
BEGIN:VEVENT
SUMMARY:Breakfast Church
DTSTART;TZID=Europe/London:20260719T093000
DTEND;TZID=Europe/London:20260719T100000
DTSTAMP:20260419T164648Z
UID:4734642026-07-19 09:30:00+01:00achurchnearyou
CATEGORIES:
DESCRIPTION:Breakfast available from 9.00am. Informal all-age worship 9.30
 -10.00am.
GEO:-1.63484;51.043811
LOCATION:West Dean: St Mary the Virgin
URL:https://www.achurchnearyou.com/church/9486/service-and-events/events/4
 73464/
END:VEVENT
BEGIN:VEVENT
SUMMARY:Breakfast Church
DTSTART;TZID=Europe/London:20260816T093000
DTEND;TZID=Europe/London:20260816T100000
DTSTAMP:20260419T164648Z
UID:4734642026-08-16 09:30:00+01:00achurchnearyou
CATEGORIES:
DESCRIPTION:Breakfast available from 9.00am. Informal all-age worship 9.30
 -10.00am.
GEO:-1.63484;51.043811
LOCATION:West Dean: St Mary the Virgin
URL:https://www.achurchnearyou.com/church/9486/service-and-events/events/4
 73464/
END:VEVENT
BEGIN:VEVENT
SUMMARY:Breakfast Church
DTSTART;TZID=Europe/London:20260920T093000
DTEND;TZID=Europe/London:20260920T100000
DTSTAMP:20260419T164648Z
UID:4734642026-09-20 09:30:00+01:00achurchnearyou
CATEGORIES:
DESCRIPTION:Breakfast available from 9.00am. Informal all-age worship 9.30
 -10.00am.
GEO:-1.63484;51.043811
LOCATION:West Dean: St Mary the Virgin
URL:https://www.achurchnearyou.com/church/9486/service-and-events/events/4
 73464/
END:VEVENT
BEGIN:VEVENT
SUMMARY:Breakfast Church
DTSTART;TZID=Europe/London:20261018T093000
DTEND;TZID=Europe/London:20261018T100000
DTSTAMP:20260419T164648Z
UID:4734642026-10-18 09:30:00+01:00achurchnearyou
CATEGORIES:
DESCRIPTION:Breakfast available from 9.00am. Informal all-age worship 9.30
 -10.00am.
GEO:-1.63484;51.043811
LOCATION:West Dean: St Mary the Virgin
URL:https://www.achurchnearyou.com/church/9486/service-and-events/events/4
 73464/
END:VEVENT
BEGIN:VEVENT
SUMMARY:Breakfast Church
DTSTART;TZID=Europe/London:20261115T093000
DTEND;TZID=Europe/London:20261115T100000
DTSTAMP:20260419T164648Z
UID:4734642026-11-15 09:30:00+00:00achurchnearyou
CATEGORIES:
DESCRIPTION:Breakfast available from 9.00am. Informal all-age worship 9.30
 -10.00am.
GEO:-1.63484;51.043811
LOCATION:West Dean: St Mary the Virgin
URL:https://www.achurchnearyou.com/church/9486/service-and-events/events/4
 73464/
END:VEVENT
BEGIN:VEVENT
SUMMARY:Breakfast Church
DTSTART;TZID=Europe/London:20261220T093000
DTEND;TZID=Europe/London:20261220T100000
DTSTAMP:20260419T164648Z
UID:4734642026-12-20 09:30:00+00:00achurchnearyou
CATEGORIES:
DESCRIPTION:Breakfast available from 9.00am. Informal all-age worship 9.30
 -10.00am.
GEO:-1.63484;51.043811
LOCATION:West Dean: St Mary the Virgin
URL:https://www.achurchnearyou.com/church/9486/service-and-events/events/4
 73464/
END:VEVENT
BEGIN:VEVENT
SUMMARY:Breakfast Church
DTSTART;TZID=Europe/London:20270117T093000
DTEND;TZID=Europe/London:20270117T100000
DTSTAMP:20260419T164648Z
UID:4734642027-01-17 09:30:00+00:00achurchnearyou
CATEGORIES:
DESCRIPTION:Breakfast available from 9.00am. Informal all-age worship 9.30
 -10.00am.
GEO:-1.63484;51.043811
LOCATION:West Dean: St Mary the Virgin
URL:https://www.achurchnearyou.com/church/9486/service-and-events/events/4
 73464/
END:VEVENT
BEGIN:VEVENT
SUMMARY:Breakfast Church
DTSTART;TZID=Europe/London:20270221T093000
DTEND;TZID=Europe/London:20270221T100000
DTSTAMP:20260419T164648Z
UID:4734642027-02-21 09:30:00+00:00achurchnearyou
CATEGORIES:
DESCRIPTION:Breakfast available from 9.00am. Informal all-age worship 9.30
 -10.00am.
GEO:-1.63484;51.043811
LOCATION:West Dean: St Mary the Virgin
URL:https://www.achurchnearyou.com/church/9486/service-and-events/events/4
 73464/
END:VEVENT
BEGIN:VEVENT
SUMMARY:Breakfast Church
DTSTART;TZID=Europe/London:20270321T093000
DTEND;TZID=Europe/London:20270321T100000
DTSTAMP:20260419T164648Z
UID:4734642027-03-21 09:30:00+00:00achurchnearyou
CATEGORIES:
DESCRIPTION:Breakfast available from 9.00am. Informal all-age worship 9.30
 -10.00am.
GEO:-1.63484;51.043811
LOCATION:West Dean: St Mary the Virgin
URL:https://www.achurchnearyou.com/church/9486/service-and-events/events/4
 73464/
END:VEVENT
BEGIN:VEVENT
SUMMARY:Breakfast Church
DTSTART;TZID=Europe/London:20270418T093000
DTEND;TZID=Europe/London:20270418T100000
DTSTAMP:20260419T164648Z
UID:4734642027-04-18 09:30:00+01:00achurchnearyou
CATEGORIES:
DESCRIPTION:Breakfast available from 9.00am. Informal all-age worship 9.30
 -10.00am.
GEO:-1.63484;51.043811
LOCATION:West Dean: St Mary the Virgin
URL:https://www.achurchnearyou.com/church/9486/service-and-events/events/4
 73464/
END:VEVENT
END:VCALENDAR
