BEGIN:VCALENDAR
VERSION:2.0
PRODID:-//achurchnearyou.com//eventfeed//EN
CALSCALE:GREGORIAN
METHOD:PUBLISH
X-WR-TIMEZONE:UTC
BEGIN:VEVENT
SUMMARY:Mothering Sunday Services across our Team
DTSTART:20250330T083000Z
DTEND:20250330T110000Z
DTSTAMP:20260425T161557Z
UID:11788842025-03-30 08:30:00+00:00achurchnearyou
CATEGORIES:
DESCRIPTION:Please join us for a Service this coming Mothering Sunday.  Al
 l are welcome.
GEO:-1.800085;51.263639
LOCATION:St Leonard's Bulford\nDurrington\, All Saints\nEnford\, All Saint
 s\nFigheldean\, St Michael and All Angels\nAll Saints Fittleton cum Haxton
 \nMilston with Brigmerston\, St Mary\nNetheravon: All Saints
URL:https://www.achurchnearyou.com/church/9498/service-and-events/events/1
 178884/
END:VEVENT
END:VCALENDAR
