BEGIN:VCALENDAR
VERSION:2.0
PRODID:-//achurchnearyou.com//eventfeed//EN
CALSCALE:GREGORIAN
METHOD:PUBLISH
X-WR-TIMEZONE:UTC
BEGIN:VEVENT
SUMMARY:Safari Supper
DTSTART:20260321T183000Z
DTEND:20260321T230000Z
DTSTAMP:20260426T004347Z
UID:12912062026-03-21 18:30:00+00:00achurchnearyou
CATEGORIES:
DESCRIPTION:Dear DSL Villagers\,\n\nYou are all warmly invited to join one
  of the most fun village evenings of the year: the Safari Supper!  Second 
 only to the fete\, this event is also a major contributor to supporting th
 e village church.\n\nThe format is slightly different this year:\n\nEveryo
 ne will meet together for drinks and nibbles at The Old Rectory (instead o
 f a starter course at different houses) and then we will all head off to h
 ost houses for the main course and move again for the pudding course.  We 
 will all then regather for coffee and/or something stronger at Barley Hous
 e\, kindly hosted by Anne Wright.\n\nI have already heard from some willin
 g hosts (thank you) but I will need more please! Hosts provide food and dr
 inks to guests at their own expense but of course will not be charged the 
 full ticket price. Hosts will receive a discount of £15 for main course a
 nd £8 for pudding\, from their ticket price.\n\nDue to the slightly diffe
 rent format this year\, the full ticket price is slightly lower at £32 pe
 r person.\n\nWhen you let me know if you can come\, please indicate whethe
 r you would be happy to host a main or a pudding course (stating a prefere
 nce if you have one) or if you will just be attending as a guest. Do also 
 let me know if you have any special dietary requirements.\n\nTimings for t
 he evening are as follows:\n\n6.30pm onwards: 	Drinks and nibbles at The O
 ld Rectory. Here you will be given your surprise(!) envelope giving detail
 s of your hosts for main course and pudding\n7.30pm: 	Main courses start\n
 9pm: 	Pudding courses start\n10pm: 	Coffee/something stronger at Barley Ho
 use\n\nPlease pay for your tickets using a reference of your surname and '
 Safari’ \nBank account details are:\nName: 'Drayton St Leonard PCC'\nSor
 t Code: 20 01 09\nAccount: 90331139\n\nFor planning purposes\, I would rea
 lly appreciate knowing if you can come by 7th March\, the day of the Villa
 ge Litter Pick! \n\nLooking forward to hearing from you\,\n\nVictoria\n(To
  send a message to Victoria\, click on the 'Get in touch' tab and choose '
 Safari Supper' as the subject line.)
LOCATION:Moving around various locations in the village.
URL:https://www.achurchnearyou.com/church/95/service-and-events/events/129
 1206/
END:VEVENT
END:VCALENDAR
