BEGIN:VCALENDAR
VERSION:2.0
PRODID:-//achurchnearyou.com//eventfeed//EN
CALSCALE:GREGORIAN
METHOD:PUBLISH
X-WR-TIMEZONE:UTC
BEGIN:VEVENT
SUMMARY:Team Prayer Day
DTSTART:20250809T090000Z
DTEND:20250809T143000Z
DTSTAMP:20260424T125219Z
UID:12147322025-08-09 09:00:00+00:00achurchnearyou
CATEGORIES:
DESCRIPTION:All Saints' Netheravon are hosting our Team Prayer Day on Satu
 rday 9th August.\n \nIt is free and open to everyone.\n \nIt begins with a
  10 am Silent Holy Communion.\nThere will be seven different prayer statio
 ns based on the Lord's Prayer that people can explore. They are suitable f
 or all ages.\n12.30 p.m.- 1 p.m. lunch break for volunteers.\nEnds with 2.
 30 p.m. Compline. \n \nSome people are doing it all day\, but others will 
 just drop in for a few minutes. The prayer stations will be up all week...
  so they can be revisited too.\n \nThank you to our LWL's who have facilit
 ated this day!!!
LOCATION:Netheravon: All Saints
URL:https://www.achurchnearyou.com/church/9502/service-and-events/events/1
 214732/
END:VEVENT
END:VCALENDAR
