BEGIN:VCALENDAR
VERSION:2.0
PRODID:-//achurchnearyou.com//eventfeed//EN
CALSCALE:GREGORIAN
METHOD:PUBLISH
X-WR-TIMEZONE:UTC
BEGIN:VEVENT
SUMMARY:Harvest Festival
DTSTART:20250928T100000Z
DTEND:20250928T110000Z
DTSTAMP:20260424T014844Z
UID:12231592025-09-28 10:00:00+00:00achurchnearyou
CATEGORIES:
DESCRIPTION:Join us to celebrate Harvest and Creationtide.\n\nPlease bring
  tins or packets of food (not fresh) for the Salisbury Foodbank to help th
 e many needy families in our communities.\n\nIf you can’t come to the Se
 rvice\, please consider leaving a food donation in the Church Porch\, at T
 he Old Post Office\, Croucheston or with Sarah Seal at The Bield\, Flamsto
 ne Street. You can also leave any financial donations (Cash or Cheques pay
 able to ‘Salisbury Foodbank’) at The Old Post Office or The Bield.\n\n
 Thank you!
GEO:-1.881061;51.037972
LOCATION:Bishopstone: St John the Baptist
URL:https://www.achurchnearyou.com/church/9515/service-and-events/events/1
 223159/
END:VEVENT
END:VCALENDAR
