BEGIN:VCALENDAR
VERSION:2.0
PRODID:-//achurchnearyou.com//eventfeed//EN
CALSCALE:GREGORIAN
METHOD:PUBLISH
X-WR-TIMEZONE:UTC
BEGIN:VEVENT
SUMMARY:Family Christmas Communion
DTSTART:20251225T093000Z
DTEND:20251225T103000Z
DTSTAMP:20260420T090125Z
UID:12663322025-12-25 09:30:00+00:00achurchnearyou
CATEGORIES:
DESCRIPTION:All age service to celebrate Christmas
GEO:-2.57834;50.737334
LOCATION:St Thomas Compton Valance
URL:https://www.achurchnearyou.com/church/9519/service-and-events/events/1
 266332/
END:VEVENT
END:VCALENDAR
