BEGIN:VCALENDAR
VERSION:2.0
PRODID:-//achurchnearyou.com//eventfeed//EN
CALSCALE:GREGORIAN
METHOD:PUBLISH
X-WR-TIMEZONE:UTC
BEGIN:VEVENT
SUMMARY:Week of Prayer for Christian Unity 18- 25 January 2025
DTSTART;TZID=Europe/London:20250121T143000
DTEND;TZID=Europe/London:20250121T150000
DTSTAMP:20260422T164404Z
UID:11423032025-01-21 14:30:00+00:00achurchnearyou
CATEGORIES:
DESCRIPTION:Join us as we pray for Christian unity together
LOCATION:West End Baptist Church
URL:https://www.achurchnearyou.com/church/9572/service-and-events/events/1
 142303/
END:VEVENT
BEGIN:VEVENT
SUMMARY:Week of Prayer for Christian Unity 18- 25 January 2025
DTSTART;TZID=Europe/London:20250122T143000
DTEND;TZID=Europe/London:20250122T150000
DTSTAMP:20260422T164404Z
UID:11423032025-01-22 14:30:00+00:00achurchnearyou
CATEGORIES:
DESCRIPTION:Join us as we pray for Christian unity together
LOCATION:West End Baptist Church
URL:https://www.achurchnearyou.com/church/9572/service-and-events/events/1
 142303/
END:VEVENT
BEGIN:VEVENT
SUMMARY:Week of Prayer for Christian Unity 18- 25 January 2025
DTSTART;TZID=Europe/London:20250123T143000
DTEND;TZID=Europe/London:20250123T150000
DTSTAMP:20260422T164404Z
UID:11423032025-01-23 14:30:00+00:00achurchnearyou
CATEGORIES:
DESCRIPTION:Join us as we pray for Christian unity together
LOCATION:West End Baptist Church
URL:https://www.achurchnearyou.com/church/9572/service-and-events/events/1
 142303/
END:VEVENT
BEGIN:VEVENT
SUMMARY:Week of Prayer for Christian Unity 18- 25 January 2025
DTSTART;TZID=Europe/London:20250124T143000
DTEND;TZID=Europe/London:20250124T150000
DTSTAMP:20260422T164404Z
UID:11423032025-01-24 14:30:00+00:00achurchnearyou
CATEGORIES:
DESCRIPTION:Join us as we pray for Christian unity together
LOCATION:West End Baptist Church
URL:https://www.achurchnearyou.com/church/9572/service-and-events/events/1
 142303/
END:VEVENT
END:VCALENDAR
