BEGIN:VCALENDAR
VERSION:2.0
PRODID:-//achurchnearyou.com//eventfeed//EN
CALSCALE:GREGORIAN
METHOD:PUBLISH
X-WR-TIMEZONE:UTC
BEGIN:VEVENT
SUMMARY:Mothers' Union
DTSTART:20260211T143000Z
DTEND:20260211T160000Z
DTSTAMP:20260421T133808Z
UID:12837042026-02-11 14:30:00+00:00achurchnearyou
CATEGORIES:
DESCRIPTION:Westbury branch of the Mothers' Union regular meeting held in 
 Westbury Parish Hall\nThis month they will have a speaker from Fear Free
LOCATION:Westbury Parish Hall
URL:https://www.achurchnearyou.com/church/9572/service-and-events/events/1
 283704/
END:VEVENT
END:VCALENDAR
