BEGIN:VCALENDAR
VERSION:2.0
PRODID:-//achurchnearyou.com//eventfeed//EN
CALSCALE:GREGORIAN
METHOD:PUBLISH
X-WR-TIMEZONE:UTC
BEGIN:VEVENT
SUMMARY:Pints of View
DTSTART;TZID=Europe/London:20230419T191500
DTEND;TZID=Europe/London:20230419T213000
DTSTAMP:20260423T060351Z
UID:9244012023-04-19 19:15:00+01:00achurchnearyou
CATEGORIES:
DESCRIPTION:All are welcome for a meal at 7.30 pm followed by some discuss
 ion on topical issues.\n(or 8.15 for discussion only)
LOCATION:The Hollies Inn
URL:https://www.achurchnearyou.com/church/9572/service-and-events/events/9
 24401/
END:VEVENT
BEGIN:VEVENT
SUMMARY:Pints of View
DTSTART;TZID=Europe/London:20230517T191500
DTEND;TZID=Europe/London:20230517T213000
DTSTAMP:20260423T060351Z
UID:9244012023-05-17 19:15:00+01:00achurchnearyou
CATEGORIES:
DESCRIPTION:All are welcome for a meal at 7.30 pm followed by some discuss
 ion on topical issues.\n(or 8.15 for discussion only)
LOCATION:The Hollies Inn
URL:https://www.achurchnearyou.com/church/9572/service-and-events/events/9
 24401/
END:VEVENT
BEGIN:VEVENT
SUMMARY:Pints of View
DTSTART;TZID=Europe/London:20230621T191500
DTEND;TZID=Europe/London:20230621T213000
DTSTAMP:20260423T060351Z
UID:9244012023-06-21 19:15:00+01:00achurchnearyou
CATEGORIES:
DESCRIPTION:All are welcome for a meal at 7.30 pm followed by some discuss
 ion on topical issues.\n(or 8.15 for discussion only)
LOCATION:The Hollies Inn
URL:https://www.achurchnearyou.com/church/9572/service-and-events/events/9
 24401/
END:VEVENT
BEGIN:VEVENT
SUMMARY:Pints of View
DTSTART;TZID=Europe/London:20230719T191500
DTEND;TZID=Europe/London:20230719T213000
DTSTAMP:20260423T060351Z
UID:9244012023-07-19 19:15:00+01:00achurchnearyou
CATEGORIES:
DESCRIPTION:All are welcome for a meal at 7.30 pm followed by some discuss
 ion on topical issues.\n(or 8.15 for discussion only)
LOCATION:The Hollies Inn
URL:https://www.achurchnearyou.com/church/9572/service-and-events/events/9
 24401/
END:VEVENT
BEGIN:VEVENT
SUMMARY:Pints of View
DTSTART;TZID=Europe/London:20230816T191500
DTEND;TZID=Europe/London:20230816T213000
DTSTAMP:20260423T060351Z
UID:9244012023-08-16 19:15:00+01:00achurchnearyou
CATEGORIES:
DESCRIPTION:All are welcome for a meal at 7.30 pm followed by some discuss
 ion on topical issues.\n(or 8.15 for discussion only)
LOCATION:The Hollies Inn
URL:https://www.achurchnearyou.com/church/9572/service-and-events/events/9
 24401/
END:VEVENT
BEGIN:VEVENT
SUMMARY:Pints of View
DTSTART;TZID=Europe/London:20230920T191500
DTEND;TZID=Europe/London:20230920T213000
DTSTAMP:20260423T060351Z
UID:9244012023-09-20 19:15:00+01:00achurchnearyou
CATEGORIES:
DESCRIPTION:All are welcome for a meal at 7.30 pm followed by some discuss
 ion on topical issues.\n(or 8.15 for discussion only)
LOCATION:The Hollies Inn
URL:https://www.achurchnearyou.com/church/9572/service-and-events/events/9
 24401/
END:VEVENT
BEGIN:VEVENT
SUMMARY:Pints of View
DTSTART;TZID=Europe/London:20231018T191500
DTEND;TZID=Europe/London:20231018T213000
DTSTAMP:20260423T060351Z
UID:9244012023-10-18 19:15:00+01:00achurchnearyou
CATEGORIES:
DESCRIPTION:All are welcome for a meal at 7.30 pm followed by some discuss
 ion on topical issues.\n(or 8.15 for discussion only)
LOCATION:The Hollies Inn
URL:https://www.achurchnearyou.com/church/9572/service-and-events/events/9
 24401/
END:VEVENT
BEGIN:VEVENT
SUMMARY:Pints of View
DTSTART;TZID=Europe/London:20231115T191500
DTEND;TZID=Europe/London:20231115T213000
DTSTAMP:20260423T060351Z
UID:9244012023-11-15 19:15:00+00:00achurchnearyou
CATEGORIES:
DESCRIPTION:All are welcome for a meal at 7.30 pm followed by some discuss
 ion on topical issues.\n(or 8.15 for discussion only)
LOCATION:The Hollies Inn
URL:https://www.achurchnearyou.com/church/9572/service-and-events/events/9
 24401/
END:VEVENT
BEGIN:VEVENT
SUMMARY:Pints of View
DTSTART;TZID=Europe/London:20231220T191500
DTEND;TZID=Europe/London:20231220T213000
DTSTAMP:20260423T060351Z
UID:9244012023-12-20 19:15:00+00:00achurchnearyou
CATEGORIES:
DESCRIPTION:All are welcome for a meal at 7.30 pm followed by some discuss
 ion on topical issues.\n(or 8.15 for discussion only)
LOCATION:The Hollies Inn
URL:https://www.achurchnearyou.com/church/9572/service-and-events/events/9
 24401/
END:VEVENT
BEGIN:VEVENT
SUMMARY:Pints of View
DTSTART;TZID=Europe/London:20240117T191500
DTEND;TZID=Europe/London:20240117T213000
DTSTAMP:20260423T060351Z
UID:9244012024-01-17 19:15:00+00:00achurchnearyou
CATEGORIES:
DESCRIPTION:All are welcome for a meal at 7.30 pm followed by some discuss
 ion on topical issues.\n(or 8.15 for discussion only)
LOCATION:The Hollies Inn
URL:https://www.achurchnearyou.com/church/9572/service-and-events/events/9
 24401/
END:VEVENT
BEGIN:VEVENT
SUMMARY:Pints of View
DTSTART;TZID=Europe/London:20240221T191500
DTEND;TZID=Europe/London:20240221T213000
DTSTAMP:20260423T060351Z
UID:9244012024-02-21 19:15:00+00:00achurchnearyou
CATEGORIES:
DESCRIPTION:All are welcome for a meal at 7.30 pm followed by some discuss
 ion on topical issues.\n(or 8.15 for discussion only)
LOCATION:The Hollies Inn
URL:https://www.achurchnearyou.com/church/9572/service-and-events/events/9
 24401/
END:VEVENT
BEGIN:VEVENT
SUMMARY:Pints of View
DTSTART;TZID=Europe/London:20240320T191500
DTEND;TZID=Europe/London:20240320T213000
DTSTAMP:20260423T060351Z
UID:9244012024-03-20 19:15:00+00:00achurchnearyou
CATEGORIES:
DESCRIPTION:All are welcome for a meal at 7.30 pm followed by some discuss
 ion on topical issues.\n(or 8.15 for discussion only)
LOCATION:The Hollies Inn
URL:https://www.achurchnearyou.com/church/9572/service-and-events/events/9
 24401/
END:VEVENT
BEGIN:VEVENT
SUMMARY:Pints of View
DTSTART;TZID=Europe/London:20240417T191500
DTEND;TZID=Europe/London:20240417T213000
DTSTAMP:20260423T060351Z
UID:9244012024-04-17 19:15:00+01:00achurchnearyou
CATEGORIES:
DESCRIPTION:All are welcome for a meal at 7.30 pm followed by some discuss
 ion on topical issues.\n(or 8.15 for discussion only)
LOCATION:The Hollies Inn
URL:https://www.achurchnearyou.com/church/9572/service-and-events/events/9
 24401/
END:VEVENT
BEGIN:VEVENT
SUMMARY:Pints of View
DTSTART;TZID=Europe/London:20240515T191500
DTEND;TZID=Europe/London:20240515T213000
DTSTAMP:20260423T060351Z
UID:9244012024-05-15 19:15:00+01:00achurchnearyou
CATEGORIES:
DESCRIPTION:All are welcome for a meal at 7.30 pm followed by some discuss
 ion on topical issues.\n(or 8.15 for discussion only)
LOCATION:The Hollies Inn
URL:https://www.achurchnearyou.com/church/9572/service-and-events/events/9
 24401/
END:VEVENT
BEGIN:VEVENT
SUMMARY:Pints of View
DTSTART;TZID=Europe/London:20240619T191500
DTEND;TZID=Europe/London:20240619T213000
DTSTAMP:20260423T060351Z
UID:9244012024-06-19 19:15:00+01:00achurchnearyou
CATEGORIES:
DESCRIPTION:All are welcome for a meal at 7.30 pm followed by some discuss
 ion on topical issues.\n(or 8.15 for discussion only)
LOCATION:The Hollies Inn
URL:https://www.achurchnearyou.com/church/9572/service-and-events/events/9
 24401/
END:VEVENT
BEGIN:VEVENT
SUMMARY:Pints of View
DTSTART;TZID=Europe/London:20240717T191500
DTEND;TZID=Europe/London:20240717T213000
DTSTAMP:20260423T060351Z
UID:9244012024-07-17 19:15:00+01:00achurchnearyou
CATEGORIES:
DESCRIPTION:All are welcome for a meal at 7.30 pm followed by some discuss
 ion on topical issues.\n(or 8.15 for discussion only)
LOCATION:The Hollies Inn
URL:https://www.achurchnearyou.com/church/9572/service-and-events/events/9
 24401/
END:VEVENT
BEGIN:VEVENT
SUMMARY:Pints of View
DTSTART;TZID=Europe/London:20240821T191500
DTEND;TZID=Europe/London:20240821T213000
DTSTAMP:20260423T060351Z
UID:9244012024-08-21 19:15:00+01:00achurchnearyou
CATEGORIES:
DESCRIPTION:All are welcome for a meal at 7.30 pm followed by some discuss
 ion on topical issues.\n(or 8.15 for discussion only)
LOCATION:The Hollies Inn
URL:https://www.achurchnearyou.com/church/9572/service-and-events/events/9
 24401/
END:VEVENT
BEGIN:VEVENT
SUMMARY:Pints of View
DTSTART;TZID=Europe/London:20240918T191500
DTEND;TZID=Europe/London:20240918T213000
DTSTAMP:20260423T060351Z
UID:9244012024-09-18 19:15:00+01:00achurchnearyou
CATEGORIES:
DESCRIPTION:All are welcome for a meal at 7.30 pm followed by some discuss
 ion on topical issues.\n(or 8.15 for discussion only)
LOCATION:The Hollies Inn
URL:https://www.achurchnearyou.com/church/9572/service-and-events/events/9
 24401/
END:VEVENT
BEGIN:VEVENT
SUMMARY:Pints of View
DTSTART;TZID=Europe/London:20241016T191500
DTEND;TZID=Europe/London:20241016T213000
DTSTAMP:20260423T060351Z
UID:9244012024-10-16 19:15:00+01:00achurchnearyou
CATEGORIES:
DESCRIPTION:All are welcome for a meal at 7.30 pm followed by some discuss
 ion on topical issues.\n(or 8.15 for discussion only)
LOCATION:The Hollies Inn
URL:https://www.achurchnearyou.com/church/9572/service-and-events/events/9
 24401/
END:VEVENT
BEGIN:VEVENT
SUMMARY:Pints of View
DTSTART;TZID=Europe/London:20241120T191500
DTEND;TZID=Europe/London:20241120T213000
DTSTAMP:20260423T060351Z
UID:9244012024-11-20 19:15:00+00:00achurchnearyou
CATEGORIES:
DESCRIPTION:All are welcome for a meal at 7.30 pm followed by some discuss
 ion on topical issues.\n(or 8.15 for discussion only)
LOCATION:The Hollies Inn
URL:https://www.achurchnearyou.com/church/9572/service-and-events/events/9
 24401/
END:VEVENT
BEGIN:VEVENT
SUMMARY:Pints of View
DTSTART;TZID=Europe/London:20241218T191500
DTEND;TZID=Europe/London:20241218T213000
DTSTAMP:20260423T060351Z
UID:9244012024-12-18 19:15:00+00:00achurchnearyou
CATEGORIES:
DESCRIPTION:All are welcome for a meal at 7.30 pm followed by some discuss
 ion on topical issues.\n(or 8.15 for discussion only)
LOCATION:The Hollies Inn
URL:https://www.achurchnearyou.com/church/9572/service-and-events/events/9
 24401/
END:VEVENT
BEGIN:VEVENT
SUMMARY:Pints of View
DTSTART;TZID=Europe/London:20250115T191500
DTEND;TZID=Europe/London:20250115T213000
DTSTAMP:20260423T060351Z
UID:9244012025-01-15 19:15:00+00:00achurchnearyou
CATEGORIES:
DESCRIPTION:All are welcome for a meal at 7.30 pm followed by some discuss
 ion on topical issues.\n(or 8.15 for discussion only)
LOCATION:The Hollies Inn
URL:https://www.achurchnearyou.com/church/9572/service-and-events/events/9
 24401/
END:VEVENT
BEGIN:VEVENT
SUMMARY:Pints of View
DTSTART;TZID=Europe/London:20250219T191500
DTEND;TZID=Europe/London:20250219T213000
DTSTAMP:20260423T060351Z
UID:9244012025-02-19 19:15:00+00:00achurchnearyou
CATEGORIES:
DESCRIPTION:All are welcome for a meal at 7.30 pm followed by some discuss
 ion on topical issues.\n(or 8.15 for discussion only)
LOCATION:The Hollies Inn
URL:https://www.achurchnearyou.com/church/9572/service-and-events/events/9
 24401/
END:VEVENT
BEGIN:VEVENT
SUMMARY:Pints of View
DTSTART;TZID=Europe/London:20250319T191500
DTEND;TZID=Europe/London:20250319T213000
DTSTAMP:20260423T060351Z
UID:9244012025-03-19 19:15:00+00:00achurchnearyou
CATEGORIES:
DESCRIPTION:All are welcome for a meal at 7.30 pm followed by some discuss
 ion on topical issues.\n(or 8.15 for discussion only)
LOCATION:The Hollies Inn
URL:https://www.achurchnearyou.com/church/9572/service-and-events/events/9
 24401/
END:VEVENT
BEGIN:VEVENT
SUMMARY:Pints of View
DTSTART;TZID=Europe/London:20250416T191500
DTEND;TZID=Europe/London:20250416T213000
DTSTAMP:20260423T060351Z
UID:9244012025-04-16 19:15:00+01:00achurchnearyou
CATEGORIES:
DESCRIPTION:All are welcome for a meal at 7.30 pm followed by some discuss
 ion on topical issues.\n(or 8.15 for discussion only)
LOCATION:The Hollies Inn
URL:https://www.achurchnearyou.com/church/9572/service-and-events/events/9
 24401/
END:VEVENT
BEGIN:VEVENT
SUMMARY:Pints of View
DTSTART;TZID=Europe/London:20250521T191500
DTEND;TZID=Europe/London:20250521T213000
DTSTAMP:20260423T060351Z
UID:9244012025-05-21 19:15:00+01:00achurchnearyou
CATEGORIES:
DESCRIPTION:All are welcome for a meal at 7.30 pm followed by some discuss
 ion on topical issues.\n(or 8.15 for discussion only)
LOCATION:The Hollies Inn
URL:https://www.achurchnearyou.com/church/9572/service-and-events/events/9
 24401/
END:VEVENT
BEGIN:VEVENT
SUMMARY:Pints of View
DTSTART;TZID=Europe/London:20250618T191500
DTEND;TZID=Europe/London:20250618T213000
DTSTAMP:20260423T060351Z
UID:9244012025-06-18 19:15:00+01:00achurchnearyou
CATEGORIES:
DESCRIPTION:All are welcome for a meal at 7.30 pm followed by some discuss
 ion on topical issues.\n(or 8.15 for discussion only)
LOCATION:The Hollies Inn
URL:https://www.achurchnearyou.com/church/9572/service-and-events/events/9
 24401/
END:VEVENT
BEGIN:VEVENT
SUMMARY:Pints of View
DTSTART;TZID=Europe/London:20250716T191500
DTEND;TZID=Europe/London:20250716T213000
DTSTAMP:20260423T060351Z
UID:9244012025-07-16 19:15:00+01:00achurchnearyou
CATEGORIES:
DESCRIPTION:All are welcome for a meal at 7.30 pm followed by some discuss
 ion on topical issues.\n(or 8.15 for discussion only)
LOCATION:The Hollies Inn
URL:https://www.achurchnearyou.com/church/9572/service-and-events/events/9
 24401/
END:VEVENT
BEGIN:VEVENT
SUMMARY:Pints of View
DTSTART;TZID=Europe/London:20250820T191500
DTEND;TZID=Europe/London:20250820T213000
DTSTAMP:20260423T060351Z
UID:9244012025-08-20 19:15:00+01:00achurchnearyou
CATEGORIES:
DESCRIPTION:All are welcome for a meal at 7.30 pm followed by some discuss
 ion on topical issues.\n(or 8.15 for discussion only)
LOCATION:The Hollies Inn
URL:https://www.achurchnearyou.com/church/9572/service-and-events/events/9
 24401/
END:VEVENT
BEGIN:VEVENT
SUMMARY:Pints of View
DTSTART;TZID=Europe/London:20250917T191500
DTEND;TZID=Europe/London:20250917T213000
DTSTAMP:20260423T060351Z
UID:9244012025-09-17 19:15:00+01:00achurchnearyou
CATEGORIES:
DESCRIPTION:All are welcome for a meal at 7.30 pm followed by some discuss
 ion on topical issues.\n(or 8.15 for discussion only)
LOCATION:The Hollies Inn
URL:https://www.achurchnearyou.com/church/9572/service-and-events/events/9
 24401/
END:VEVENT
BEGIN:VEVENT
SUMMARY:Pints of View
DTSTART;TZID=Europe/London:20251015T191500
DTEND;TZID=Europe/London:20251015T213000
DTSTAMP:20260423T060351Z
UID:9244012025-10-15 19:15:00+01:00achurchnearyou
CATEGORIES:
DESCRIPTION:All are welcome for a meal at 7.30 pm followed by some discuss
 ion on topical issues.\n(or 8.15 for discussion only)
LOCATION:The Hollies Inn
URL:https://www.achurchnearyou.com/church/9572/service-and-events/events/9
 24401/
END:VEVENT
BEGIN:VEVENT
SUMMARY:Pints of View
DTSTART;TZID=Europe/London:20251119T191500
DTEND;TZID=Europe/London:20251119T213000
DTSTAMP:20260423T060351Z
UID:9244012025-11-19 19:15:00+00:00achurchnearyou
CATEGORIES:
DESCRIPTION:All are welcome for a meal at 7.30 pm followed by some discuss
 ion on topical issues.\n(or 8.15 for discussion only)
LOCATION:The Hollies Inn
URL:https://www.achurchnearyou.com/church/9572/service-and-events/events/9
 24401/
END:VEVENT
BEGIN:VEVENT
SUMMARY:Pints of View
DTSTART;TZID=Europe/London:20251217T191500
DTEND;TZID=Europe/London:20251217T213000
DTSTAMP:20260423T060351Z
UID:9244012025-12-17 19:15:00+00:00achurchnearyou
CATEGORIES:
DESCRIPTION:All are welcome for a meal at 7.30 pm followed by some discuss
 ion on topical issues.\n(or 8.15 for discussion only)
LOCATION:The Hollies Inn
URL:https://www.achurchnearyou.com/church/9572/service-and-events/events/9
 24401/
END:VEVENT
BEGIN:VEVENT
SUMMARY:Pints of View
DTSTART;TZID=Europe/London:20260121T191500
DTEND;TZID=Europe/London:20260121T213000
DTSTAMP:20260423T060351Z
UID:9244012026-01-21 19:15:00+00:00achurchnearyou
CATEGORIES:
DESCRIPTION:All are welcome for a meal at 7.30 pm followed by some discuss
 ion on topical issues.\n(or 8.15 for discussion only)
LOCATION:The Hollies Inn
URL:https://www.achurchnearyou.com/church/9572/service-and-events/events/9
 24401/
END:VEVENT
BEGIN:VEVENT
SUMMARY:Pints of View
DTSTART;TZID=Europe/London:20260218T191500
DTEND;TZID=Europe/London:20260218T213000
DTSTAMP:20260423T060351Z
UID:9244012026-02-18 19:15:00+00:00achurchnearyou
CATEGORIES:
DESCRIPTION:All are welcome for a meal at 7.30 pm followed by some discuss
 ion on topical issues.\n(or 8.15 for discussion only)
LOCATION:The Hollies Inn
URL:https://www.achurchnearyou.com/church/9572/service-and-events/events/9
 24401/
END:VEVENT
BEGIN:VEVENT
SUMMARY:Pints of View
DTSTART;TZID=Europe/London:20260318T191500
DTEND;TZID=Europe/London:20260318T213000
DTSTAMP:20260423T060351Z
UID:9244012026-03-18 19:15:00+00:00achurchnearyou
CATEGORIES:
DESCRIPTION:All are welcome for a meal at 7.30 pm followed by some discuss
 ion on topical issues.\n(or 8.15 for discussion only)
LOCATION:The Hollies Inn
URL:https://www.achurchnearyou.com/church/9572/service-and-events/events/9
 24401/
END:VEVENT
BEGIN:VEVENT
SUMMARY:Pints of View
DTSTART;TZID=Europe/London:20260415T191500
DTEND;TZID=Europe/London:20260415T213000
DTSTAMP:20260423T060351Z
UID:9244012026-04-15 19:15:00+01:00achurchnearyou
CATEGORIES:
DESCRIPTION:All are welcome for a meal at 7.30 pm followed by some discuss
 ion on topical issues.\n(or 8.15 for discussion only)
LOCATION:The Hollies Inn
URL:https://www.achurchnearyou.com/church/9572/service-and-events/events/9
 24401/
END:VEVENT
BEGIN:VEVENT
SUMMARY:Pints of View
DTSTART;TZID=Europe/London:20260520T191500
DTEND;TZID=Europe/London:20260520T213000
DTSTAMP:20260423T060351Z
UID:9244012026-05-20 19:15:00+01:00achurchnearyou
CATEGORIES:
DESCRIPTION:All are welcome for a meal at 7.30 pm followed by some discuss
 ion on topical issues.\n(or 8.15 for discussion only)
LOCATION:The Hollies Inn
URL:https://www.achurchnearyou.com/church/9572/service-and-events/events/9
 24401/
END:VEVENT
BEGIN:VEVENT
SUMMARY:Pints of View
DTSTART;TZID=Europe/London:20260617T191500
DTEND;TZID=Europe/London:20260617T213000
DTSTAMP:20260423T060351Z
UID:9244012026-06-17 19:15:00+01:00achurchnearyou
CATEGORIES:
DESCRIPTION:All are welcome for a meal at 7.30 pm followed by some discuss
 ion on topical issues.\n(or 8.15 for discussion only)
LOCATION:The Hollies Inn
URL:https://www.achurchnearyou.com/church/9572/service-and-events/events/9
 24401/
END:VEVENT
BEGIN:VEVENT
SUMMARY:Pints of View
DTSTART;TZID=Europe/London:20260715T191500
DTEND;TZID=Europe/London:20260715T213000
DTSTAMP:20260423T060351Z
UID:9244012026-07-15 19:15:00+01:00achurchnearyou
CATEGORIES:
DESCRIPTION:All are welcome for a meal at 7.30 pm followed by some discuss
 ion on topical issues.\n(or 8.15 for discussion only)
LOCATION:The Hollies Inn
URL:https://www.achurchnearyou.com/church/9572/service-and-events/events/9
 24401/
END:VEVENT
BEGIN:VEVENT
SUMMARY:Pints of View
DTSTART;TZID=Europe/London:20260819T191500
DTEND;TZID=Europe/London:20260819T213000
DTSTAMP:20260423T060351Z
UID:9244012026-08-19 19:15:00+01:00achurchnearyou
CATEGORIES:
DESCRIPTION:All are welcome for a meal at 7.30 pm followed by some discuss
 ion on topical issues.\n(or 8.15 for discussion only)
LOCATION:The Hollies Inn
URL:https://www.achurchnearyou.com/church/9572/service-and-events/events/9
 24401/
END:VEVENT
BEGIN:VEVENT
SUMMARY:Pints of View
DTSTART;TZID=Europe/London:20260916T191500
DTEND;TZID=Europe/London:20260916T213000
DTSTAMP:20260423T060351Z
UID:9244012026-09-16 19:15:00+01:00achurchnearyou
CATEGORIES:
DESCRIPTION:All are welcome for a meal at 7.30 pm followed by some discuss
 ion on topical issues.\n(or 8.15 for discussion only)
LOCATION:The Hollies Inn
URL:https://www.achurchnearyou.com/church/9572/service-and-events/events/9
 24401/
END:VEVENT
BEGIN:VEVENT
SUMMARY:Pints of View
DTSTART;TZID=Europe/London:20261021T191500
DTEND;TZID=Europe/London:20261021T213000
DTSTAMP:20260423T060351Z
UID:9244012026-10-21 19:15:00+01:00achurchnearyou
CATEGORIES:
DESCRIPTION:All are welcome for a meal at 7.30 pm followed by some discuss
 ion on topical issues.\n(or 8.15 for discussion only)
LOCATION:The Hollies Inn
URL:https://www.achurchnearyou.com/church/9572/service-and-events/events/9
 24401/
END:VEVENT
BEGIN:VEVENT
SUMMARY:Pints of View
DTSTART;TZID=Europe/London:20261118T191500
DTEND;TZID=Europe/London:20261118T213000
DTSTAMP:20260423T060351Z
UID:9244012026-11-18 19:15:00+00:00achurchnearyou
CATEGORIES:
DESCRIPTION:All are welcome for a meal at 7.30 pm followed by some discuss
 ion on topical issues.\n(or 8.15 for discussion only)
LOCATION:The Hollies Inn
URL:https://www.achurchnearyou.com/church/9572/service-and-events/events/9
 24401/
END:VEVENT
BEGIN:VEVENT
SUMMARY:Pints of View
DTSTART;TZID=Europe/London:20261216T191500
DTEND;TZID=Europe/London:20261216T213000
DTSTAMP:20260423T060351Z
UID:9244012026-12-16 19:15:00+00:00achurchnearyou
CATEGORIES:
DESCRIPTION:All are welcome for a meal at 7.30 pm followed by some discuss
 ion on topical issues.\n(or 8.15 for discussion only)
LOCATION:The Hollies Inn
URL:https://www.achurchnearyou.com/church/9572/service-and-events/events/9
 24401/
END:VEVENT
BEGIN:VEVENT
SUMMARY:Pints of View
DTSTART;TZID=Europe/London:20270120T191500
DTEND;TZID=Europe/London:20270120T213000
DTSTAMP:20260423T060351Z
UID:9244012027-01-20 19:15:00+00:00achurchnearyou
CATEGORIES:
DESCRIPTION:All are welcome for a meal at 7.30 pm followed by some discuss
 ion on topical issues.\n(or 8.15 for discussion only)
LOCATION:The Hollies Inn
URL:https://www.achurchnearyou.com/church/9572/service-and-events/events/9
 24401/
END:VEVENT
BEGIN:VEVENT
SUMMARY:Pints of View
DTSTART;TZID=Europe/London:20270217T191500
DTEND;TZID=Europe/London:20270217T213000
DTSTAMP:20260423T060351Z
UID:9244012027-02-17 19:15:00+00:00achurchnearyou
CATEGORIES:
DESCRIPTION:All are welcome for a meal at 7.30 pm followed by some discuss
 ion on topical issues.\n(or 8.15 for discussion only)
LOCATION:The Hollies Inn
URL:https://www.achurchnearyou.com/church/9572/service-and-events/events/9
 24401/
END:VEVENT
BEGIN:VEVENT
SUMMARY:Pints of View
DTSTART;TZID=Europe/London:20270317T191500
DTEND;TZID=Europe/London:20270317T213000
DTSTAMP:20260423T060351Z
UID:9244012027-03-17 19:15:00+00:00achurchnearyou
CATEGORIES:
DESCRIPTION:All are welcome for a meal at 7.30 pm followed by some discuss
 ion on topical issues.\n(or 8.15 for discussion only)
LOCATION:The Hollies Inn
URL:https://www.achurchnearyou.com/church/9572/service-and-events/events/9
 24401/
END:VEVENT
BEGIN:VEVENT
SUMMARY:Pints of View
DTSTART;TZID=Europe/London:20270421T191500
DTEND;TZID=Europe/London:20270421T213000
DTSTAMP:20260423T060351Z
UID:9244012027-04-21 19:15:00+01:00achurchnearyou
CATEGORIES:
DESCRIPTION:All are welcome for a meal at 7.30 pm followed by some discuss
 ion on topical issues.\n(or 8.15 for discussion only)
LOCATION:The Hollies Inn
URL:https://www.achurchnearyou.com/church/9572/service-and-events/events/9
 24401/
END:VEVENT
END:VCALENDAR
