BEGIN:VCALENDAR
VERSION:2.0
PRODID:-//achurchnearyou.com//eventfeed//EN
CALSCALE:GREGORIAN
METHOD:PUBLISH
X-WR-TIMEZONE:UTC
BEGIN:VEVENT
SUMMARY:Holy Communion
DTSTART;TZID=Europe/London:20260426T092500
DTEND;TZID=Europe/London:20260426T101500
DTSTAMP:20260419T231836Z
UID:1764412026-04-26 09:25:00+01:00achurchnearyou
CATEGORIES:
DESCRIPTION:Traditional Sung Holy Communion Service
GEO:-2.201827;51.093233
LOCATION:West Knoyle: St Mary the Virgin
URL:https://www.achurchnearyou.com/church/9574/service-and-events/events/1
 76441/
END:VEVENT
BEGIN:VEVENT
SUMMARY:Holy Communion
DTSTART;TZID=Europe/London:20260510T092500
DTEND;TZID=Europe/London:20260510T101500
DTSTAMP:20260419T231836Z
UID:1764412026-05-10 09:25:00+01:00achurchnearyou
CATEGORIES:
DESCRIPTION:Traditional Sung Holy Communion Service
GEO:-2.201827;51.093233
LOCATION:West Knoyle: St Mary the Virgin
URL:https://www.achurchnearyou.com/church/9574/service-and-events/events/1
 76441/
END:VEVENT
BEGIN:VEVENT
SUMMARY:Holy Communion
DTSTART;TZID=Europe/London:20260524T092500
DTEND;TZID=Europe/London:20260524T101500
DTSTAMP:20260419T231836Z
UID:1764412026-05-24 09:25:00+01:00achurchnearyou
CATEGORIES:
DESCRIPTION:Traditional Sung Holy Communion Service
GEO:-2.201827;51.093233
LOCATION:West Knoyle: St Mary the Virgin
URL:https://www.achurchnearyou.com/church/9574/service-and-events/events/1
 76441/
END:VEVENT
BEGIN:VEVENT
SUMMARY:Holy Communion
DTSTART;TZID=Europe/London:20260614T092500
DTEND;TZID=Europe/London:20260614T101500
DTSTAMP:20260419T231836Z
UID:1764412026-06-14 09:25:00+01:00achurchnearyou
CATEGORIES:
DESCRIPTION:Traditional Sung Holy Communion Service
GEO:-2.201827;51.093233
LOCATION:West Knoyle: St Mary the Virgin
URL:https://www.achurchnearyou.com/church/9574/service-and-events/events/1
 76441/
END:VEVENT
BEGIN:VEVENT
SUMMARY:Holy Communion
DTSTART;TZID=Europe/London:20260628T092500
DTEND;TZID=Europe/London:20260628T101500
DTSTAMP:20260419T231836Z
UID:1764412026-06-28 09:25:00+01:00achurchnearyou
CATEGORIES:
DESCRIPTION:Traditional Sung Holy Communion Service
GEO:-2.201827;51.093233
LOCATION:West Knoyle: St Mary the Virgin
URL:https://www.achurchnearyou.com/church/9574/service-and-events/events/1
 76441/
END:VEVENT
BEGIN:VEVENT
SUMMARY:Holy Communion
DTSTART;TZID=Europe/London:20260712T092500
DTEND;TZID=Europe/London:20260712T101500
DTSTAMP:20260419T231836Z
UID:1764412026-07-12 09:25:00+01:00achurchnearyou
CATEGORIES:
DESCRIPTION:Traditional Sung Holy Communion Service
GEO:-2.201827;51.093233
LOCATION:West Knoyle: St Mary the Virgin
URL:https://www.achurchnearyou.com/church/9574/service-and-events/events/1
 76441/
END:VEVENT
BEGIN:VEVENT
SUMMARY:Holy Communion
DTSTART;TZID=Europe/London:20260726T092500
DTEND;TZID=Europe/London:20260726T101500
DTSTAMP:20260419T231836Z
UID:1764412026-07-26 09:25:00+01:00achurchnearyou
CATEGORIES:
DESCRIPTION:Traditional Sung Holy Communion Service
GEO:-2.201827;51.093233
LOCATION:West Knoyle: St Mary the Virgin
URL:https://www.achurchnearyou.com/church/9574/service-and-events/events/1
 76441/
END:VEVENT
BEGIN:VEVENT
SUMMARY:Holy Communion
DTSTART;TZID=Europe/London:20260809T092500
DTEND;TZID=Europe/London:20260809T101500
DTSTAMP:20260419T231836Z
UID:1764412026-08-09 09:25:00+01:00achurchnearyou
CATEGORIES:
DESCRIPTION:Traditional Sung Holy Communion Service
GEO:-2.201827;51.093233
LOCATION:West Knoyle: St Mary the Virgin
URL:https://www.achurchnearyou.com/church/9574/service-and-events/events/1
 76441/
END:VEVENT
BEGIN:VEVENT
SUMMARY:Holy Communion
DTSTART;TZID=Europe/London:20260823T092500
DTEND;TZID=Europe/London:20260823T101500
DTSTAMP:20260419T231836Z
UID:1764412026-08-23 09:25:00+01:00achurchnearyou
CATEGORIES:
DESCRIPTION:Traditional Sung Holy Communion Service
GEO:-2.201827;51.093233
LOCATION:West Knoyle: St Mary the Virgin
URL:https://www.achurchnearyou.com/church/9574/service-and-events/events/1
 76441/
END:VEVENT
BEGIN:VEVENT
SUMMARY:Holy Communion
DTSTART;TZID=Europe/London:20260913T092500
DTEND;TZID=Europe/London:20260913T101500
DTSTAMP:20260419T231836Z
UID:1764412026-09-13 09:25:00+01:00achurchnearyou
CATEGORIES:
DESCRIPTION:Traditional Sung Holy Communion Service
GEO:-2.201827;51.093233
LOCATION:West Knoyle: St Mary the Virgin
URL:https://www.achurchnearyou.com/church/9574/service-and-events/events/1
 76441/
END:VEVENT
BEGIN:VEVENT
SUMMARY:Holy Communion
DTSTART;TZID=Europe/London:20260927T092500
DTEND;TZID=Europe/London:20260927T101500
DTSTAMP:20260419T231836Z
UID:1764412026-09-27 09:25:00+01:00achurchnearyou
CATEGORIES:
DESCRIPTION:Traditional Sung Holy Communion Service
GEO:-2.201827;51.093233
LOCATION:West Knoyle: St Mary the Virgin
URL:https://www.achurchnearyou.com/church/9574/service-and-events/events/1
 76441/
END:VEVENT
BEGIN:VEVENT
SUMMARY:Holy Communion
DTSTART;TZID=Europe/London:20261011T092500
DTEND;TZID=Europe/London:20261011T101500
DTSTAMP:20260419T231836Z
UID:1764412026-10-11 09:25:00+01:00achurchnearyou
CATEGORIES:
DESCRIPTION:Traditional Sung Holy Communion Service
GEO:-2.201827;51.093233
LOCATION:West Knoyle: St Mary the Virgin
URL:https://www.achurchnearyou.com/church/9574/service-and-events/events/1
 76441/
END:VEVENT
BEGIN:VEVENT
SUMMARY:Holy Communion
DTSTART;TZID=Europe/London:20261025T092500
DTEND;TZID=Europe/London:20261025T101500
DTSTAMP:20260419T231836Z
UID:1764412026-10-25 09:25:00+00:00achurchnearyou
CATEGORIES:
DESCRIPTION:Traditional Sung Holy Communion Service
GEO:-2.201827;51.093233
LOCATION:West Knoyle: St Mary the Virgin
URL:https://www.achurchnearyou.com/church/9574/service-and-events/events/1
 76441/
END:VEVENT
BEGIN:VEVENT
SUMMARY:Holy Communion
DTSTART;TZID=Europe/London:20261108T092500
DTEND;TZID=Europe/London:20261108T101500
DTSTAMP:20260419T231836Z
UID:1764412026-11-08 09:25:00+00:00achurchnearyou
CATEGORIES:
DESCRIPTION:Traditional Sung Holy Communion Service
GEO:-2.201827;51.093233
LOCATION:West Knoyle: St Mary the Virgin
URL:https://www.achurchnearyou.com/church/9574/service-and-events/events/1
 76441/
END:VEVENT
BEGIN:VEVENT
SUMMARY:Holy Communion
DTSTART;TZID=Europe/London:20261122T092500
DTEND;TZID=Europe/London:20261122T101500
DTSTAMP:20260419T231836Z
UID:1764412026-11-22 09:25:00+00:00achurchnearyou
CATEGORIES:
DESCRIPTION:Traditional Sung Holy Communion Service
GEO:-2.201827;51.093233
LOCATION:West Knoyle: St Mary the Virgin
URL:https://www.achurchnearyou.com/church/9574/service-and-events/events/1
 76441/
END:VEVENT
BEGIN:VEVENT
SUMMARY:Holy Communion
DTSTART;TZID=Europe/London:20261213T092500
DTEND;TZID=Europe/London:20261213T101500
DTSTAMP:20260419T231836Z
UID:1764412026-12-13 09:25:00+00:00achurchnearyou
CATEGORIES:
DESCRIPTION:Traditional Sung Holy Communion Service
GEO:-2.201827;51.093233
LOCATION:West Knoyle: St Mary the Virgin
URL:https://www.achurchnearyou.com/church/9574/service-and-events/events/1
 76441/
END:VEVENT
BEGIN:VEVENT
SUMMARY:Holy Communion
DTSTART;TZID=Europe/London:20261227T092500
DTEND;TZID=Europe/London:20261227T101500
DTSTAMP:20260419T231836Z
UID:1764412026-12-27 09:25:00+00:00achurchnearyou
CATEGORIES:
DESCRIPTION:Traditional Sung Holy Communion Service
GEO:-2.201827;51.093233
LOCATION:West Knoyle: St Mary the Virgin
URL:https://www.achurchnearyou.com/church/9574/service-and-events/events/1
 76441/
END:VEVENT
BEGIN:VEVENT
SUMMARY:Holy Communion
DTSTART;TZID=Europe/London:20270110T092500
DTEND;TZID=Europe/London:20270110T101500
DTSTAMP:20260419T231836Z
UID:1764412027-01-10 09:25:00+00:00achurchnearyou
CATEGORIES:
DESCRIPTION:Traditional Sung Holy Communion Service
GEO:-2.201827;51.093233
LOCATION:West Knoyle: St Mary the Virgin
URL:https://www.achurchnearyou.com/church/9574/service-and-events/events/1
 76441/
END:VEVENT
BEGIN:VEVENT
SUMMARY:Holy Communion
DTSTART;TZID=Europe/London:20270124T092500
DTEND;TZID=Europe/London:20270124T101500
DTSTAMP:20260419T231836Z
UID:1764412027-01-24 09:25:00+00:00achurchnearyou
CATEGORIES:
DESCRIPTION:Traditional Sung Holy Communion Service
GEO:-2.201827;51.093233
LOCATION:West Knoyle: St Mary the Virgin
URL:https://www.achurchnearyou.com/church/9574/service-and-events/events/1
 76441/
END:VEVENT
BEGIN:VEVENT
SUMMARY:Holy Communion
DTSTART;TZID=Europe/London:20270214T092500
DTEND;TZID=Europe/London:20270214T101500
DTSTAMP:20260419T231836Z
UID:1764412027-02-14 09:25:00+00:00achurchnearyou
CATEGORIES:
DESCRIPTION:Traditional Sung Holy Communion Service
GEO:-2.201827;51.093233
LOCATION:West Knoyle: St Mary the Virgin
URL:https://www.achurchnearyou.com/church/9574/service-and-events/events/1
 76441/
END:VEVENT
BEGIN:VEVENT
SUMMARY:Holy Communion
DTSTART;TZID=Europe/London:20270228T092500
DTEND;TZID=Europe/London:20270228T101500
DTSTAMP:20260419T231836Z
UID:1764412027-02-28 09:25:00+00:00achurchnearyou
CATEGORIES:
DESCRIPTION:Traditional Sung Holy Communion Service
GEO:-2.201827;51.093233
LOCATION:West Knoyle: St Mary the Virgin
URL:https://www.achurchnearyou.com/church/9574/service-and-events/events/1
 76441/
END:VEVENT
BEGIN:VEVENT
SUMMARY:Holy Communion
DTSTART;TZID=Europe/London:20270314T092500
DTEND;TZID=Europe/London:20270314T101500
DTSTAMP:20260419T231836Z
UID:1764412027-03-14 09:25:00+00:00achurchnearyou
CATEGORIES:
DESCRIPTION:Traditional Sung Holy Communion Service
GEO:-2.201827;51.093233
LOCATION:West Knoyle: St Mary the Virgin
URL:https://www.achurchnearyou.com/church/9574/service-and-events/events/1
 76441/
END:VEVENT
BEGIN:VEVENT
SUMMARY:Holy Communion
DTSTART;TZID=Europe/London:20270328T092500
DTEND;TZID=Europe/London:20270328T101500
DTSTAMP:20260419T231836Z
UID:1764412027-03-28 09:25:00+01:00achurchnearyou
CATEGORIES:
DESCRIPTION:Traditional Sung Holy Communion Service
GEO:-2.201827;51.093233
LOCATION:West Knoyle: St Mary the Virgin
URL:https://www.achurchnearyou.com/church/9574/service-and-events/events/1
 76441/
END:VEVENT
BEGIN:VEVENT
SUMMARY:Holy Communion
DTSTART;TZID=Europe/London:20270411T092500
DTEND;TZID=Europe/London:20270411T101500
DTSTAMP:20260419T231836Z
UID:1764412027-04-11 09:25:00+01:00achurchnearyou
CATEGORIES:
DESCRIPTION:Traditional Sung Holy Communion Service
GEO:-2.201827;51.093233
LOCATION:West Knoyle: St Mary the Virgin
URL:https://www.achurchnearyou.com/church/9574/service-and-events/events/1
 76441/
END:VEVENT
END:VCALENDAR
