BEGIN:VCALENDAR
VERSION:2.0
PRODID:-//achurchnearyou.com//eventfeed//EN
CALSCALE:GREGORIAN
METHOD:PUBLISH
X-WR-TIMEZONE:UTC
BEGIN:VEVENT
SUMMARY:United Communion Service - All Saints at 10am
DTSTART;TZID=Europe/London:20260412T100000
DTEND;TZID=Europe/London:20260412T110000
DTSTAMP:20260424T003220Z
UID:13206472026-04-12 10:00:00+01:00achurchnearyou
CATEGORIES:
DESCRIPTION:United Holy Communion service at All Saints' Church
GEO:-1.81;51.06254
LOCATION:Harnham: St George's\, All Saints' and Messy Church
URL:https://www.achurchnearyou.com/church/9582/service-and-events/events/1
 320647/
END:VEVENT
BEGIN:VEVENT
SUMMARY:United Communion Service - All Saints at 10am
DTSTART;TZID=Europe/London:20260426T100000
DTEND;TZID=Europe/London:20260426T110000
DTSTAMP:20260424T003220Z
UID:13206472026-04-26 10:00:00+01:00achurchnearyou
CATEGORIES:
DESCRIPTION:United Holy Communion service at All Saints' Church
GEO:-1.81;51.06254
LOCATION:Harnham: St George's\, All Saints' and Messy Church
URL:https://www.achurchnearyou.com/church/9582/service-and-events/events/1
 320647/
END:VEVENT
BEGIN:VEVENT
SUMMARY:United Communion Service - All Saints at 10am
DTSTART;TZID=Europe/London:20260510T100000
DTEND;TZID=Europe/London:20260510T110000
DTSTAMP:20260424T003220Z
UID:13206472026-05-10 10:00:00+01:00achurchnearyou
CATEGORIES:
DESCRIPTION:United Holy Communion service at All Saints' Church
GEO:-1.81;51.06254
LOCATION:Harnham: St George's\, All Saints' and Messy Church
URL:https://www.achurchnearyou.com/church/9582/service-and-events/events/1
 320647/
END:VEVENT
BEGIN:VEVENT
SUMMARY:United Communion Service - All Saints at 10am
DTSTART;TZID=Europe/London:20260524T100000
DTEND;TZID=Europe/London:20260524T110000
DTSTAMP:20260424T003220Z
UID:13206472026-05-24 10:00:00+01:00achurchnearyou
CATEGORIES:
DESCRIPTION:United Holy Communion service at All Saints' Church
GEO:-1.81;51.06254
LOCATION:Harnham: St George's\, All Saints' and Messy Church
URL:https://www.achurchnearyou.com/church/9582/service-and-events/events/1
 320647/
END:VEVENT
END:VCALENDAR
