BEGIN:VCALENDAR
VERSION:2.0
PRODID:-//achurchnearyou.com//eventfeed//EN
CALSCALE:GREGORIAN
METHOD:PUBLISH
X-WR-TIMEZONE:UTC
BEGIN:VEVENT
SUMMARY:Sunday Worship via Zoom
DTSTART;TZID=Europe/London:20260405T110000
DTEND;TZID=Europe/London:20260405T110000
DTSTAMP:20260423T054158Z
UID:6664791775383200.0achurchnearyou
CATEGORIES:
DESCRIPTION:We are holding a service at 11.00am every Sunday via Zoom.  Ev
 eryone is very welcome. If you would like the link to this service please 
 email upperwylyevalleyteam@gmail.com or telephone Revd Trudy Hobson on 019
 85 840081
LOCATION:Online
URL:https://www.achurchnearyou.com/church/9593/service-and-events/events/6
 66479/
END:VEVENT
BEGIN:VEVENT
SUMMARY:Sunday Worship via Zoom
DTSTART;TZID=Europe/London:20260412T110000
DTEND;TZID=Europe/London:20260412T110000
DTSTAMP:20260423T054158Z
UID:6664791775988000.0achurchnearyou
CATEGORIES:
DESCRIPTION:We are holding a service at 11.00am every Sunday via Zoom.  Ev
 eryone is very welcome. If you would like the link to this service please 
 email upperwylyevalleyteam@gmail.com or telephone Revd Trudy Hobson on 019
 85 840081
LOCATION:Online
URL:https://www.achurchnearyou.com/church/9593/service-and-events/events/6
 66479/
END:VEVENT
BEGIN:VEVENT
SUMMARY:BCP Holy Communion
DTSTART;TZID=Europe/London:20260419T083000
DTEND;TZID=Europe/London:20260419T090000
DTSTAMP:20260423T054158Z
UID:7729011776583800.0achurchnearyou
CATEGORIES:
DESCRIPTION:All are welcome to our BCP Holy Communion service. A quiet sai
 d service to start the day offering space for contemplation.
GEO:-2.072264;51.155378
LOCATION:Boyton: Blessed Mary
URL:https://www.achurchnearyou.com/church/9593/service-and-events/events/7
 72901/
END:VEVENT
BEGIN:VEVENT
SUMMARY:Sunday Worship via Zoom
DTSTART;TZID=Europe/London:20260419T110000
DTEND;TZID=Europe/London:20260419T110000
DTSTAMP:20260423T054158Z
UID:6664791776592800.0achurchnearyou
CATEGORIES:
DESCRIPTION:We are holding a service at 11.00am every Sunday via Zoom.  Ev
 eryone is very welcome. If you would like the link to this service please 
 email upperwylyevalleyteam@gmail.com or telephone Revd Trudy Hobson on 019
 85 840081
LOCATION:Online
URL:https://www.achurchnearyou.com/church/9593/service-and-events/events/6
 66479/
END:VEVENT
BEGIN:VEVENT
SUMMARY:Sunday Worship via Zoom
DTSTART;TZID=Europe/London:20260426T110000
DTEND;TZID=Europe/London:20260426T110000
DTSTAMP:20260423T054158Z
UID:6664791777197600.0achurchnearyou
CATEGORIES:
DESCRIPTION:We are holding a service at 11.00am every Sunday via Zoom.  Ev
 eryone is very welcome. If you would like the link to this service please 
 email upperwylyevalleyteam@gmail.com or telephone Revd Trudy Hobson on 019
 85 840081
LOCATION:Online
URL:https://www.achurchnearyou.com/church/9593/service-and-events/events/6
 66479/
END:VEVENT
BEGIN:VEVENT
SUMMARY:Sunday Worship via Zoom
DTSTART;TZID=Europe/London:20260503T110000
DTEND;TZID=Europe/London:20260503T110000
DTSTAMP:20260423T054158Z
UID:6664791777802400.0achurchnearyou
CATEGORIES:
DESCRIPTION:We are holding a service at 11.00am every Sunday via Zoom.  Ev
 eryone is very welcome. If you would like the link to this service please 
 email upperwylyevalleyteam@gmail.com or telephone Revd Trudy Hobson on 019
 85 840081
LOCATION:Online
URL:https://www.achurchnearyou.com/church/9593/service-and-events/events/6
 66479/
END:VEVENT
BEGIN:VEVENT
SUMMARY:Sunday Worship via Zoom
DTSTART;TZID=Europe/London:20260510T110000
DTEND;TZID=Europe/London:20260510T110000
DTSTAMP:20260423T054158Z
UID:6664791778407200.0achurchnearyou
CATEGORIES:
DESCRIPTION:We are holding a service at 11.00am every Sunday via Zoom.  Ev
 eryone is very welcome. If you would like the link to this service please 
 email upperwylyevalleyteam@gmail.com or telephone Revd Trudy Hobson on 019
 85 840081
LOCATION:Online
URL:https://www.achurchnearyou.com/church/9593/service-and-events/events/6
 66479/
END:VEVENT
BEGIN:VEVENT
SUMMARY:BCP Holy Communion
DTSTART;TZID=Europe/London:20260517T083000
DTEND;TZID=Europe/London:20260517T090000
DTSTAMP:20260423T054158Z
UID:7729011779003000.0achurchnearyou
CATEGORIES:
DESCRIPTION:All are welcome to our BCP Holy Communion service. A quiet sai
 d service to start the day offering space for contemplation.
GEO:-2.072264;51.155378
LOCATION:Boyton: Blessed Mary
URL:https://www.achurchnearyou.com/church/9593/service-and-events/events/7
 72901/
END:VEVENT
BEGIN:VEVENT
SUMMARY:Sunday Worship via Zoom
DTSTART;TZID=Europe/London:20260517T110000
DTEND;TZID=Europe/London:20260517T110000
DTSTAMP:20260423T054158Z
UID:6664791779012000.0achurchnearyou
CATEGORIES:
DESCRIPTION:We are holding a service at 11.00am every Sunday via Zoom.  Ev
 eryone is very welcome. If you would like the link to this service please 
 email upperwylyevalleyteam@gmail.com or telephone Revd Trudy Hobson on 019
 85 840081
LOCATION:Online
URL:https://www.achurchnearyou.com/church/9593/service-and-events/events/6
 66479/
END:VEVENT
BEGIN:VEVENT
SUMMARY:Sunday Worship via Zoom
DTSTART;TZID=Europe/London:20260524T110000
DTEND;TZID=Europe/London:20260524T110000
DTSTAMP:20260423T054158Z
UID:6664791779616800.0achurchnearyou
CATEGORIES:
DESCRIPTION:We are holding a service at 11.00am every Sunday via Zoom.  Ev
 eryone is very welcome. If you would like the link to this service please 
 email upperwylyevalleyteam@gmail.com or telephone Revd Trudy Hobson on 019
 85 840081
LOCATION:Online
URL:https://www.achurchnearyou.com/church/9593/service-and-events/events/6
 66479/
END:VEVENT
BEGIN:VEVENT
SUMMARY:Sunday Worship via Zoom
DTSTART;TZID=Europe/London:20260531T110000
DTEND;TZID=Europe/London:20260531T110000
DTSTAMP:20260423T054158Z
UID:6664791780221600.0achurchnearyou
CATEGORIES:
DESCRIPTION:We are holding a service at 11.00am every Sunday via Zoom.  Ev
 eryone is very welcome. If you would like the link to this service please 
 email upperwylyevalleyteam@gmail.com or telephone Revd Trudy Hobson on 019
 85 840081
LOCATION:Online
URL:https://www.achurchnearyou.com/church/9593/service-and-events/events/6
 66479/
END:VEVENT
BEGIN:VEVENT
SUMMARY:Sunday Worship via Zoom
DTSTART;TZID=Europe/London:20260607T110000
DTEND;TZID=Europe/London:20260607T110000
DTSTAMP:20260423T054158Z
UID:6664791780826400.0achurchnearyou
CATEGORIES:
DESCRIPTION:We are holding a service at 11.00am every Sunday via Zoom.  Ev
 eryone is very welcome. If you would like the link to this service please 
 email upperwylyevalleyteam@gmail.com or telephone Revd Trudy Hobson on 019
 85 840081
LOCATION:Online
URL:https://www.achurchnearyou.com/church/9593/service-and-events/events/6
 66479/
END:VEVENT
BEGIN:VEVENT
SUMMARY:Sunday Worship via Zoom
DTSTART;TZID=Europe/London:20260614T110000
DTEND;TZID=Europe/London:20260614T110000
DTSTAMP:20260423T054158Z
UID:6664791781431200.0achurchnearyou
CATEGORIES:
DESCRIPTION:We are holding a service at 11.00am every Sunday via Zoom.  Ev
 eryone is very welcome. If you would like the link to this service please 
 email upperwylyevalleyteam@gmail.com or telephone Revd Trudy Hobson on 019
 85 840081
LOCATION:Online
URL:https://www.achurchnearyou.com/church/9593/service-and-events/events/6
 66479/
END:VEVENT
BEGIN:VEVENT
SUMMARY:BCP Holy Communion
DTSTART;TZID=Europe/London:20260621T083000
DTEND;TZID=Europe/London:20260621T090000
DTSTAMP:20260423T054158Z
UID:7729011782027000.0achurchnearyou
CATEGORIES:
DESCRIPTION:All are welcome to our BCP Holy Communion service. A quiet sai
 d service to start the day offering space for contemplation.
GEO:-2.072264;51.155378
LOCATION:Boyton: Blessed Mary
URL:https://www.achurchnearyou.com/church/9593/service-and-events/events/7
 72901/
END:VEVENT
BEGIN:VEVENT
SUMMARY:Sunday Worship via Zoom
DTSTART;TZID=Europe/London:20260621T110000
DTEND;TZID=Europe/London:20260621T110000
DTSTAMP:20260423T054158Z
UID:6664791782036000.0achurchnearyou
CATEGORIES:
DESCRIPTION:We are holding a service at 11.00am every Sunday via Zoom.  Ev
 eryone is very welcome. If you would like the link to this service please 
 email upperwylyevalleyteam@gmail.com or telephone Revd Trudy Hobson on 019
 85 840081
LOCATION:Online
URL:https://www.achurchnearyou.com/church/9593/service-and-events/events/6
 66479/
END:VEVENT
BEGIN:VEVENT
SUMMARY:Sunday Worship via Zoom
DTSTART;TZID=Europe/London:20260628T110000
DTEND;TZID=Europe/London:20260628T110000
DTSTAMP:20260423T054158Z
UID:6664791782640800.0achurchnearyou
CATEGORIES:
DESCRIPTION:We are holding a service at 11.00am every Sunday via Zoom.  Ev
 eryone is very welcome. If you would like the link to this service please 
 email upperwylyevalleyteam@gmail.com or telephone Revd Trudy Hobson on 019
 85 840081
LOCATION:Online
URL:https://www.achurchnearyou.com/church/9593/service-and-events/events/6
 66479/
END:VEVENT
BEGIN:VEVENT
SUMMARY:Sunday Worship via Zoom
DTSTART;TZID=Europe/London:20260705T110000
DTEND;TZID=Europe/London:20260705T110000
DTSTAMP:20260423T054158Z
UID:6664791783245600.0achurchnearyou
CATEGORIES:
DESCRIPTION:We are holding a service at 11.00am every Sunday via Zoom.  Ev
 eryone is very welcome. If you would like the link to this service please 
 email upperwylyevalleyteam@gmail.com or telephone Revd Trudy Hobson on 019
 85 840081
LOCATION:Online
URL:https://www.achurchnearyou.com/church/9593/service-and-events/events/6
 66479/
END:VEVENT
BEGIN:VEVENT
SUMMARY:Sunday Worship via Zoom
DTSTART;TZID=Europe/London:20260712T110000
DTEND;TZID=Europe/London:20260712T110000
DTSTAMP:20260423T054158Z
UID:6664791783850400.0achurchnearyou
CATEGORIES:
DESCRIPTION:We are holding a service at 11.00am every Sunday via Zoom.  Ev
 eryone is very welcome. If you would like the link to this service please 
 email upperwylyevalleyteam@gmail.com or telephone Revd Trudy Hobson on 019
 85 840081
LOCATION:Online
URL:https://www.achurchnearyou.com/church/9593/service-and-events/events/6
 66479/
END:VEVENT
BEGIN:VEVENT
SUMMARY:BCP Holy Communion
DTSTART;TZID=Europe/London:20260719T083000
DTEND;TZID=Europe/London:20260719T090000
DTSTAMP:20260423T054158Z
UID:7729011784446200.0achurchnearyou
CATEGORIES:
DESCRIPTION:All are welcome to our BCP Holy Communion service. A quiet sai
 d service to start the day offering space for contemplation.
GEO:-2.072264;51.155378
LOCATION:Boyton: Blessed Mary
URL:https://www.achurchnearyou.com/church/9593/service-and-events/events/7
 72901/
END:VEVENT
BEGIN:VEVENT
SUMMARY:Sunday Worship via Zoom
DTSTART;TZID=Europe/London:20260719T110000
DTEND;TZID=Europe/London:20260719T110000
DTSTAMP:20260423T054158Z
UID:6664791784455200.0achurchnearyou
CATEGORIES:
DESCRIPTION:We are holding a service at 11.00am every Sunday via Zoom.  Ev
 eryone is very welcome. If you would like the link to this service please 
 email upperwylyevalleyteam@gmail.com or telephone Revd Trudy Hobson on 019
 85 840081
LOCATION:Online
URL:https://www.achurchnearyou.com/church/9593/service-and-events/events/6
 66479/
END:VEVENT
BEGIN:VEVENT
SUMMARY:Sunday Worship via Zoom
DTSTART;TZID=Europe/London:20260726T110000
DTEND;TZID=Europe/London:20260726T110000
DTSTAMP:20260423T054158Z
UID:6664791785060000.0achurchnearyou
CATEGORIES:
DESCRIPTION:We are holding a service at 11.00am every Sunday via Zoom.  Ev
 eryone is very welcome. If you would like the link to this service please 
 email upperwylyevalleyteam@gmail.com or telephone Revd Trudy Hobson on 019
 85 840081
LOCATION:Online
URL:https://www.achurchnearyou.com/church/9593/service-and-events/events/6
 66479/
END:VEVENT
BEGIN:VEVENT
SUMMARY:Sunday Worship via Zoom
DTSTART;TZID=Europe/London:20260802T110000
DTEND;TZID=Europe/London:20260802T110000
DTSTAMP:20260423T054158Z
UID:6664791785664800.0achurchnearyou
CATEGORIES:
DESCRIPTION:We are holding a service at 11.00am every Sunday via Zoom.  Ev
 eryone is very welcome. If you would like the link to this service please 
 email upperwylyevalleyteam@gmail.com or telephone Revd Trudy Hobson on 019
 85 840081
LOCATION:Online
URL:https://www.achurchnearyou.com/church/9593/service-and-events/events/6
 66479/
END:VEVENT
BEGIN:VEVENT
SUMMARY:Sunday Worship via Zoom
DTSTART;TZID=Europe/London:20260809T110000
DTEND;TZID=Europe/London:20260809T110000
DTSTAMP:20260423T054158Z
UID:6664791786269600.0achurchnearyou
CATEGORIES:
DESCRIPTION:We are holding a service at 11.00am every Sunday via Zoom.  Ev
 eryone is very welcome. If you would like the link to this service please 
 email upperwylyevalleyteam@gmail.com or telephone Revd Trudy Hobson on 019
 85 840081
LOCATION:Online
URL:https://www.achurchnearyou.com/church/9593/service-and-events/events/6
 66479/
END:VEVENT
BEGIN:VEVENT
SUMMARY:BCP Holy Communion
DTSTART;TZID=Europe/London:20260816T083000
DTEND;TZID=Europe/London:20260816T090000
DTSTAMP:20260423T054158Z
UID:7729011786865400.0achurchnearyou
CATEGORIES:
DESCRIPTION:All are welcome to our BCP Holy Communion service. A quiet sai
 d service to start the day offering space for contemplation.
GEO:-2.072264;51.155378
LOCATION:Boyton: Blessed Mary
URL:https://www.achurchnearyou.com/church/9593/service-and-events/events/7
 72901/
END:VEVENT
BEGIN:VEVENT
SUMMARY:Sunday Worship via Zoom
DTSTART;TZID=Europe/London:20260816T110000
DTEND;TZID=Europe/London:20260816T110000
DTSTAMP:20260423T054158Z
UID:6664791786874400.0achurchnearyou
CATEGORIES:
DESCRIPTION:We are holding a service at 11.00am every Sunday via Zoom.  Ev
 eryone is very welcome. If you would like the link to this service please 
 email upperwylyevalleyteam@gmail.com or telephone Revd Trudy Hobson on 019
 85 840081
LOCATION:Online
URL:https://www.achurchnearyou.com/church/9593/service-and-events/events/6
 66479/
END:VEVENT
BEGIN:VEVENT
SUMMARY:Sunday Worship via Zoom
DTSTART;TZID=Europe/London:20260823T110000
DTEND;TZID=Europe/London:20260823T110000
DTSTAMP:20260423T054158Z
UID:6664791787479200.0achurchnearyou
CATEGORIES:
DESCRIPTION:We are holding a service at 11.00am every Sunday via Zoom.  Ev
 eryone is very welcome. If you would like the link to this service please 
 email upperwylyevalleyteam@gmail.com or telephone Revd Trudy Hobson on 019
 85 840081
LOCATION:Online
URL:https://www.achurchnearyou.com/church/9593/service-and-events/events/6
 66479/
END:VEVENT
BEGIN:VEVENT
SUMMARY:Sunday Worship via Zoom
DTSTART;TZID=Europe/London:20260830T110000
DTEND;TZID=Europe/London:20260830T110000
DTSTAMP:20260423T054158Z
UID:6664791788084000.0achurchnearyou
CATEGORIES:
DESCRIPTION:We are holding a service at 11.00am every Sunday via Zoom.  Ev
 eryone is very welcome. If you would like the link to this service please 
 email upperwylyevalleyteam@gmail.com or telephone Revd Trudy Hobson on 019
 85 840081
LOCATION:Online
URL:https://www.achurchnearyou.com/church/9593/service-and-events/events/6
 66479/
END:VEVENT
BEGIN:VEVENT
SUMMARY:Sunday Worship via Zoom
DTSTART;TZID=Europe/London:20260906T110000
DTEND;TZID=Europe/London:20260906T110000
DTSTAMP:20260423T054158Z
UID:6664791788688800.0achurchnearyou
CATEGORIES:
DESCRIPTION:We are holding a service at 11.00am every Sunday via Zoom.  Ev
 eryone is very welcome. If you would like the link to this service please 
 email upperwylyevalleyteam@gmail.com or telephone Revd Trudy Hobson on 019
 85 840081
LOCATION:Online
URL:https://www.achurchnearyou.com/church/9593/service-and-events/events/6
 66479/
END:VEVENT
BEGIN:VEVENT
SUMMARY:Sunday Worship via Zoom
DTSTART;TZID=Europe/London:20260913T110000
DTEND;TZID=Europe/London:20260913T110000
DTSTAMP:20260423T054158Z
UID:6664791789293600.0achurchnearyou
CATEGORIES:
DESCRIPTION:We are holding a service at 11.00am every Sunday via Zoom.  Ev
 eryone is very welcome. If you would like the link to this service please 
 email upperwylyevalleyteam@gmail.com or telephone Revd Trudy Hobson on 019
 85 840081
LOCATION:Online
URL:https://www.achurchnearyou.com/church/9593/service-and-events/events/6
 66479/
END:VEVENT
BEGIN:VEVENT
SUMMARY:BCP Holy Communion
DTSTART;TZID=Europe/London:20260920T083000
DTEND;TZID=Europe/London:20260920T090000
DTSTAMP:20260423T054158Z
UID:7729011789889400.0achurchnearyou
CATEGORIES:
DESCRIPTION:All are welcome to our BCP Holy Communion service. A quiet sai
 d service to start the day offering space for contemplation.
GEO:-2.072264;51.155378
LOCATION:Boyton: Blessed Mary
URL:https://www.achurchnearyou.com/church/9593/service-and-events/events/7
 72901/
END:VEVENT
BEGIN:VEVENT
SUMMARY:Sunday Worship via Zoom
DTSTART;TZID=Europe/London:20260920T110000
DTEND;TZID=Europe/London:20260920T110000
DTSTAMP:20260423T054158Z
UID:6664791789898400.0achurchnearyou
CATEGORIES:
DESCRIPTION:We are holding a service at 11.00am every Sunday via Zoom.  Ev
 eryone is very welcome. If you would like the link to this service please 
 email upperwylyevalleyteam@gmail.com or telephone Revd Trudy Hobson on 019
 85 840081
LOCATION:Online
URL:https://www.achurchnearyou.com/church/9593/service-and-events/events/6
 66479/
END:VEVENT
BEGIN:VEVENT
SUMMARY:Sunday Worship via Zoom
DTSTART;TZID=Europe/London:20260927T110000
DTEND;TZID=Europe/London:20260927T110000
DTSTAMP:20260423T054158Z
UID:6664791790503200.0achurchnearyou
CATEGORIES:
DESCRIPTION:We are holding a service at 11.00am every Sunday via Zoom.  Ev
 eryone is very welcome. If you would like the link to this service please 
 email upperwylyevalleyteam@gmail.com or telephone Revd Trudy Hobson on 019
 85 840081
LOCATION:Online
URL:https://www.achurchnearyou.com/church/9593/service-and-events/events/6
 66479/
END:VEVENT
END:VCALENDAR
