BEGIN:VCALENDAR
VERSION:2.0
PRODID:-//achurchnearyou.com//eventfeed//EN
CALSCALE:GREGORIAN
METHOD:PUBLISH
X-WR-TIMEZONE:UTC
BEGIN:VEVENT
SUMMARY:Act of Remembrance
DTSTART:20251111T104500Z
DTEND:20251111T111500Z
DTSTAMP:20260425T160406Z
UID:8427042025-11-11 10:45:00+00:00achurchnearyou
CATEGORIES:
DESCRIPTION:Act of remembrance by the Market cross/War memorial in Bradens
 toke\, just outside the church.
GEO:-2.000775;51.513287
LOCATION:Bradenstoke: St Mary
URL:https://www.achurchnearyou.com/church/9616/service-and-events/events/8
 42704/
END:VEVENT
END:VCALENDAR
