BEGIN:VCALENDAR
VERSION:2.0
PRODID:-//achurchnearyou.com//eventfeed//EN
CALSCALE:GREGORIAN
METHOD:PUBLISH
X-WR-TIMEZONE:UTC
BEGIN:VEVENT
SUMMARY:Communion Service
DTSTART;TZID=Europe/London:20260426T090000
DTEND;TZID=Europe/London:20260426T100000
DTSTAMP:20260424T160345Z
UID:8728962026-04-26 09:00:00+01:00achurchnearyou
CATEGORIES:
DESCRIPTION:Service of Holy Communion which will usually be held on the se
 cond and fourth Sundays of the month.
GEO:-2.000775;51.513287
LOCATION:Bradenstoke: St Mary
URL:https://www.achurchnearyou.com/church/9616/service-and-events/events/8
 72896/
END:VEVENT
BEGIN:VEVENT
SUMMARY:Communion Service
DTSTART;TZID=Europe/London:20260510T090000
DTEND;TZID=Europe/London:20260510T100000
DTSTAMP:20260424T160345Z
UID:8728962026-05-10 09:00:00+01:00achurchnearyou
CATEGORIES:
DESCRIPTION:Service of Holy Communion which will usually be held on the se
 cond and fourth Sundays of the month.
GEO:-2.000775;51.513287
LOCATION:Bradenstoke: St Mary
URL:https://www.achurchnearyou.com/church/9616/service-and-events/events/8
 72896/
END:VEVENT
BEGIN:VEVENT
SUMMARY:Communion Service
DTSTART;TZID=Europe/London:20260524T090000
DTEND;TZID=Europe/London:20260524T100000
DTSTAMP:20260424T160345Z
UID:8728962026-05-24 09:00:00+01:00achurchnearyou
CATEGORIES:
DESCRIPTION:Service of Holy Communion which will usually be held on the se
 cond and fourth Sundays of the month.
GEO:-2.000775;51.513287
LOCATION:Bradenstoke: St Mary
URL:https://www.achurchnearyou.com/church/9616/service-and-events/events/8
 72896/
END:VEVENT
BEGIN:VEVENT
SUMMARY:Communion Service
DTSTART;TZID=Europe/London:20260712T090000
DTEND;TZID=Europe/London:20260712T100000
DTSTAMP:20260424T160345Z
UID:8728962026-07-12 09:00:00+01:00achurchnearyou
CATEGORIES:
DESCRIPTION:Service of Holy Communion which will usually be held on the se
 cond and fourth Sundays of the month.
GEO:-2.000775;51.513287
LOCATION:Bradenstoke: St Mary
URL:https://www.achurchnearyou.com/church/9616/service-and-events/events/8
 72896/
END:VEVENT
BEGIN:VEVENT
SUMMARY:Communion Service
DTSTART;TZID=Europe/London:20260726T090000
DTEND;TZID=Europe/London:20260726T100000
DTSTAMP:20260424T160345Z
UID:8728962026-07-26 09:00:00+01:00achurchnearyou
CATEGORIES:
DESCRIPTION:Service of Holy Communion which will usually be held on the se
 cond and fourth Sundays of the month.
GEO:-2.000775;51.513287
LOCATION:Bradenstoke: St Mary
URL:https://www.achurchnearyou.com/church/9616/service-and-events/events/8
 72896/
END:VEVENT
BEGIN:VEVENT
SUMMARY:Communion Service
DTSTART;TZID=Europe/London:20260823T090000
DTEND;TZID=Europe/London:20260823T100000
DTSTAMP:20260424T160345Z
UID:8728962026-08-23 09:00:00+01:00achurchnearyou
CATEGORIES:
DESCRIPTION:Service of Holy Communion which will usually be held on the se
 cond and fourth Sundays of the month.
GEO:-2.000775;51.513287
LOCATION:Bradenstoke: St Mary
URL:https://www.achurchnearyou.com/church/9616/service-and-events/events/8
 72896/
END:VEVENT
BEGIN:VEVENT
SUMMARY:Communion Service
DTSTART;TZID=Europe/London:20260614T090000
DTEND;TZID=Europe/London:20260614T100000
DTSTAMP:20260424T160345Z
UID:8728962026-06-14 09:00:00+01:00achurchnearyou
CATEGORIES:
DESCRIPTION:Service of Holy Communion which will usually be held on the se
 cond and fourth Sundays of the month.
GEO:-2.000775;51.513287
LOCATION:Bradenstoke: St Mary
URL:https://www.achurchnearyou.com/church/9616/service-and-events/events/8
 72896/
END:VEVENT
BEGIN:VEVENT
SUMMARY:Communion Service
DTSTART;TZID=Europe/London:20260628T090000
DTEND;TZID=Europe/London:20260628T100000
DTSTAMP:20260424T160345Z
UID:8728962026-06-28 09:00:00+01:00achurchnearyou
CATEGORIES:
DESCRIPTION:Service of Holy Communion which will usually be held on the se
 cond and fourth Sundays of the month.
GEO:-2.000775;51.513287
LOCATION:Bradenstoke: St Mary
URL:https://www.achurchnearyou.com/church/9616/service-and-events/events/8
 72896/
END:VEVENT
END:VCALENDAR
