BEGIN:VCALENDAR
VERSION:2.0
PRODID:-//achurchnearyou.com//eventfeed//EN
CALSCALE:GREGORIAN
METHOD:PUBLISH
X-WR-TIMEZONE:UTC
BEGIN:VEVENT
SUMMARY:Evensong
DTSTART:20260809T150000Z
DTEND:20260809T160000Z
DTSTAMP:20260423T072436Z
UID:13024292026-08-09 15:00:00+00:00achurchnearyou
CATEGORIES:
DESCRIPTION:Choral Evensong at 4pm\, followed by refreshments.
GEO:-2.049803;51.40869
LOCATION:Sandy Lane: St Mary & St Nicholas
URL:https://www.achurchnearyou.com/church/9622/service-and-events/events/1
 302429/
END:VEVENT
END:VCALENDAR
