BEGIN:VCALENDAR
VERSION:2.0
PRODID:-//achurchnearyou.com//eventfeed//EN
CALSCALE:GREGORIAN
METHOD:PUBLISH
X-WR-TIMEZONE:UTC
BEGIN:VEVENT
SUMMARY:Communion Service
DTSTART:20251019T093000Z
DTEND:20251019T103000Z
DTSTAMP:20260421T052330Z
UID:8424262025-10-19 09:30:00+00:00achurchnearyou
CATEGORIES:
DESCRIPTION:Communion service to celebrate harvest
GEO:-1.966943;51.507528
LOCATION:Lyneham: St Michael
URL:https://www.achurchnearyou.com/church/9633/service-and-events/events/8
 42426/
END:VEVENT
END:VCALENDAR
