BEGIN:VCALENDAR
VERSION:2.0
PRODID:-//achurchnearyou.com//eventfeed//EN
CALSCALE:GREGORIAN
METHOD:PUBLISH
X-WR-TIMEZONE:UTC
BEGIN:VEVENT
SUMMARY:Walk of Witness
DTSTART;TZID=Europe/London:20260403T100000
DTEND;TZID=Europe/London:20260403T111500
DTSTAMP:20260420T153049Z
UID:9206151775206800.0achurchnearyou
CATEGORIES:
DESCRIPTION:Good Friday Ecumenical Walk of Witness starting from Lyneham M
 ethodist Church at 10am and finishing at Lyneham Church Hall with Hot Cros
 s buns and coffee\n(St. Michael’s Church Hall will be open from 10.30.a.
 m. for anyone who is unable to take part in the walk)\nAll times to be con
 firmed.
GEO:-1.966943;51.507528
LOCATION:Lyneham: St Michael
URL:https://www.achurchnearyou.com/church/9633/service-and-events/events/9
 20615/
END:VEVENT
BEGIN:VEVENT
SUMMARY:Good Friday Service
DTSTART;TZID=Europe/London:20260403T150000
DTEND;TZID=Europe/London:20260403T160000
DTSTAMP:20260420T153049Z
UID:9207631775224800.0achurchnearyou
CATEGORIES:
DESCRIPTION:Benefice reflection and music for Good Friday.
LOCATION:Tockenham: St Giles
URL:https://www.achurchnearyou.com/church/9633/service-and-events/events/9
 20763/
END:VEVENT
BEGIN:VEVENT
SUMMARY:Communion for Easter Day
DTSTART;TZID=Europe/London:20260405T103000
DTEND;TZID=Europe/London:20260405T113000
DTSTAMP:20260420T153049Z
UID:10522951775381400.0achurchnearyou
CATEGORIES:
DESCRIPTION:Come and celebrate the resurrection - suitable for all the fam
 ily
GEO:-1.966943;51.507528
LOCATION:Lyneham: St Michael
URL:https://www.achurchnearyou.com/church/9633/service-and-events/events/1
 052295/
END:VEVENT
BEGIN:VEVENT
SUMMARY:Communion Service
DTSTART;TZID=Europe/London:20260412T103000
DTEND;TZID=Europe/London:20260412T113000
DTSTAMP:20260420T153049Z
UID:11542891775986200.0achurchnearyou
CATEGORIES:
DESCRIPTION:Join us as we mark the second Sunday of Easter in a Benefice S
 ervice
LOCATION:Bradenstoke: St Mary
URL:https://www.achurchnearyou.com/church/9633/service-and-events/events/1
 154289/
END:VEVENT
BEGIN:VEVENT
SUMMARY:Communion Service
DTSTART;TZID=Europe/London:20260419T103000
DTEND;TZID=Europe/London:20260419T113000
DTSTAMP:20260420T153049Z
UID:10715551776591000.0achurchnearyou
CATEGORIES:
DESCRIPTION:Communion service with hymns. This service will usually be hel
 d on the third Sunday of each month.
GEO:-1.966943;51.507528
LOCATION:Lyneham: St Michael
URL:https://www.achurchnearyou.com/church/9633/service-and-events/events/1
 071555/
END:VEVENT
BEGIN:VEVENT
SUMMARY:APCM - Annual Parish Church Meeting.
DTSTART;TZID=Europe/London:20260419T113000
DTEND;TZID=Europe/London:20260419T123000
DTSTAMP:20260420T153049Z
UID:13102551776594600.0achurchnearyou
CATEGORIES:
DESCRIPTION:The Parish AGM will be held straight after the 10.30am Communi
 on Service at approximately 11.30am.
GEO:-1.966943;51.507528
LOCATION:Lyneham: St Michael
URL:https://www.achurchnearyou.com/church/9633/service-and-events/events/1
 310255/
END:VEVENT
BEGIN:VEVENT
SUMMARY:All-Age Service
DTSTART;TZID=Europe/London:20260503T103000
DTEND;TZID=Europe/London:20260503T111500
DTSTAMP:20260420T153049Z
UID:6010851777800600.0achurchnearyou
CATEGORIES:
DESCRIPTION:A more informal service\, usually involving some form of activ
 ity and some singing\, come prepared to join in.\nThis service is held in 
 the Church Hall\, in the Church car park.\nThis service is usually held on
  the first Sunday of the month except in April.
GEO:-1.966943;51.507528
LOCATION:Lyneham: St Michael
URL:https://www.achurchnearyou.com/church/9633/service-and-events/events/6
 01085/
END:VEVENT
BEGIN:VEVENT
SUMMARY:Cake and Company
DTSTART;TZID=Europe/London:20260505T100000
DTEND;TZID=Europe/London:20260505T113000
DTSTAMP:20260420T153049Z
UID:9586781777971600.0achurchnearyou
CATEGORIES:
DESCRIPTION:Enjoy tea\, coffee\, cake and company in St Michael's Church H
 all\, Lyneham. Usually held on the first Tuesday of the month from 10am to
  11.30am.\nNo Cake and Company in August.
LOCATION:Lyneham Church Hall
URL:https://www.achurchnearyou.com/church/9633/service-and-events/events/9
 58678/
END:VEVENT
BEGIN:VEVENT
SUMMARY:Ascension Day Service
DTSTART;TZID=Europe/London:20260514T073000
DTEND;TZID=Europe/London:20260514T090000
DTSTAMP:20260420T153049Z
UID:9207811778740200.0achurchnearyou
CATEGORIES:
DESCRIPTION:A Communion service to mark Ascension Day.\nThis will be follo
 wed by breakfast. Everyone is welcome - please let us know if you have any
  dietary requirements (we usually serve a variety of pastries\, toppings a
 nd coffee/tea for breakfast).
LOCATION:Hilmarton: St Laurence
URL:https://www.achurchnearyou.com/church/9633/service-and-events/events/9
 20781/
END:VEVENT
BEGIN:VEVENT
SUMMARY:Communion Service
DTSTART;TZID=Europe/London:20260517T103000
DTEND;TZID=Europe/London:20260517T113000
DTSTAMP:20260420T153049Z
UID:10715551779010200.0achurchnearyou
CATEGORIES:
DESCRIPTION:Communion service with hymns. This service will usually be hel
 d on the third Sunday of each month.
GEO:-1.966943;51.507528
LOCATION:Lyneham: St Michael
URL:https://www.achurchnearyou.com/church/9633/service-and-events/events/1
 071555/
END:VEVENT
BEGIN:VEVENT
SUMMARY:Benefice Communion Service
DTSTART;TZID=Europe/London:20260531T103000
DTEND;TZID=Europe/London:20260531T113000
DTSTAMP:20260420T153049Z
UID:11532561780219800.0achurchnearyou
CATEGORIES:
DESCRIPTION:Join us at a special Communion Service to celebrate Trinity Su
 nday
LOCATION:Broad Town: Christ Church
URL:https://www.achurchnearyou.com/church/9633/service-and-events/events/1
 153256/
END:VEVENT
BEGIN:VEVENT
SUMMARY:All-Age Service
DTSTART;TZID=Europe/London:20260607T103000
DTEND;TZID=Europe/London:20260607T111500
DTSTAMP:20260420T153049Z
UID:6010851780824600.0achurchnearyou
CATEGORIES:
DESCRIPTION:A more informal service\, usually involving some form of activ
 ity and some singing\, come prepared to join in.\nThis service is held in 
 the Church Hall\, in the Church car park.\nThis service is usually held on
  the first Sunday of the month except in April.
GEO:-1.966943;51.507528
LOCATION:Lyneham: St Michael
URL:https://www.achurchnearyou.com/church/9633/service-and-events/events/6
 01085/
END:VEVENT
BEGIN:VEVENT
SUMMARY:Communion Service
DTSTART;TZID=Europe/London:20260621T103000
DTEND;TZID=Europe/London:20260621T113000
DTSTAMP:20260420T153049Z
UID:10715551782034200.0achurchnearyou
CATEGORIES:
DESCRIPTION:Communion service with hymns. This service will usually be hel
 d on the third Sunday of each month.
GEO:-1.966943;51.507528
LOCATION:Lyneham: St Michael
URL:https://www.achurchnearyou.com/church/9633/service-and-events/events/1
 071555/
END:VEVENT
BEGIN:VEVENT
SUMMARY:A service of Morning Prayer
DTSTART;TZID=Europe/London:20260705T103000
DTEND;TZID=Europe/London:20260705T113000
DTSTAMP:20260420T153049Z
UID:13197441783243800.0achurchnearyou
CATEGORIES:
DESCRIPTION:A lay-led service which will be  a form of Morning Prayer. \nT
 his is a one-off service and will be held in the church.
GEO:-1.966943;51.507528
LOCATION:Lyneham: St Michael
URL:https://www.achurchnearyou.com/church/9633/service-and-events/events/1
 319744/
END:VEVENT
BEGIN:VEVENT
SUMMARY:Communion Service
DTSTART;TZID=Europe/London:20260719T103000
DTEND;TZID=Europe/London:20260719T113000
DTSTAMP:20260420T153049Z
UID:10715551784453400.0achurchnearyou
CATEGORIES:
DESCRIPTION:Communion service with hymns. This service will usually be hel
 d on the third Sunday of each month.
GEO:-1.966943;51.507528
LOCATION:Lyneham: St Michael
URL:https://www.achurchnearyou.com/church/9633/service-and-events/events/1
 071555/
END:VEVENT
BEGIN:VEVENT
SUMMARY:All-Age Service
DTSTART;TZID=Europe/London:20260802T103000
DTEND;TZID=Europe/London:20260802T111500
DTSTAMP:20260420T153049Z
UID:6010851785663000.0achurchnearyou
CATEGORIES:
DESCRIPTION:A more informal service\, usually involving some form of activ
 ity and some singing\, come prepared to join in.\nThis service is held in 
 the Church Hall\, in the Church car park.\nThis service is usually held on
  the first Sunday of the month except in April.
GEO:-1.966943;51.507528
LOCATION:Lyneham: St Michael
URL:https://www.achurchnearyou.com/church/9633/service-and-events/events/6
 01085/
END:VEVENT
BEGIN:VEVENT
SUMMARY:Patronal Festival
DTSTART;TZID=Europe/London:20260809T110000
DTEND;TZID=Europe/London:20260809T121500
DTSTAMP:20260420T153049Z
UID:9241041786269600.0achurchnearyou
CATEGORIES:
DESCRIPTION:Note the change of time.\nCelebration of Holy Communion to cel
 ebrate St Laurence the patronal saint of Hilmarton Church and a celebratio
 n of the church being a member of Inclusive Church. \nThe service will be 
 followed by a "Bring and Share" lunch. Everyone is invited to come and joi
 n in the bring and share lunch whether they attended the service or not. W
 e anticipate the lunch starting at about 12.10pm.
LOCATION:Hilmarton: St Laurence
URL:https://www.achurchnearyou.com/church/9633/service-and-events/events/9
 24104/
END:VEVENT
BEGIN:VEVENT
SUMMARY:Patronal festival
DTSTART;TZID=Europe/London:20260816T103000
DTEND;TZID=Europe/London:20260816T113000
DTSTAMP:20260420T153049Z
UID:13196151786872600.0achurchnearyou
CATEGORIES:
DESCRIPTION:A service to mark the Feast of the Blessed Virgin Mary.\nPleas
 e note the time of this service.
GEO:-1.966943;51.507528
LOCATION:Bradenstoke: St Mary
URL:https://www.achurchnearyou.com/church/9633/service-and-events/events/1
 319615/
END:VEVENT
BEGIN:VEVENT
SUMMARY:Patronal festival
DTSTART;TZID=Europe/London:20260830T103000
DTEND;TZID=Europe/London:20260830T113000
DTSTAMP:20260420T153049Z
UID:9242991788082200.0achurchnearyou
CATEGORIES:
DESCRIPTION:Benefice Communion to celebrate St Giles\, the patronal saint 
 of the church in Tockenham.
LOCATION:Tockenham: St Giles
URL:https://www.achurchnearyou.com/church/9633/service-and-events/events/9
 24299/
END:VEVENT
END:VCALENDAR
