BEGIN:VCALENDAR
VERSION:2.0
PRODID:-//achurchnearyou.com//eventfeed//EN
CALSCALE:GREGORIAN
METHOD:PUBLISH
X-WR-TIMEZONE:UTC
BEGIN:VEVENT
SUMMARY:Benefice Holy Communion
DTSTART:20260412T093000Z
DTEND:20260412T103000Z
DTSTAMP:20260422T155233Z
UID:13068102026-04-12 09:30:00+00:00achurchnearyou
CATEGORIES:
DESCRIPTION:A service of Holy Communion for the benefice\, conducted by Ar
 chdeacon of Wilts\, the Ven. Louise Ellis. This will include licensing of 
 Local Worship Leaders.
GEO:-2.249193;51.350718
LOCATION:Bradford-on-Avon: Christ Church
URL:https://www.achurchnearyou.com/church/9638/service-and-events/events/1
 306810/
END:VEVENT
END:VCALENDAR
