BEGIN:VCALENDAR
VERSION:2.0
PRODID:-//achurchnearyou.com//eventfeed//EN
CALSCALE:GREGORIAN
METHOD:PUBLISH
X-WR-TIMEZONE:UTC
BEGIN:VEVENT
SUMMARY:Candlelit Lessons and Carols Service
DTSTART:20251222T183000Z
DTEND:20251222T193000Z
DTSTAMP:20260425T210904Z
UID:12266012025-12-22 18:30:00+00:00achurchnearyou
CATEGORIES:
DESCRIPTION:Service of lessons and carols with readings\, carols\, choir\,
  prayers and a talk.\n\nWine\, soft drinks and savouries will be served af
 ter the service.
GEO:-2.119578;51.320829
LOCATION:St Leonard's\, Keevil
URL:https://www.achurchnearyou.com/church/9647/service-and-events/events/1
 226601/
END:VEVENT
END:VCALENDAR
