BEGIN:VCALENDAR
VERSION:2.0
PRODID:-//achurchnearyou.com//eventfeed//EN
CALSCALE:GREGORIAN
METHOD:PUBLISH
X-WR-TIMEZONE:UTC
BEGIN:VEVENT
SUMMARY:Sunday Worship with Baptism
DTSTART:20260201T110000Z
DTEND:20260201T120000Z
DTSTAMP:20260425T164815Z
UID:12747952026-02-01 11:00:00+00:00achurchnearyou
CATEGORIES:
DESCRIPTION:Service of Morning Prayer with a Baptism\, readings\, hymns\, 
 prayers and a sermon.\nRefreshments will be served after the service. Do p
 lease stay and join us.
GEO:-2.119578;51.320829
LOCATION:St Leonard's\, Keevil
URL:https://www.achurchnearyou.com/church/9647/service-and-events/events/1
 274795/
END:VEVENT
END:VCALENDAR
