BEGIN:VCALENDAR
VERSION:2.0
PRODID:-//achurchnearyou.com//eventfeed//EN
CALSCALE:GREGORIAN
METHOD:PUBLISH
X-WR-TIMEZONE:UTC
BEGIN:VEVENT
SUMMARY:Compline
DTSTART:20250414T183000Z
DTEND:20250414T193000Z
DTSTAMP:20260425T001549Z
UID:11681742025-04-14 18:30:00+00:00achurchnearyou
CATEGORIES:
DESCRIPTION:Night Prayer
GEO:-1.699361;51.424142
LOCATION:Mildenhall: St John the Baptist
URL:https://www.achurchnearyou.com/church/9707/service-and-events/events/1
 168174/
END:VEVENT
END:VCALENDAR
