BEGIN:VCALENDAR
VERSION:2.0
PRODID:-//achurchnearyou.com//eventfeed//EN
CALSCALE:GREGORIAN
METHOD:PUBLISH
X-WR-TIMEZONE:UTC
BEGIN:VEVENT
SUMMARY:Evensong (BCP)
DTSTART;TZID=Europe/London:20260503T183000
DTEND;TZID=Europe/London:20260503T193000
DTSTAMP:20260420T161737Z
UID:8496812026-05-03 18:30:00+01:00achurchnearyou
CATEGORIES:
DESCRIPTION:An evening Service using the Book of Common Prayer
GEO:-2.525482;50.792372
LOCATION:Sydling: St Nicholas Church
URL:https://www.achurchnearyou.com/church/9735/service-and-events/events/8
 49681/
END:VEVENT
BEGIN:VEVENT
SUMMARY:Evensong (BCP)
DTSTART;TZID=Europe/London:20260607T183000
DTEND;TZID=Europe/London:20260607T193000
DTSTAMP:20260420T161737Z
UID:8496812026-06-07 18:30:00+01:00achurchnearyou
CATEGORIES:
DESCRIPTION:An evening Service using the Book of Common Prayer
GEO:-2.525482;50.792372
LOCATION:Sydling: St Nicholas Church
URL:https://www.achurchnearyou.com/church/9735/service-and-events/events/8
 49681/
END:VEVENT
BEGIN:VEVENT
SUMMARY:Evensong (BCP)
DTSTART;TZID=Europe/London:20260705T183000
DTEND;TZID=Europe/London:20260705T193000
DTSTAMP:20260420T161737Z
UID:8496812026-07-05 18:30:00+01:00achurchnearyou
CATEGORIES:
DESCRIPTION:An evening Service using the Book of Common Prayer
GEO:-2.525482;50.792372
LOCATION:Sydling: St Nicholas Church
URL:https://www.achurchnearyou.com/church/9735/service-and-events/events/8
 49681/
END:VEVENT
BEGIN:VEVENT
SUMMARY:Evensong (BCP)
DTSTART;TZID=Europe/London:20260802T183000
DTEND;TZID=Europe/London:20260802T193000
DTSTAMP:20260420T161737Z
UID:8496812026-08-02 18:30:00+01:00achurchnearyou
CATEGORIES:
DESCRIPTION:An evening Service using the Book of Common Prayer
GEO:-2.525482;50.792372
LOCATION:Sydling: St Nicholas Church
URL:https://www.achurchnearyou.com/church/9735/service-and-events/events/8
 49681/
END:VEVENT
BEGIN:VEVENT
SUMMARY:Evensong (BCP)
DTSTART;TZID=Europe/London:20260906T183000
DTEND;TZID=Europe/London:20260906T193000
DTSTAMP:20260420T161737Z
UID:8496812026-09-06 18:30:00+01:00achurchnearyou
CATEGORIES:
DESCRIPTION:An evening Service using the Book of Common Prayer
GEO:-2.525482;50.792372
LOCATION:Sydling: St Nicholas Church
URL:https://www.achurchnearyou.com/church/9735/service-and-events/events/8
 49681/
END:VEVENT
BEGIN:VEVENT
SUMMARY:Evensong (BCP)
DTSTART;TZID=Europe/London:20261004T183000
DTEND;TZID=Europe/London:20261004T193000
DTSTAMP:20260420T161737Z
UID:8496812026-10-04 18:30:00+01:00achurchnearyou
CATEGORIES:
DESCRIPTION:An evening Service using the Book of Common Prayer
GEO:-2.525482;50.792372
LOCATION:Sydling: St Nicholas Church
URL:https://www.achurchnearyou.com/church/9735/service-and-events/events/8
 49681/
END:VEVENT
BEGIN:VEVENT
SUMMARY:Evensong (BCP)
DTSTART;TZID=Europe/London:20261101T183000
DTEND;TZID=Europe/London:20261101T193000
DTSTAMP:20260420T161737Z
UID:8496812026-11-01 18:30:00+00:00achurchnearyou
CATEGORIES:
DESCRIPTION:An evening Service using the Book of Common Prayer
GEO:-2.525482;50.792372
LOCATION:Sydling: St Nicholas Church
URL:https://www.achurchnearyou.com/church/9735/service-and-events/events/8
 49681/
END:VEVENT
BEGIN:VEVENT
SUMMARY:Evensong (BCP)
DTSTART;TZID=Europe/London:20261206T183000
DTEND;TZID=Europe/London:20261206T193000
DTSTAMP:20260420T161737Z
UID:8496812026-12-06 18:30:00+00:00achurchnearyou
CATEGORIES:
DESCRIPTION:An evening Service using the Book of Common Prayer
GEO:-2.525482;50.792372
LOCATION:Sydling: St Nicholas Church
URL:https://www.achurchnearyou.com/church/9735/service-and-events/events/8
 49681/
END:VEVENT
BEGIN:VEVENT
SUMMARY:Evensong (BCP)
DTSTART;TZID=Europe/London:20270103T183000
DTEND;TZID=Europe/London:20270103T193000
DTSTAMP:20260420T161737Z
UID:8496812027-01-03 18:30:00+00:00achurchnearyou
CATEGORIES:
DESCRIPTION:An evening Service using the Book of Common Prayer
GEO:-2.525482;50.792372
LOCATION:Sydling: St Nicholas Church
URL:https://www.achurchnearyou.com/church/9735/service-and-events/events/8
 49681/
END:VEVENT
BEGIN:VEVENT
SUMMARY:Evensong (BCP)
DTSTART;TZID=Europe/London:20270207T183000
DTEND;TZID=Europe/London:20270207T193000
DTSTAMP:20260420T161737Z
UID:8496812027-02-07 18:30:00+00:00achurchnearyou
CATEGORIES:
DESCRIPTION:An evening Service using the Book of Common Prayer
GEO:-2.525482;50.792372
LOCATION:Sydling: St Nicholas Church
URL:https://www.achurchnearyou.com/church/9735/service-and-events/events/8
 49681/
END:VEVENT
BEGIN:VEVENT
SUMMARY:Evensong (BCP)
DTSTART;TZID=Europe/London:20270307T183000
DTEND;TZID=Europe/London:20270307T193000
DTSTAMP:20260420T161737Z
UID:8496812027-03-07 18:30:00+00:00achurchnearyou
CATEGORIES:
DESCRIPTION:An evening Service using the Book of Common Prayer
GEO:-2.525482;50.792372
LOCATION:Sydling: St Nicholas Church
URL:https://www.achurchnearyou.com/church/9735/service-and-events/events/8
 49681/
END:VEVENT
BEGIN:VEVENT
SUMMARY:Evensong (BCP)
DTSTART;TZID=Europe/London:20270404T183000
DTEND;TZID=Europe/London:20270404T193000
DTSTAMP:20260420T161737Z
UID:8496812027-04-04 18:30:00+01:00achurchnearyou
CATEGORIES:
DESCRIPTION:An evening Service using the Book of Common Prayer
GEO:-2.525482;50.792372
LOCATION:Sydling: St Nicholas Church
URL:https://www.achurchnearyou.com/church/9735/service-and-events/events/8
 49681/
END:VEVENT
END:VCALENDAR
