BEGIN:VCALENDAR
VERSION:2.0
PRODID:-//achurchnearyou.com//eventfeed//EN
CALSCALE:GREGORIAN
METHOD:PUBLISH
X-WR-TIMEZONE:UTC
BEGIN:VEVENT
SUMMARY:LENT LUNCHES @ MARTINSTOWN VILLAGE HALL
DTSTART:20260218T000000Z
DTEND:20260328T010000Z
DTSTAMP:20260420T055157Z
UID:12910712026-02-18 00:00:00+00:00achurchnearyou
CATEGORIES:
DESCRIPTION:Friday lunch of delicious home made soup and rolls. All procee
 ds will go to the Weymouth Food Bank. No need to book\, just turn up!
GEO:-2.50042;50.699611
LOCATION:St Martin Martinstown
URL:https://www.achurchnearyou.com/church/9769/service-and-events/events/1
 291071/
END:VEVENT
END:VCALENDAR
