BEGIN:VCALENDAR
VERSION:2.0
PRODID:-//achurchnearyou.com//eventfeed//EN
CALSCALE:GREGORIAN
METHOD:PUBLISH
X-WR-TIMEZONE:UTC
BEGIN:VEVENT
SUMMARY:Easter Eucharist
DTSTART:20250420T083000Z
DTEND:20250420T093000Z
DTSTAMP:20260421T210010Z
UID:11582872025-04-20 08:30:00+00:00achurchnearyou
CATEGORIES:
DESCRIPTION:Easter Service
GEO:-2.66743;50.730932
LOCATION:Askerswell: St Michael & All Angels
URL:https://www.achurchnearyou.com/church/9774/service-and-events/events/1
 158287/
END:VEVENT
END:VCALENDAR
