BEGIN:VCALENDAR
VERSION:2.0
PRODID:-//achurchnearyou.com//eventfeed//EN
CALSCALE:GREGORIAN
METHOD:PUBLISH
X-WR-TIMEZONE:UTC
BEGIN:VEVENT
SUMMARY:Palm Sunday Tea Party
DTSTART:20260329T140000Z
DTEND:20260329T150000Z
DTSTAMP:20260422T194200Z
UID:12962172026-03-29 14:00:00+00:00achurchnearyou
CATEGORIES:
DESCRIPTION:Come along and celebrate Palm Sunday with us\, all welcome
GEO:-2.877281;50.792803
LOCATION:Marshwood: St Mary
URL:https://www.achurchnearyou.com/church/9795/service-and-events/events/1
 296217/
END:VEVENT
END:VCALENDAR
