BEGIN:VCALENDAR
VERSION:2.0
PRODID:-//achurchnearyou.com//eventfeed//EN
CALSCALE:GREGORIAN
METHOD:PUBLISH
X-WR-TIMEZONE:UTC
BEGIN:VEVENT
SUMMARY:Solemn Mass for Patronal Festival
DTSTART:20250427T170000Z
DTEND:20250427T181500Z
DTSTAMP:20260425T144701Z
UID:11703052025-04-27 17:00:00+00:00achurchnearyou
CATEGORIES:
DESCRIPTION:Sung Mass for St George's Day
GEO:0.050097;51.402311
LOCATION:St. George Bickley
URL:https://www.achurchnearyou.com/church/9816/service-and-events/events/1
 170305/
END:VEVENT
END:VCALENDAR
