BEGIN:VCALENDAR
VERSION:2.0
PRODID:-//achurchnearyou.com//eventfeed//EN
CALSCALE:GREGORIAN
METHOD:PUBLISH
X-WR-TIMEZONE:UTC
BEGIN:VEVENT
SUMMARY:Celebration Easter Communion
DTSTART:20260405T093000Z
DTEND:20260405T103000Z
DTSTAMP:20260424T112024Z
UID:10322112026-04-05 09:30:00+00:00achurchnearyou
CATEGORIES:
DESCRIPTION:Celebrate the resurrection of Jesus\, our Saviour. \n\nIf you 
 are unable come to the church building\, then Join in via our YouTube chan
 nel by clicking on "Join Online" about 5 minutes before service is due to 
 start.
LOCATION:Biggin Hill: St Mark's
URL:https://www.achurchnearyou.com/church/9817/service-and-events/events/1
 032211/
END:VEVENT
END:VCALENDAR
