BEGIN:VCALENDAR
VERSION:2.0
PRODID:-//achurchnearyou.com//eventfeed//EN
CALSCALE:GREGORIAN
METHOD:PUBLISH
X-WR-TIMEZONE:UTC
BEGIN:VEVENT
SUMMARY:Reflections on the Cross
DTSTART:20260403T130000Z
DTEND:20260403T140000Z
DTSTAMP:20260424T112058Z
UID:7240042026-04-03 13:00:00+00:00achurchnearyou
CATEGORIES:
DESCRIPTION:Time to consider Jesus' sacrificial death on the cross.\n\nA m
 ix of bible readings\, reflections and hymns
GEO:0.034997;51.311817
LOCATION:Biggin Hill: St Mark's
URL:https://www.achurchnearyou.com/church/9817/service-and-events/events/7
 24004/
END:VEVENT
END:VCALENDAR
