BEGIN:VCALENDAR
VERSION:2.0
PRODID:-//achurchnearyou.com//eventfeed//EN
CALSCALE:GREGORIAN
METHOD:PUBLISH
X-WR-TIMEZONE:UTC
BEGIN:VEVENT
SUMMARY:Good Friday 3 hours at the Cross
DTSTART:20260403T110000Z
DTEND:20260403T140000Z
DTSTAMP:20260419T194454Z
UID:13185952026-04-03 11:00:00+00:00achurchnearyou
CATEGORIES:
DESCRIPTION:GOOD FRIDAY\n12 noon Stations of the Cross\n1pm Meditation\n2p
 m Choir Hour with readings and music\nCome for any or all of these hours
GEO:0.020722;51.420195
LOCATION:Bromley: St Andrew
URL:https://www.achurchnearyou.com/church/9819/service-and-events/events/1
 318595/
END:VEVENT
END:VCALENDAR
