BEGIN:VCALENDAR
VERSION:2.0
PRODID:-//achurchnearyou.com//eventfeed//EN
CALSCALE:GREGORIAN
METHOD:PUBLISH
X-WR-TIMEZONE:UTC
BEGIN:VEVENT
SUMMARY:Midnight service of Holy Communion
DTSTART:20251224T233000Z
DTEND:20251225T004000Z
DTSTAMP:20260419T231957Z
UID:1502432025-12-24 23:30:00+00:00achurchnearyou
CATEGORIES:
DESCRIPTION:Come and see Christmas morning in with us at our Midnight serv
 ice of Holy Communion!\nAdvance booking recommended - please follow the li
 nk to visit our EventBrite page:\nhttps://saintjohnsbromley.eventbrite.co.
 uk
GEO:0.023129;51.408913
LOCATION:St John's Bromley
URL:https://saintjohnsbromley.eventbrite.co.uk
END:VEVENT
END:VCALENDAR
