BEGIN:VCALENDAR
VERSION:2.0
PRODID:-//achurchnearyou.com//eventfeed//EN
CALSCALE:GREGORIAN
METHOD:PUBLISH
X-WR-TIMEZONE:UTC
BEGIN:VEVENT
SUMMARY:Maundy Thursday service
DTSTART;TZID=Europe/London:20260402T193000
DTEND;TZID=Europe/London:20260402T201500
DTSTAMP:20260422T090928Z
UID:12999751775154600.0achurchnearyou
CATEGORIES:
DESCRIPTION:A service of Compline and Prayer and Anointing for Healing
GEO:0.153894;51.461815
LOCATION:St. Martin's\, Barnehurst
URL:https://www.achurchnearyou.com/church/9832/service-and-events/events/1
 299975/
END:VEVENT
BEGIN:VEVENT
SUMMARY:Stations of the Cross
DTSTART;TZID=Europe/London:20260403T120000
DTEND;TZID=Europe/London:20260403T130000
DTSTAMP:20260422T090928Z
UID:9154671775214000.0achurchnearyou
CATEGORIES:
DESCRIPTION:For more information please contact Rev. Gareth Bowen.
GEO:0.153894;51.461815
LOCATION:St. Martin's\, Barnehurst
URL:https://www.achurchnearyou.com/church/9832/service-and-events/events/9
 15467/
END:VEVENT
BEGIN:VEVENT
SUMMARY:Contemplation with Poetry and Prose
DTSTART;TZID=Europe/London:20260403T130000
DTEND;TZID=Europe/London:20260403T140000
DTSTAMP:20260422T090928Z
UID:9154681775217600.0achurchnearyou
CATEGORIES:
DESCRIPTION:For more information please contact Rev. Gareth Bowen.
GEO:0.153894;51.461815
LOCATION:St. Martin's\, Barnehurst
URL:https://www.achurchnearyou.com/church/9832/service-and-events/events/9
 15468/
END:VEVENT
BEGIN:VEVENT
SUMMARY:Good Friday Worship led by the Choir
DTSTART;TZID=Europe/London:20260403T140000
DTEND;TZID=Europe/London:20260403T150000
DTSTAMP:20260422T090928Z
UID:9154691775221200.0achurchnearyou
CATEGORIES:
DESCRIPTION:For more information please contact Rev. Gareth Bowen.
GEO:0.153894;51.461815
LOCATION:St. Martin's\, Barnehurst
URL:https://www.achurchnearyou.com/church/9832/service-and-events/events/9
 15469/
END:VEVENT
BEGIN:VEVENT
SUMMARY:Easter Sunday - Low Mass
DTSTART;TZID=Europe/London:20260405T090000
DTEND;TZID=Europe/London:20260405T093000
DTSTAMP:20260422T090928Z
UID:12999821775376000.0achurchnearyou
CATEGORIES:
DESCRIPTION:A special service for Easter Sunday
GEO:0.153894;51.461815
LOCATION:St. Martin's\, Barnehurst
URL:https://www.achurchnearyou.com/church/9832/service-and-events/events/1
 299982/
END:VEVENT
BEGIN:VEVENT
SUMMARY:Easter Sunday - Family Service
DTSTART;TZID=Europe/London:20260405T103000
DTEND;TZID=Europe/London:20260405T114500
DTSTAMP:20260422T090928Z
UID:12999901775381400.0achurchnearyou
CATEGORIES:
DESCRIPTION:A special Easter Sunday Mass with an Easter Egg Hunt
GEO:0.153894;51.461815
LOCATION:St. Martin's\, Barnehurst
URL:https://www.achurchnearyou.com/church/9832/service-and-events/events/1
 299990/
END:VEVENT
BEGIN:VEVENT
SUMMARY:Family Worship
DTSTART;TZID=Europe/London:20260405T103000
DTEND;TZID=Europe/London:20260405T114500
DTSTAMP:20260422T090928Z
UID:595821775381400.0achurchnearyou
CATEGORIES:
DESCRIPTION:This is our main Service incorporating Holy Communion and usin
 g contemporary language.\n\nFollowed by tea and coffee.
GEO:0.153894;51.461815
LOCATION:St. Martin's\, Barnehurst
URL:https://www.achurchnearyou.com/church/9832/service-and-events/events/5
 9582/
END:VEVENT
BEGIN:VEVENT
SUMMARY:Coffee Shop
DTSTART;TZID=Europe/London:20260407T100000
DTEND;TZID=Europe/London:20260407T120000
DTSTAMP:20260422T090928Z
UID:774291775552400.0achurchnearyou
CATEGORIES:
DESCRIPTION:Pop in for a chat\, a good laugh and a cuppa!\nIn the Maxim Ro
 om to the rear of the church.\nAccess via the door in the South (right han
 d) side of the church.
GEO:0.153894;51.461815
LOCATION:St. Martin's\, Barnehurst
URL:https://www.achurchnearyou.com/church/9832/service-and-events/events/7
 7429/
END:VEVENT
BEGIN:VEVENT
SUMMARY:Family Service
DTSTART;TZID=Europe/London:20260412T103000
DTEND;TZID=Europe/London:20260412T111500
DTSTAMP:20260422T090928Z
UID:9522581775986200.0achurchnearyou
CATEGORIES:
DESCRIPTION:A service of the Word for all the family.
GEO:0.153894;51.461815
LOCATION:St. Martin's\, Barnehurst
URL:https://www.achurchnearyou.com/church/9832/service-and-events/events/9
 52258/
END:VEVENT
BEGIN:VEVENT
SUMMARY:Coffee Shop
DTSTART;TZID=Europe/London:20260414T100000
DTEND;TZID=Europe/London:20260414T120000
DTSTAMP:20260422T090928Z
UID:774291776157200.0achurchnearyou
CATEGORIES:
DESCRIPTION:Pop in for a chat\, a good laugh and a cuppa!\nIn the Maxim Ro
 om to the rear of the church.\nAccess via the door in the South (right han
 d) side of the church.
GEO:0.153894;51.461815
LOCATION:St. Martin's\, Barnehurst
URL:https://www.achurchnearyou.com/church/9832/service-and-events/events/7
 7429/
END:VEVENT
BEGIN:VEVENT
SUMMARY:Family Worship
DTSTART;TZID=Europe/London:20260419T103000
DTEND;TZID=Europe/London:20260419T114500
DTSTAMP:20260422T090928Z
UID:595821776591000.0achurchnearyou
CATEGORIES:
DESCRIPTION:This is our main Service incorporating Holy Communion and usin
 g contemporary language.\n\nFollowed by tea and coffee.
GEO:0.153894;51.461815
LOCATION:St. Martin's\, Barnehurst
URL:https://www.achurchnearyou.com/church/9832/service-and-events/events/5
 9582/
END:VEVENT
BEGIN:VEVENT
SUMMARY:Coffee Shop
DTSTART;TZID=Europe/London:20260421T100000
DTEND;TZID=Europe/London:20260421T120000
DTSTAMP:20260422T090928Z
UID:774291776762000.0achurchnearyou
CATEGORIES:
DESCRIPTION:Pop in for a chat\, a good laugh and a cuppa!\nIn the Maxim Ro
 om to the rear of the church.\nAccess via the door in the South (right han
 d) side of the church.
GEO:0.153894;51.461815
LOCATION:St. Martin's\, Barnehurst
URL:https://www.achurchnearyou.com/church/9832/service-and-events/events/7
 7429/
END:VEVENT
BEGIN:VEVENT
SUMMARY:Family Worship
DTSTART;TZID=Europe/London:20260426T103000
DTEND;TZID=Europe/London:20260426T114500
DTSTAMP:20260422T090928Z
UID:595821777195800.0achurchnearyou
CATEGORIES:
DESCRIPTION:This is our main Service incorporating Holy Communion and usin
 g contemporary language.\n\nFollowed by tea and coffee.
GEO:0.153894;51.461815
LOCATION:St. Martin's\, Barnehurst
URL:https://www.achurchnearyou.com/church/9832/service-and-events/events/5
 9582/
END:VEVENT
BEGIN:VEVENT
SUMMARY:Coffee Shop
DTSTART;TZID=Europe/London:20260428T100000
DTEND;TZID=Europe/London:20260428T120000
DTSTAMP:20260422T090928Z
UID:774291777366800.0achurchnearyou
CATEGORIES:
DESCRIPTION:Pop in for a chat\, a good laugh and a cuppa!\nIn the Maxim Ro
 om to the rear of the church.\nAccess via the door in the South (right han
 d) side of the church.
GEO:0.153894;51.461815
LOCATION:St. Martin's\, Barnehurst
URL:https://www.achurchnearyou.com/church/9832/service-and-events/events/7
 7429/
END:VEVENT
BEGIN:VEVENT
SUMMARY:Family Worship
DTSTART;TZID=Europe/London:20260503T103000
DTEND;TZID=Europe/London:20260503T114500
DTSTAMP:20260422T090928Z
UID:595821777800600.0achurchnearyou
CATEGORIES:
DESCRIPTION:This is our main Service incorporating Holy Communion and usin
 g contemporary language.\n\nFollowed by tea and coffee.
GEO:0.153894;51.461815
LOCATION:St. Martin's\, Barnehurst
URL:https://www.achurchnearyou.com/church/9832/service-and-events/events/5
 9582/
END:VEVENT
BEGIN:VEVENT
SUMMARY:Coffee Shop
DTSTART;TZID=Europe/London:20260505T100000
DTEND;TZID=Europe/London:20260505T120000
DTSTAMP:20260422T090928Z
UID:774291777971600.0achurchnearyou
CATEGORIES:
DESCRIPTION:Pop in for a chat\, a good laugh and a cuppa!\nIn the Maxim Ro
 om to the rear of the church.\nAccess via the door in the South (right han
 d) side of the church.
GEO:0.153894;51.461815
LOCATION:St. Martin's\, Barnehurst
URL:https://www.achurchnearyou.com/church/9832/service-and-events/events/7
 7429/
END:VEVENT
BEGIN:VEVENT
SUMMARY:Family Service
DTSTART;TZID=Europe/London:20260510T103000
DTEND;TZID=Europe/London:20260510T111500
DTSTAMP:20260422T090928Z
UID:9522581778405400.0achurchnearyou
CATEGORIES:
DESCRIPTION:A service of the Word for all the family.
GEO:0.153894;51.461815
LOCATION:St. Martin's\, Barnehurst
URL:https://www.achurchnearyou.com/church/9832/service-and-events/events/9
 52258/
END:VEVENT
BEGIN:VEVENT
SUMMARY:Coffee Shop
DTSTART;TZID=Europe/London:20260512T100000
DTEND;TZID=Europe/London:20260512T120000
DTSTAMP:20260422T090928Z
UID:774291778576400.0achurchnearyou
CATEGORIES:
DESCRIPTION:Pop in for a chat\, a good laugh and a cuppa!\nIn the Maxim Ro
 om to the rear of the church.\nAccess via the door in the South (right han
 d) side of the church.
GEO:0.153894;51.461815
LOCATION:St. Martin's\, Barnehurst
URL:https://www.achurchnearyou.com/church/9832/service-and-events/events/7
 7429/
END:VEVENT
BEGIN:VEVENT
SUMMARY:Family Worship
DTSTART;TZID=Europe/London:20260517T103000
DTEND;TZID=Europe/London:20260517T114500
DTSTAMP:20260422T090928Z
UID:595821779010200.0achurchnearyou
CATEGORIES:
DESCRIPTION:This is our main Service incorporating Holy Communion and usin
 g contemporary language.\n\nFollowed by tea and coffee.
GEO:0.153894;51.461815
LOCATION:St. Martin's\, Barnehurst
URL:https://www.achurchnearyou.com/church/9832/service-and-events/events/5
 9582/
END:VEVENT
BEGIN:VEVENT
SUMMARY:Coffee Shop
DTSTART;TZID=Europe/London:20260519T100000
DTEND;TZID=Europe/London:20260519T120000
DTSTAMP:20260422T090928Z
UID:774291779181200.0achurchnearyou
CATEGORIES:
DESCRIPTION:Pop in for a chat\, a good laugh and a cuppa!\nIn the Maxim Ro
 om to the rear of the church.\nAccess via the door in the South (right han
 d) side of the church.
GEO:0.153894;51.461815
LOCATION:St. Martin's\, Barnehurst
URL:https://www.achurchnearyou.com/church/9832/service-and-events/events/7
 7429/
END:VEVENT
BEGIN:VEVENT
SUMMARY:Family Worship
DTSTART;TZID=Europe/London:20260524T103000
DTEND;TZID=Europe/London:20260524T114500
DTSTAMP:20260422T090928Z
UID:595821779615000.0achurchnearyou
CATEGORIES:
DESCRIPTION:This is our main Service incorporating Holy Communion and usin
 g contemporary language.\n\nFollowed by tea and coffee.
GEO:0.153894;51.461815
LOCATION:St. Martin's\, Barnehurst
URL:https://www.achurchnearyou.com/church/9832/service-and-events/events/5
 9582/
END:VEVENT
BEGIN:VEVENT
SUMMARY:Coffee Shop
DTSTART;TZID=Europe/London:20260526T100000
DTEND;TZID=Europe/London:20260526T120000
DTSTAMP:20260422T090928Z
UID:774291779786000.0achurchnearyou
CATEGORIES:
DESCRIPTION:Pop in for a chat\, a good laugh and a cuppa!\nIn the Maxim Ro
 om to the rear of the church.\nAccess via the door in the South (right han
 d) side of the church.
GEO:0.153894;51.461815
LOCATION:St. Martin's\, Barnehurst
URL:https://www.achurchnearyou.com/church/9832/service-and-events/events/7
 7429/
END:VEVENT
BEGIN:VEVENT
SUMMARY:Family Worship
DTSTART;TZID=Europe/London:20260531T103000
DTEND;TZID=Europe/London:20260531T114500
DTSTAMP:20260422T090928Z
UID:595821780219800.0achurchnearyou
CATEGORIES:
DESCRIPTION:This is our main Service incorporating Holy Communion and usin
 g contemporary language.\n\nFollowed by tea and coffee.
GEO:0.153894;51.461815
LOCATION:St. Martin's\, Barnehurst
URL:https://www.achurchnearyou.com/church/9832/service-and-events/events/5
 9582/
END:VEVENT
BEGIN:VEVENT
SUMMARY:Coffee Shop
DTSTART;TZID=Europe/London:20260602T100000
DTEND;TZID=Europe/London:20260602T120000
DTSTAMP:20260422T090928Z
UID:774291780390800.0achurchnearyou
CATEGORIES:
DESCRIPTION:Pop in for a chat\, a good laugh and a cuppa!\nIn the Maxim Ro
 om to the rear of the church.\nAccess via the door in the South (right han
 d) side of the church.
GEO:0.153894;51.461815
LOCATION:St. Martin's\, Barnehurst
URL:https://www.achurchnearyou.com/church/9832/service-and-events/events/7
 7429/
END:VEVENT
BEGIN:VEVENT
SUMMARY:Family Worship
DTSTART;TZID=Europe/London:20260607T103000
DTEND;TZID=Europe/London:20260607T114500
DTSTAMP:20260422T090928Z
UID:595821780824600.0achurchnearyou
CATEGORIES:
DESCRIPTION:This is our main Service incorporating Holy Communion and usin
 g contemporary language.\n\nFollowed by tea and coffee.
GEO:0.153894;51.461815
LOCATION:St. Martin's\, Barnehurst
URL:https://www.achurchnearyou.com/church/9832/service-and-events/events/5
 9582/
END:VEVENT
BEGIN:VEVENT
SUMMARY:Coffee Shop
DTSTART;TZID=Europe/London:20260609T100000
DTEND;TZID=Europe/London:20260609T120000
DTSTAMP:20260422T090928Z
UID:774291780995600.0achurchnearyou
CATEGORIES:
DESCRIPTION:Pop in for a chat\, a good laugh and a cuppa!\nIn the Maxim Ro
 om to the rear of the church.\nAccess via the door in the South (right han
 d) side of the church.
GEO:0.153894;51.461815
LOCATION:St. Martin's\, Barnehurst
URL:https://www.achurchnearyou.com/church/9832/service-and-events/events/7
 7429/
END:VEVENT
BEGIN:VEVENT
SUMMARY:Family Service
DTSTART;TZID=Europe/London:20260614T103000
DTEND;TZID=Europe/London:20260614T111500
DTSTAMP:20260422T090928Z
UID:9522581781429400.0achurchnearyou
CATEGORIES:
DESCRIPTION:A service of the Word for all the family.
GEO:0.153894;51.461815
LOCATION:St. Martin's\, Barnehurst
URL:https://www.achurchnearyou.com/church/9832/service-and-events/events/9
 52258/
END:VEVENT
BEGIN:VEVENT
SUMMARY:Coffee Shop
DTSTART;TZID=Europe/London:20260616T100000
DTEND;TZID=Europe/London:20260616T120000
DTSTAMP:20260422T090928Z
UID:774291781600400.0achurchnearyou
CATEGORIES:
DESCRIPTION:Pop in for a chat\, a good laugh and a cuppa!\nIn the Maxim Ro
 om to the rear of the church.\nAccess via the door in the South (right han
 d) side of the church.
GEO:0.153894;51.461815
LOCATION:St. Martin's\, Barnehurst
URL:https://www.achurchnearyou.com/church/9832/service-and-events/events/7
 7429/
END:VEVENT
BEGIN:VEVENT
SUMMARY:Family Worship
DTSTART;TZID=Europe/London:20260621T103000
DTEND;TZID=Europe/London:20260621T114500
DTSTAMP:20260422T090928Z
UID:595821782034200.0achurchnearyou
CATEGORIES:
DESCRIPTION:This is our main Service incorporating Holy Communion and usin
 g contemporary language.\n\nFollowed by tea and coffee.
GEO:0.153894;51.461815
LOCATION:St. Martin's\, Barnehurst
URL:https://www.achurchnearyou.com/church/9832/service-and-events/events/5
 9582/
END:VEVENT
BEGIN:VEVENT
SUMMARY:Coffee Shop
DTSTART;TZID=Europe/London:20260623T100000
DTEND;TZID=Europe/London:20260623T120000
DTSTAMP:20260422T090928Z
UID:774291782205200.0achurchnearyou
CATEGORIES:
DESCRIPTION:Pop in for a chat\, a good laugh and a cuppa!\nIn the Maxim Ro
 om to the rear of the church.\nAccess via the door in the South (right han
 d) side of the church.
GEO:0.153894;51.461815
LOCATION:St. Martin's\, Barnehurst
URL:https://www.achurchnearyou.com/church/9832/service-and-events/events/7
 7429/
END:VEVENT
BEGIN:VEVENT
SUMMARY:Family Worship
DTSTART;TZID=Europe/London:20260628T103000
DTEND;TZID=Europe/London:20260628T114500
DTSTAMP:20260422T090928Z
UID:595821782639000.0achurchnearyou
CATEGORIES:
DESCRIPTION:This is our main Service incorporating Holy Communion and usin
 g contemporary language.\n\nFollowed by tea and coffee.
GEO:0.153894;51.461815
LOCATION:St. Martin's\, Barnehurst
URL:https://www.achurchnearyou.com/church/9832/service-and-events/events/5
 9582/
END:VEVENT
BEGIN:VEVENT
SUMMARY:Coffee Shop
DTSTART;TZID=Europe/London:20260630T100000
DTEND;TZID=Europe/London:20260630T120000
DTSTAMP:20260422T090928Z
UID:774291782810000.0achurchnearyou
CATEGORIES:
DESCRIPTION:Pop in for a chat\, a good laugh and a cuppa!\nIn the Maxim Ro
 om to the rear of the church.\nAccess via the door in the South (right han
 d) side of the church.
GEO:0.153894;51.461815
LOCATION:St. Martin's\, Barnehurst
URL:https://www.achurchnearyou.com/church/9832/service-and-events/events/7
 7429/
END:VEVENT
BEGIN:VEVENT
SUMMARY:Family Worship
DTSTART;TZID=Europe/London:20260705T103000
DTEND;TZID=Europe/London:20260705T114500
DTSTAMP:20260422T090928Z
UID:595821783243800.0achurchnearyou
CATEGORIES:
DESCRIPTION:This is our main Service incorporating Holy Communion and usin
 g contemporary language.\n\nFollowed by tea and coffee.
GEO:0.153894;51.461815
LOCATION:St. Martin's\, Barnehurst
URL:https://www.achurchnearyou.com/church/9832/service-and-events/events/5
 9582/
END:VEVENT
BEGIN:VEVENT
SUMMARY:Coffee Shop
DTSTART;TZID=Europe/London:20260707T100000
DTEND;TZID=Europe/London:20260707T120000
DTSTAMP:20260422T090928Z
UID:774291783414800.0achurchnearyou
CATEGORIES:
DESCRIPTION:Pop in for a chat\, a good laugh and a cuppa!\nIn the Maxim Ro
 om to the rear of the church.\nAccess via the door in the South (right han
 d) side of the church.
GEO:0.153894;51.461815
LOCATION:St. Martin's\, Barnehurst
URL:https://www.achurchnearyou.com/church/9832/service-and-events/events/7
 7429/
END:VEVENT
BEGIN:VEVENT
SUMMARY:Family Service
DTSTART;TZID=Europe/London:20260712T103000
DTEND;TZID=Europe/London:20260712T111500
DTSTAMP:20260422T090928Z
UID:9522581783848600.0achurchnearyou
CATEGORIES:
DESCRIPTION:A service of the Word for all the family.
GEO:0.153894;51.461815
LOCATION:St. Martin's\, Barnehurst
URL:https://www.achurchnearyou.com/church/9832/service-and-events/events/9
 52258/
END:VEVENT
BEGIN:VEVENT
SUMMARY:Coffee Shop
DTSTART;TZID=Europe/London:20260714T100000
DTEND;TZID=Europe/London:20260714T120000
DTSTAMP:20260422T090928Z
UID:774291784019600.0achurchnearyou
CATEGORIES:
DESCRIPTION:Pop in for a chat\, a good laugh and a cuppa!\nIn the Maxim Ro
 om to the rear of the church.\nAccess via the door in the South (right han
 d) side of the church.
GEO:0.153894;51.461815
LOCATION:St. Martin's\, Barnehurst
URL:https://www.achurchnearyou.com/church/9832/service-and-events/events/7
 7429/
END:VEVENT
BEGIN:VEVENT
SUMMARY:Family Worship
DTSTART;TZID=Europe/London:20260719T103000
DTEND;TZID=Europe/London:20260719T114500
DTSTAMP:20260422T090928Z
UID:595821784453400.0achurchnearyou
CATEGORIES:
DESCRIPTION:This is our main Service incorporating Holy Communion and usin
 g contemporary language.\n\nFollowed by tea and coffee.
GEO:0.153894;51.461815
LOCATION:St. Martin's\, Barnehurst
URL:https://www.achurchnearyou.com/church/9832/service-and-events/events/5
 9582/
END:VEVENT
BEGIN:VEVENT
SUMMARY:Coffee Shop
DTSTART;TZID=Europe/London:20260721T100000
DTEND;TZID=Europe/London:20260721T120000
DTSTAMP:20260422T090928Z
UID:774291784624400.0achurchnearyou
CATEGORIES:
DESCRIPTION:Pop in for a chat\, a good laugh and a cuppa!\nIn the Maxim Ro
 om to the rear of the church.\nAccess via the door in the South (right han
 d) side of the church.
GEO:0.153894;51.461815
LOCATION:St. Martin's\, Barnehurst
URL:https://www.achurchnearyou.com/church/9832/service-and-events/events/7
 7429/
END:VEVENT
BEGIN:VEVENT
SUMMARY:Family Worship
DTSTART;TZID=Europe/London:20260726T103000
DTEND;TZID=Europe/London:20260726T114500
DTSTAMP:20260422T090928Z
UID:595821785058200.0achurchnearyou
CATEGORIES:
DESCRIPTION:This is our main Service incorporating Holy Communion and usin
 g contemporary language.\n\nFollowed by tea and coffee.
GEO:0.153894;51.461815
LOCATION:St. Martin's\, Barnehurst
URL:https://www.achurchnearyou.com/church/9832/service-and-events/events/5
 9582/
END:VEVENT
BEGIN:VEVENT
SUMMARY:Coffee Shop
DTSTART;TZID=Europe/London:20260728T100000
DTEND;TZID=Europe/London:20260728T120000
DTSTAMP:20260422T090928Z
UID:774291785229200.0achurchnearyou
CATEGORIES:
DESCRIPTION:Pop in for a chat\, a good laugh and a cuppa!\nIn the Maxim Ro
 om to the rear of the church.\nAccess via the door in the South (right han
 d) side of the church.
GEO:0.153894;51.461815
LOCATION:St. Martin's\, Barnehurst
URL:https://www.achurchnearyou.com/church/9832/service-and-events/events/7
 7429/
END:VEVENT
BEGIN:VEVENT
SUMMARY:Family Worship
DTSTART;TZID=Europe/London:20260802T103000
DTEND;TZID=Europe/London:20260802T114500
DTSTAMP:20260422T090928Z
UID:595821785663000.0achurchnearyou
CATEGORIES:
DESCRIPTION:This is our main Service incorporating Holy Communion and usin
 g contemporary language.\n\nFollowed by tea and coffee.
GEO:0.153894;51.461815
LOCATION:St. Martin's\, Barnehurst
URL:https://www.achurchnearyou.com/church/9832/service-and-events/events/5
 9582/
END:VEVENT
BEGIN:VEVENT
SUMMARY:Coffee Shop
DTSTART;TZID=Europe/London:20260804T100000
DTEND;TZID=Europe/London:20260804T120000
DTSTAMP:20260422T090928Z
UID:774291785834000.0achurchnearyou
CATEGORIES:
DESCRIPTION:Pop in for a chat\, a good laugh and a cuppa!\nIn the Maxim Ro
 om to the rear of the church.\nAccess via the door in the South (right han
 d) side of the church.
GEO:0.153894;51.461815
LOCATION:St. Martin's\, Barnehurst
URL:https://www.achurchnearyou.com/church/9832/service-and-events/events/7
 7429/
END:VEVENT
BEGIN:VEVENT
SUMMARY:Family Service
DTSTART;TZID=Europe/London:20260809T103000
DTEND;TZID=Europe/London:20260809T111500
DTSTAMP:20260422T090928Z
UID:9522581786267800.0achurchnearyou
CATEGORIES:
DESCRIPTION:A service of the Word for all the family.
GEO:0.153894;51.461815
LOCATION:St. Martin's\, Barnehurst
URL:https://www.achurchnearyou.com/church/9832/service-and-events/events/9
 52258/
END:VEVENT
BEGIN:VEVENT
SUMMARY:Coffee Shop
DTSTART;TZID=Europe/London:20260811T100000
DTEND;TZID=Europe/London:20260811T120000
DTSTAMP:20260422T090928Z
UID:774291786438800.0achurchnearyou
CATEGORIES:
DESCRIPTION:Pop in for a chat\, a good laugh and a cuppa!\nIn the Maxim Ro
 om to the rear of the church.\nAccess via the door in the South (right han
 d) side of the church.
GEO:0.153894;51.461815
LOCATION:St. Martin's\, Barnehurst
URL:https://www.achurchnearyou.com/church/9832/service-and-events/events/7
 7429/
END:VEVENT
BEGIN:VEVENT
SUMMARY:Family Worship
DTSTART;TZID=Europe/London:20260816T103000
DTEND;TZID=Europe/London:20260816T114500
DTSTAMP:20260422T090928Z
UID:595821786872600.0achurchnearyou
CATEGORIES:
DESCRIPTION:This is our main Service incorporating Holy Communion and usin
 g contemporary language.\n\nFollowed by tea and coffee.
GEO:0.153894;51.461815
LOCATION:St. Martin's\, Barnehurst
URL:https://www.achurchnearyou.com/church/9832/service-and-events/events/5
 9582/
END:VEVENT
BEGIN:VEVENT
SUMMARY:Coffee Shop
DTSTART;TZID=Europe/London:20260818T100000
DTEND;TZID=Europe/London:20260818T120000
DTSTAMP:20260422T090928Z
UID:774291787043600.0achurchnearyou
CATEGORIES:
DESCRIPTION:Pop in for a chat\, a good laugh and a cuppa!\nIn the Maxim Ro
 om to the rear of the church.\nAccess via the door in the South (right han
 d) side of the church.
GEO:0.153894;51.461815
LOCATION:St. Martin's\, Barnehurst
URL:https://www.achurchnearyou.com/church/9832/service-and-events/events/7
 7429/
END:VEVENT
BEGIN:VEVENT
SUMMARY:Family Worship
DTSTART;TZID=Europe/London:20260823T103000
DTEND;TZID=Europe/London:20260823T114500
DTSTAMP:20260422T090928Z
UID:595821787477400.0achurchnearyou
CATEGORIES:
DESCRIPTION:This is our main Service incorporating Holy Communion and usin
 g contemporary language.\n\nFollowed by tea and coffee.
GEO:0.153894;51.461815
LOCATION:St. Martin's\, Barnehurst
URL:https://www.achurchnearyou.com/church/9832/service-and-events/events/5
 9582/
END:VEVENT
BEGIN:VEVENT
SUMMARY:Coffee Shop
DTSTART;TZID=Europe/London:20260825T100000
DTEND;TZID=Europe/London:20260825T120000
DTSTAMP:20260422T090928Z
UID:774291787648400.0achurchnearyou
CATEGORIES:
DESCRIPTION:Pop in for a chat\, a good laugh and a cuppa!\nIn the Maxim Ro
 om to the rear of the church.\nAccess via the door in the South (right han
 d) side of the church.
GEO:0.153894;51.461815
LOCATION:St. Martin's\, Barnehurst
URL:https://www.achurchnearyou.com/church/9832/service-and-events/events/7
 7429/
END:VEVENT
BEGIN:VEVENT
SUMMARY:Family Worship
DTSTART;TZID=Europe/London:20260830T103000
DTEND;TZID=Europe/London:20260830T114500
DTSTAMP:20260422T090928Z
UID:595821788082200.0achurchnearyou
CATEGORIES:
DESCRIPTION:This is our main Service incorporating Holy Communion and usin
 g contemporary language.\n\nFollowed by tea and coffee.
GEO:0.153894;51.461815
LOCATION:St. Martin's\, Barnehurst
URL:https://www.achurchnearyou.com/church/9832/service-and-events/events/5
 9582/
END:VEVENT
BEGIN:VEVENT
SUMMARY:Coffee Shop
DTSTART;TZID=Europe/London:20260901T100000
DTEND;TZID=Europe/London:20260901T120000
DTSTAMP:20260422T090928Z
UID:774291788253200.0achurchnearyou
CATEGORIES:
DESCRIPTION:Pop in for a chat\, a good laugh and a cuppa!\nIn the Maxim Ro
 om to the rear of the church.\nAccess via the door in the South (right han
 d) side of the church.
GEO:0.153894;51.461815
LOCATION:St. Martin's\, Barnehurst
URL:https://www.achurchnearyou.com/church/9832/service-and-events/events/7
 7429/
END:VEVENT
BEGIN:VEVENT
SUMMARY:Family Worship
DTSTART;TZID=Europe/London:20260906T103000
DTEND;TZID=Europe/London:20260906T114500
DTSTAMP:20260422T090928Z
UID:595821788687000.0achurchnearyou
CATEGORIES:
DESCRIPTION:This is our main Service incorporating Holy Communion and usin
 g contemporary language.\n\nFollowed by tea and coffee.
GEO:0.153894;51.461815
LOCATION:St. Martin's\, Barnehurst
URL:https://www.achurchnearyou.com/church/9832/service-and-events/events/5
 9582/
END:VEVENT
BEGIN:VEVENT
SUMMARY:Coffee Shop
DTSTART;TZID=Europe/London:20260908T100000
DTEND;TZID=Europe/London:20260908T120000
DTSTAMP:20260422T090928Z
UID:774291788858000.0achurchnearyou
CATEGORIES:
DESCRIPTION:Pop in for a chat\, a good laugh and a cuppa!\nIn the Maxim Ro
 om to the rear of the church.\nAccess via the door in the South (right han
 d) side of the church.
GEO:0.153894;51.461815
LOCATION:St. Martin's\, Barnehurst
URL:https://www.achurchnearyou.com/church/9832/service-and-events/events/7
 7429/
END:VEVENT
BEGIN:VEVENT
SUMMARY:Family Service
DTSTART;TZID=Europe/London:20260913T103000
DTEND;TZID=Europe/London:20260913T111500
DTSTAMP:20260422T090928Z
UID:9522581789291800.0achurchnearyou
CATEGORIES:
DESCRIPTION:A service of the Word for all the family.
GEO:0.153894;51.461815
LOCATION:St. Martin's\, Barnehurst
URL:https://www.achurchnearyou.com/church/9832/service-and-events/events/9
 52258/
END:VEVENT
BEGIN:VEVENT
SUMMARY:Coffee Shop
DTSTART;TZID=Europe/London:20260915T100000
DTEND;TZID=Europe/London:20260915T120000
DTSTAMP:20260422T090928Z
UID:774291789462800.0achurchnearyou
CATEGORIES:
DESCRIPTION:Pop in for a chat\, a good laugh and a cuppa!\nIn the Maxim Ro
 om to the rear of the church.\nAccess via the door in the South (right han
 d) side of the church.
GEO:0.153894;51.461815
LOCATION:St. Martin's\, Barnehurst
URL:https://www.achurchnearyou.com/church/9832/service-and-events/events/7
 7429/
END:VEVENT
BEGIN:VEVENT
SUMMARY:Family Worship
DTSTART;TZID=Europe/London:20260920T103000
DTEND;TZID=Europe/London:20260920T114500
DTSTAMP:20260422T090928Z
UID:595821789896600.0achurchnearyou
CATEGORIES:
DESCRIPTION:This is our main Service incorporating Holy Communion and usin
 g contemporary language.\n\nFollowed by tea and coffee.
GEO:0.153894;51.461815
LOCATION:St. Martin's\, Barnehurst
URL:https://www.achurchnearyou.com/church/9832/service-and-events/events/5
 9582/
END:VEVENT
BEGIN:VEVENT
SUMMARY:Coffee Shop
DTSTART;TZID=Europe/London:20260922T100000
DTEND;TZID=Europe/London:20260922T120000
DTSTAMP:20260422T090928Z
UID:774291790067600.0achurchnearyou
CATEGORIES:
DESCRIPTION:Pop in for a chat\, a good laugh and a cuppa!\nIn the Maxim Ro
 om to the rear of the church.\nAccess via the door in the South (right han
 d) side of the church.
GEO:0.153894;51.461815
LOCATION:St. Martin's\, Barnehurst
URL:https://www.achurchnearyou.com/church/9832/service-and-events/events/7
 7429/
END:VEVENT
BEGIN:VEVENT
SUMMARY:Family Worship
DTSTART;TZID=Europe/London:20260927T103000
DTEND;TZID=Europe/London:20260927T114500
DTSTAMP:20260422T090928Z
UID:595821790501400.0achurchnearyou
CATEGORIES:
DESCRIPTION:This is our main Service incorporating Holy Communion and usin
 g contemporary language.\n\nFollowed by tea and coffee.
GEO:0.153894;51.461815
LOCATION:St. Martin's\, Barnehurst
URL:https://www.achurchnearyou.com/church/9832/service-and-events/events/5
 9582/
END:VEVENT
BEGIN:VEVENT
SUMMARY:Coffee Shop
DTSTART;TZID=Europe/London:20260929T100000
DTEND;TZID=Europe/London:20260929T120000
DTSTAMP:20260422T090928Z
UID:774291790672400.0achurchnearyou
CATEGORIES:
DESCRIPTION:Pop in for a chat\, a good laugh and a cuppa!\nIn the Maxim Ro
 om to the rear of the church.\nAccess via the door in the South (right han
 d) side of the church.
GEO:0.153894;51.461815
LOCATION:St. Martin's\, Barnehurst
URL:https://www.achurchnearyou.com/church/9832/service-and-events/events/7
 7429/
END:VEVENT
END:VCALENDAR
