BEGIN:VCALENDAR
VERSION:2.0
PRODID:-//achurchnearyou.com//eventfeed//EN
CALSCALE:GREGORIAN
METHOD:PUBLISH
X-WR-TIMEZONE:UTC
BEGIN:VEVENT
SUMMARY:St John's Silver Birch Club
DTSTART;TZID=Europe/London:20231102T120000
DTEND;TZID=Europe/London:20231102T143000
DTSTAMP:20260426T013814Z
UID:9947142023-11-02 12:00:00+00:00achurchnearyou
CATEGORIES:
DESCRIPTION:Join us for Hot Food\, Chats & Games
GEO:0.170352;51.487249
LOCATION:Erith: St John The Baptist
URL:https://www.achurchnearyou.com/church/9840/service-and-events/events/9
 94714/
END:VEVENT
BEGIN:VEVENT
SUMMARY:St John's Silver Birch Club
DTSTART;TZID=Europe/London:20231207T120000
DTEND;TZID=Europe/London:20231207T143000
DTSTAMP:20260426T013814Z
UID:9947142023-12-07 12:00:00+00:00achurchnearyou
CATEGORIES:
DESCRIPTION:Join us for Hot Food\, Chats & Games
GEO:0.170352;51.487249
LOCATION:Erith: St John The Baptist
URL:https://www.achurchnearyou.com/church/9840/service-and-events/events/9
 94714/
END:VEVENT
BEGIN:VEVENT
SUMMARY:St John's Silver Birch Club
DTSTART;TZID=Europe/London:20240104T120000
DTEND;TZID=Europe/London:20240104T143000
DTSTAMP:20260426T013814Z
UID:9947142024-01-04 12:00:00+00:00achurchnearyou
CATEGORIES:
DESCRIPTION:Join us for Hot Food\, Chats & Games
GEO:0.170352;51.487249
LOCATION:Erith: St John The Baptist
URL:https://www.achurchnearyou.com/church/9840/service-and-events/events/9
 94714/
END:VEVENT
BEGIN:VEVENT
SUMMARY:St John's Silver Birch Club
DTSTART;TZID=Europe/London:20240201T120000
DTEND;TZID=Europe/London:20240201T143000
DTSTAMP:20260426T013814Z
UID:9947142024-02-01 12:00:00+00:00achurchnearyou
CATEGORIES:
DESCRIPTION:Join us for Hot Food\, Chats & Games
GEO:0.170352;51.487249
LOCATION:Erith: St John The Baptist
URL:https://www.achurchnearyou.com/church/9840/service-and-events/events/9
 94714/
END:VEVENT
BEGIN:VEVENT
SUMMARY:St John's Silver Birch Club
DTSTART;TZID=Europe/London:20240307T120000
DTEND;TZID=Europe/London:20240307T143000
DTSTAMP:20260426T013814Z
UID:9947142024-03-07 12:00:00+00:00achurchnearyou
CATEGORIES:
DESCRIPTION:Join us for Hot Food\, Chats & Games
GEO:0.170352;51.487249
LOCATION:Erith: St John The Baptist
URL:https://www.achurchnearyou.com/church/9840/service-and-events/events/9
 94714/
END:VEVENT
BEGIN:VEVENT
SUMMARY:St John's Silver Birch Club
DTSTART;TZID=Europe/London:20240404T120000
DTEND;TZID=Europe/London:20240404T143000
DTSTAMP:20260426T013814Z
UID:9947142024-04-04 12:00:00+01:00achurchnearyou
CATEGORIES:
DESCRIPTION:Join us for Hot Food\, Chats & Games
GEO:0.170352;51.487249
LOCATION:Erith: St John The Baptist
URL:https://www.achurchnearyou.com/church/9840/service-and-events/events/9
 94714/
END:VEVENT
BEGIN:VEVENT
SUMMARY:St John's Silver Birch Club
DTSTART;TZID=Europe/London:20240502T120000
DTEND;TZID=Europe/London:20240502T143000
DTSTAMP:20260426T013814Z
UID:9947142024-05-02 12:00:00+01:00achurchnearyou
CATEGORIES:
DESCRIPTION:Join us for Hot Food\, Chats & Games
GEO:0.170352;51.487249
LOCATION:Erith: St John The Baptist
URL:https://www.achurchnearyou.com/church/9840/service-and-events/events/9
 94714/
END:VEVENT
BEGIN:VEVENT
SUMMARY:St John's Silver Birch Club
DTSTART;TZID=Europe/London:20240606T120000
DTEND;TZID=Europe/London:20240606T143000
DTSTAMP:20260426T013814Z
UID:9947142024-06-06 12:00:00+01:00achurchnearyou
CATEGORIES:
DESCRIPTION:Join us for Hot Food\, Chats & Games
GEO:0.170352;51.487249
LOCATION:Erith: St John The Baptist
URL:https://www.achurchnearyou.com/church/9840/service-and-events/events/9
 94714/
END:VEVENT
BEGIN:VEVENT
SUMMARY:St John's Silver Birch Club
DTSTART;TZID=Europe/London:20240704T120000
DTEND;TZID=Europe/London:20240704T143000
DTSTAMP:20260426T013814Z
UID:9947142024-07-04 12:00:00+01:00achurchnearyou
CATEGORIES:
DESCRIPTION:Join us for Hot Food\, Chats & Games
GEO:0.170352;51.487249
LOCATION:Erith: St John The Baptist
URL:https://www.achurchnearyou.com/church/9840/service-and-events/events/9
 94714/
END:VEVENT
BEGIN:VEVENT
SUMMARY:St John's Silver Birch Club
DTSTART;TZID=Europe/London:20240801T120000
DTEND;TZID=Europe/London:20240801T143000
DTSTAMP:20260426T013814Z
UID:9947142024-08-01 12:00:00+01:00achurchnearyou
CATEGORIES:
DESCRIPTION:Join us for Hot Food\, Chats & Games
GEO:0.170352;51.487249
LOCATION:Erith: St John The Baptist
URL:https://www.achurchnearyou.com/church/9840/service-and-events/events/9
 94714/
END:VEVENT
BEGIN:VEVENT
SUMMARY:St John's Silver Birch Club
DTSTART;TZID=Europe/London:20240905T120000
DTEND;TZID=Europe/London:20240905T143000
DTSTAMP:20260426T013814Z
UID:9947142024-09-05 12:00:00+01:00achurchnearyou
CATEGORIES:
DESCRIPTION:Join us for Hot Food\, Chats & Games
GEO:0.170352;51.487249
LOCATION:Erith: St John The Baptist
URL:https://www.achurchnearyou.com/church/9840/service-and-events/events/9
 94714/
END:VEVENT
BEGIN:VEVENT
SUMMARY:St John's Silver Birch Club
DTSTART;TZID=Europe/London:20241003T120000
DTEND;TZID=Europe/London:20241003T143000
DTSTAMP:20260426T013814Z
UID:9947142024-10-03 12:00:00+01:00achurchnearyou
CATEGORIES:
DESCRIPTION:Join us for Hot Food\, Chats & Games
GEO:0.170352;51.487249
LOCATION:Erith: St John The Baptist
URL:https://www.achurchnearyou.com/church/9840/service-and-events/events/9
 94714/
END:VEVENT
BEGIN:VEVENT
SUMMARY:St John's Silver Birch Club
DTSTART;TZID=Europe/London:20241107T120000
DTEND;TZID=Europe/London:20241107T143000
DTSTAMP:20260426T013814Z
UID:9947142024-11-07 12:00:00+00:00achurchnearyou
CATEGORIES:
DESCRIPTION:Join us for Hot Food\, Chats & Games
GEO:0.170352;51.487249
LOCATION:Erith: St John The Baptist
URL:https://www.achurchnearyou.com/church/9840/service-and-events/events/9
 94714/
END:VEVENT
BEGIN:VEVENT
SUMMARY:St John's Silver Birch Club
DTSTART;TZID=Europe/London:20241205T120000
DTEND;TZID=Europe/London:20241205T143000
DTSTAMP:20260426T013814Z
UID:9947142024-12-05 12:00:00+00:00achurchnearyou
CATEGORIES:
DESCRIPTION:Join us for Hot Food\, Chats & Games
GEO:0.170352;51.487249
LOCATION:Erith: St John The Baptist
URL:https://www.achurchnearyou.com/church/9840/service-and-events/events/9
 94714/
END:VEVENT
BEGIN:VEVENT
SUMMARY:St John's Silver Birch Club
DTSTART;TZID=Europe/London:20250102T120000
DTEND;TZID=Europe/London:20250102T143000
DTSTAMP:20260426T013814Z
UID:9947142025-01-02 12:00:00+00:00achurchnearyou
CATEGORIES:
DESCRIPTION:Join us for Hot Food\, Chats & Games
GEO:0.170352;51.487249
LOCATION:Erith: St John The Baptist
URL:https://www.achurchnearyou.com/church/9840/service-and-events/events/9
 94714/
END:VEVENT
BEGIN:VEVENT
SUMMARY:St John's Silver Birch Club
DTSTART;TZID=Europe/London:20250206T120000
DTEND;TZID=Europe/London:20250206T143000
DTSTAMP:20260426T013814Z
UID:9947142025-02-06 12:00:00+00:00achurchnearyou
CATEGORIES:
DESCRIPTION:Join us for Hot Food\, Chats & Games
GEO:0.170352;51.487249
LOCATION:Erith: St John The Baptist
URL:https://www.achurchnearyou.com/church/9840/service-and-events/events/9
 94714/
END:VEVENT
BEGIN:VEVENT
SUMMARY:St John's Silver Birch Club
DTSTART;TZID=Europe/London:20250306T120000
DTEND;TZID=Europe/London:20250306T143000
DTSTAMP:20260426T013814Z
UID:9947142025-03-06 12:00:00+00:00achurchnearyou
CATEGORIES:
DESCRIPTION:Join us for Hot Food\, Chats & Games
GEO:0.170352;51.487249
LOCATION:Erith: St John The Baptist
URL:https://www.achurchnearyou.com/church/9840/service-and-events/events/9
 94714/
END:VEVENT
BEGIN:VEVENT
SUMMARY:St John's Silver Birch Club
DTSTART;TZID=Europe/London:20250403T120000
DTEND;TZID=Europe/London:20250403T143000
DTSTAMP:20260426T013814Z
UID:9947142025-04-03 12:00:00+01:00achurchnearyou
CATEGORIES:
DESCRIPTION:Join us for Hot Food\, Chats & Games
GEO:0.170352;51.487249
LOCATION:Erith: St John The Baptist
URL:https://www.achurchnearyou.com/church/9840/service-and-events/events/9
 94714/
END:VEVENT
BEGIN:VEVENT
SUMMARY:St John's Silver Birch Club
DTSTART;TZID=Europe/London:20250501T120000
DTEND;TZID=Europe/London:20250501T143000
DTSTAMP:20260426T013814Z
UID:9947142025-05-01 12:00:00+01:00achurchnearyou
CATEGORIES:
DESCRIPTION:Join us for Hot Food\, Chats & Games
GEO:0.170352;51.487249
LOCATION:Erith: St John The Baptist
URL:https://www.achurchnearyou.com/church/9840/service-and-events/events/9
 94714/
END:VEVENT
BEGIN:VEVENT
SUMMARY:St John's Silver Birch Club
DTSTART;TZID=Europe/London:20250605T120000
DTEND;TZID=Europe/London:20250605T143000
DTSTAMP:20260426T013814Z
UID:9947142025-06-05 12:00:00+01:00achurchnearyou
CATEGORIES:
DESCRIPTION:Join us for Hot Food\, Chats & Games
GEO:0.170352;51.487249
LOCATION:Erith: St John The Baptist
URL:https://www.achurchnearyou.com/church/9840/service-and-events/events/9
 94714/
END:VEVENT
BEGIN:VEVENT
SUMMARY:St John's Silver Birch Club
DTSTART;TZID=Europe/London:20250703T120000
DTEND;TZID=Europe/London:20250703T143000
DTSTAMP:20260426T013814Z
UID:9947142025-07-03 12:00:00+01:00achurchnearyou
CATEGORIES:
DESCRIPTION:Join us for Hot Food\, Chats & Games
GEO:0.170352;51.487249
LOCATION:Erith: St John The Baptist
URL:https://www.achurchnearyou.com/church/9840/service-and-events/events/9
 94714/
END:VEVENT
BEGIN:VEVENT
SUMMARY:St John's Silver Birch Club
DTSTART;TZID=Europe/London:20250807T120000
DTEND;TZID=Europe/London:20250807T143000
DTSTAMP:20260426T013814Z
UID:9947142025-08-07 12:00:00+01:00achurchnearyou
CATEGORIES:
DESCRIPTION:Join us for Hot Food\, Chats & Games
GEO:0.170352;51.487249
LOCATION:Erith: St John The Baptist
URL:https://www.achurchnearyou.com/church/9840/service-and-events/events/9
 94714/
END:VEVENT
BEGIN:VEVENT
SUMMARY:St John's Silver Birch Club
DTSTART;TZID=Europe/London:20250904T120000
DTEND;TZID=Europe/London:20250904T143000
DTSTAMP:20260426T013814Z
UID:9947142025-09-04 12:00:00+01:00achurchnearyou
CATEGORIES:
DESCRIPTION:Join us for Hot Food\, Chats & Games
GEO:0.170352;51.487249
LOCATION:Erith: St John The Baptist
URL:https://www.achurchnearyou.com/church/9840/service-and-events/events/9
 94714/
END:VEVENT
BEGIN:VEVENT
SUMMARY:St John's Silver Birch Club
DTSTART;TZID=Europe/London:20251002T120000
DTEND;TZID=Europe/London:20251002T143000
DTSTAMP:20260426T013814Z
UID:9947142025-10-02 12:00:00+01:00achurchnearyou
CATEGORIES:
DESCRIPTION:Join us for Hot Food\, Chats & Games
GEO:0.170352;51.487249
LOCATION:Erith: St John The Baptist
URL:https://www.achurchnearyou.com/church/9840/service-and-events/events/9
 94714/
END:VEVENT
BEGIN:VEVENT
SUMMARY:St John's Silver Birch Club
DTSTART;TZID=Europe/London:20251106T120000
DTEND;TZID=Europe/London:20251106T143000
DTSTAMP:20260426T013814Z
UID:9947142025-11-06 12:00:00+00:00achurchnearyou
CATEGORIES:
DESCRIPTION:Join us for Hot Food\, Chats & Games
GEO:0.170352;51.487249
LOCATION:Erith: St John The Baptist
URL:https://www.achurchnearyou.com/church/9840/service-and-events/events/9
 94714/
END:VEVENT
BEGIN:VEVENT
SUMMARY:St John's Silver Birch Club
DTSTART;TZID=Europe/London:20251204T120000
DTEND;TZID=Europe/London:20251204T143000
DTSTAMP:20260426T013814Z
UID:9947142025-12-04 12:00:00+00:00achurchnearyou
CATEGORIES:
DESCRIPTION:Join us for Hot Food\, Chats & Games
GEO:0.170352;51.487249
LOCATION:Erith: St John The Baptist
URL:https://www.achurchnearyou.com/church/9840/service-and-events/events/9
 94714/
END:VEVENT
BEGIN:VEVENT
SUMMARY:St John's Silver Birch Club
DTSTART;TZID=Europe/London:20260101T120000
DTEND;TZID=Europe/London:20260101T143000
DTSTAMP:20260426T013814Z
UID:9947142026-01-01 12:00:00+00:00achurchnearyou
CATEGORIES:
DESCRIPTION:Join us for Hot Food\, Chats & Games
GEO:0.170352;51.487249
LOCATION:Erith: St John The Baptist
URL:https://www.achurchnearyou.com/church/9840/service-and-events/events/9
 94714/
END:VEVENT
BEGIN:VEVENT
SUMMARY:St John's Silver Birch Club
DTSTART;TZID=Europe/London:20260205T120000
DTEND;TZID=Europe/London:20260205T143000
DTSTAMP:20260426T013814Z
UID:9947142026-02-05 12:00:00+00:00achurchnearyou
CATEGORIES:
DESCRIPTION:Join us for Hot Food\, Chats & Games
GEO:0.170352;51.487249
LOCATION:Erith: St John The Baptist
URL:https://www.achurchnearyou.com/church/9840/service-and-events/events/9
 94714/
END:VEVENT
BEGIN:VEVENT
SUMMARY:St John's Silver Birch Club
DTSTART;TZID=Europe/London:20260305T120000
DTEND;TZID=Europe/London:20260305T143000
DTSTAMP:20260426T013814Z
UID:9947142026-03-05 12:00:00+00:00achurchnearyou
CATEGORIES:
DESCRIPTION:Join us for Hot Food\, Chats & Games
GEO:0.170352;51.487249
LOCATION:Erith: St John The Baptist
URL:https://www.achurchnearyou.com/church/9840/service-and-events/events/9
 94714/
END:VEVENT
BEGIN:VEVENT
SUMMARY:St John's Silver Birch Club
DTSTART;TZID=Europe/London:20260402T120000
DTEND;TZID=Europe/London:20260402T143000
DTSTAMP:20260426T013814Z
UID:9947142026-04-02 12:00:00+01:00achurchnearyou
CATEGORIES:
DESCRIPTION:Join us for Hot Food\, Chats & Games
GEO:0.170352;51.487249
LOCATION:Erith: St John The Baptist
URL:https://www.achurchnearyou.com/church/9840/service-and-events/events/9
 94714/
END:VEVENT
BEGIN:VEVENT
SUMMARY:St John's Silver Birch Club
DTSTART;TZID=Europe/London:20260507T120000
DTEND;TZID=Europe/London:20260507T143000
DTSTAMP:20260426T013814Z
UID:9947142026-05-07 12:00:00+01:00achurchnearyou
CATEGORIES:
DESCRIPTION:Join us for Hot Food\, Chats & Games
GEO:0.170352;51.487249
LOCATION:Erith: St John The Baptist
URL:https://www.achurchnearyou.com/church/9840/service-and-events/events/9
 94714/
END:VEVENT
BEGIN:VEVENT
SUMMARY:St John's Silver Birch Club
DTSTART;TZID=Europe/London:20260604T120000
DTEND;TZID=Europe/London:20260604T143000
DTSTAMP:20260426T013814Z
UID:9947142026-06-04 12:00:00+01:00achurchnearyou
CATEGORIES:
DESCRIPTION:Join us for Hot Food\, Chats & Games
GEO:0.170352;51.487249
LOCATION:Erith: St John The Baptist
URL:https://www.achurchnearyou.com/church/9840/service-and-events/events/9
 94714/
END:VEVENT
BEGIN:VEVENT
SUMMARY:St John's Silver Birch Club
DTSTART;TZID=Europe/London:20260702T120000
DTEND;TZID=Europe/London:20260702T143000
DTSTAMP:20260426T013814Z
UID:9947142026-07-02 12:00:00+01:00achurchnearyou
CATEGORIES:
DESCRIPTION:Join us for Hot Food\, Chats & Games
GEO:0.170352;51.487249
LOCATION:Erith: St John The Baptist
URL:https://www.achurchnearyou.com/church/9840/service-and-events/events/9
 94714/
END:VEVENT
BEGIN:VEVENT
SUMMARY:St John's Silver Birch Club
DTSTART;TZID=Europe/London:20260806T120000
DTEND;TZID=Europe/London:20260806T143000
DTSTAMP:20260426T013814Z
UID:9947142026-08-06 12:00:00+01:00achurchnearyou
CATEGORIES:
DESCRIPTION:Join us for Hot Food\, Chats & Games
GEO:0.170352;51.487249
LOCATION:Erith: St John The Baptist
URL:https://www.achurchnearyou.com/church/9840/service-and-events/events/9
 94714/
END:VEVENT
BEGIN:VEVENT
SUMMARY:St John's Silver Birch Club
DTSTART;TZID=Europe/London:20260903T120000
DTEND;TZID=Europe/London:20260903T143000
DTSTAMP:20260426T013814Z
UID:9947142026-09-03 12:00:00+01:00achurchnearyou
CATEGORIES:
DESCRIPTION:Join us for Hot Food\, Chats & Games
GEO:0.170352;51.487249
LOCATION:Erith: St John The Baptist
URL:https://www.achurchnearyou.com/church/9840/service-and-events/events/9
 94714/
END:VEVENT
BEGIN:VEVENT
SUMMARY:St John's Silver Birch Club
DTSTART;TZID=Europe/London:20261001T120000
DTEND;TZID=Europe/London:20261001T143000
DTSTAMP:20260426T013814Z
UID:9947142026-10-01 12:00:00+01:00achurchnearyou
CATEGORIES:
DESCRIPTION:Join us for Hot Food\, Chats & Games
GEO:0.170352;51.487249
LOCATION:Erith: St John The Baptist
URL:https://www.achurchnearyou.com/church/9840/service-and-events/events/9
 94714/
END:VEVENT
BEGIN:VEVENT
SUMMARY:St John's Silver Birch Club
DTSTART;TZID=Europe/London:20261105T120000
DTEND;TZID=Europe/London:20261105T143000
DTSTAMP:20260426T013814Z
UID:9947142026-11-05 12:00:00+00:00achurchnearyou
CATEGORIES:
DESCRIPTION:Join us for Hot Food\, Chats & Games
GEO:0.170352;51.487249
LOCATION:Erith: St John The Baptist
URL:https://www.achurchnearyou.com/church/9840/service-and-events/events/9
 94714/
END:VEVENT
BEGIN:VEVENT
SUMMARY:St John's Silver Birch Club
DTSTART;TZID=Europe/London:20261203T120000
DTEND;TZID=Europe/London:20261203T143000
DTSTAMP:20260426T013814Z
UID:9947142026-12-03 12:00:00+00:00achurchnearyou
CATEGORIES:
DESCRIPTION:Join us for Hot Food\, Chats & Games
GEO:0.170352;51.487249
LOCATION:Erith: St John The Baptist
URL:https://www.achurchnearyou.com/church/9840/service-and-events/events/9
 94714/
END:VEVENT
BEGIN:VEVENT
SUMMARY:St John's Silver Birch Club
DTSTART;TZID=Europe/London:20270107T120000
DTEND;TZID=Europe/London:20270107T143000
DTSTAMP:20260426T013814Z
UID:9947142027-01-07 12:00:00+00:00achurchnearyou
CATEGORIES:
DESCRIPTION:Join us for Hot Food\, Chats & Games
GEO:0.170352;51.487249
LOCATION:Erith: St John The Baptist
URL:https://www.achurchnearyou.com/church/9840/service-and-events/events/9
 94714/
END:VEVENT
BEGIN:VEVENT
SUMMARY:St John's Silver Birch Club
DTSTART;TZID=Europe/London:20270204T120000
DTEND;TZID=Europe/London:20270204T143000
DTSTAMP:20260426T013814Z
UID:9947142027-02-04 12:00:00+00:00achurchnearyou
CATEGORIES:
DESCRIPTION:Join us for Hot Food\, Chats & Games
GEO:0.170352;51.487249
LOCATION:Erith: St John The Baptist
URL:https://www.achurchnearyou.com/church/9840/service-and-events/events/9
 94714/
END:VEVENT
BEGIN:VEVENT
SUMMARY:St John's Silver Birch Club
DTSTART;TZID=Europe/London:20270304T120000
DTEND;TZID=Europe/London:20270304T143000
DTSTAMP:20260426T013814Z
UID:9947142027-03-04 12:00:00+00:00achurchnearyou
CATEGORIES:
DESCRIPTION:Join us for Hot Food\, Chats & Games
GEO:0.170352;51.487249
LOCATION:Erith: St John The Baptist
URL:https://www.achurchnearyou.com/church/9840/service-and-events/events/9
 94714/
END:VEVENT
BEGIN:VEVENT
SUMMARY:St John's Silver Birch Club
DTSTART;TZID=Europe/London:20270401T120000
DTEND;TZID=Europe/London:20270401T143000
DTSTAMP:20260426T013814Z
UID:9947142027-04-01 12:00:00+01:00achurchnearyou
CATEGORIES:
DESCRIPTION:Join us for Hot Food\, Chats & Games
GEO:0.170352;51.487249
LOCATION:Erith: St John The Baptist
URL:https://www.achurchnearyou.com/church/9840/service-and-events/events/9
 94714/
END:VEVENT
END:VCALENDAR
