BEGIN:VCALENDAR
VERSION:2.0
PRODID:-//achurchnearyou.com//eventfeed//EN
CALSCALE:GREGORIAN
METHOD:PUBLISH
X-WR-TIMEZONE:UTC
BEGIN:VEVENT
SUMMARY:Messy Church
DTSTART;TZID=Europe/London:20260514T151500
DTEND;TZID=Europe/London:20260514T170000
DTSTAMP:20260423T021031Z
UID:7699112026-05-14 15:15:00+01:00achurchnearyou
CATEGORIES:
DESCRIPTION:Open for children between 5 and 11 years (MUST BE ACCOMOANIED 
 BY AN ADULT)\n\nSinging\, crafts\, storytelling\, arts and an light tea!
GEO:0.188848;51.471907
LOCATION:Slade Green: St Augustine
URL:https://www.achurchnearyou.com/church/9842/service-and-events/events/7
 69911/
END:VEVENT
BEGIN:VEVENT
SUMMARY:Messy Church
DTSTART;TZID=Europe/London:20260611T151500
DTEND;TZID=Europe/London:20260611T170000
DTSTAMP:20260423T021031Z
UID:7699112026-06-11 15:15:00+01:00achurchnearyou
CATEGORIES:
DESCRIPTION:Open for children between 5 and 11 years (MUST BE ACCOMOANIED 
 BY AN ADULT)\n\nSinging\, crafts\, storytelling\, arts and an light tea!
GEO:0.188848;51.471907
LOCATION:Slade Green: St Augustine
URL:https://www.achurchnearyou.com/church/9842/service-and-events/events/7
 69911/
END:VEVENT
BEGIN:VEVENT
SUMMARY:Messy Church
DTSTART;TZID=Europe/London:20260709T151500
DTEND;TZID=Europe/London:20260709T170000
DTSTAMP:20260423T021031Z
UID:7699112026-07-09 15:15:00+01:00achurchnearyou
CATEGORIES:
DESCRIPTION:Open for children between 5 and 11 years (MUST BE ACCOMOANIED 
 BY AN ADULT)\n\nSinging\, crafts\, storytelling\, arts and an light tea!
GEO:0.188848;51.471907
LOCATION:Slade Green: St Augustine
URL:https://www.achurchnearyou.com/church/9842/service-and-events/events/7
 69911/
END:VEVENT
BEGIN:VEVENT
SUMMARY:Messy Church
DTSTART;TZID=Europe/London:20260813T151500
DTEND;TZID=Europe/London:20260813T170000
DTSTAMP:20260423T021031Z
UID:7699112026-08-13 15:15:00+01:00achurchnearyou
CATEGORIES:
DESCRIPTION:Open for children between 5 and 11 years (MUST BE ACCOMOANIED 
 BY AN ADULT)\n\nSinging\, crafts\, storytelling\, arts and an light tea!
GEO:0.188848;51.471907
LOCATION:Slade Green: St Augustine
URL:https://www.achurchnearyou.com/church/9842/service-and-events/events/7
 69911/
END:VEVENT
BEGIN:VEVENT
SUMMARY:Messy Church
DTSTART;TZID=Europe/London:20260910T151500
DTEND;TZID=Europe/London:20260910T170000
DTSTAMP:20260423T021031Z
UID:7699112026-09-10 15:15:00+01:00achurchnearyou
CATEGORIES:
DESCRIPTION:Open for children between 5 and 11 years (MUST BE ACCOMOANIED 
 BY AN ADULT)\n\nSinging\, crafts\, storytelling\, arts and an light tea!
GEO:0.188848;51.471907
LOCATION:Slade Green: St Augustine
URL:https://www.achurchnearyou.com/church/9842/service-and-events/events/7
 69911/
END:VEVENT
BEGIN:VEVENT
SUMMARY:Messy Church
DTSTART;TZID=Europe/London:20261008T151500
DTEND;TZID=Europe/London:20261008T170000
DTSTAMP:20260423T021031Z
UID:7699112026-10-08 15:15:00+01:00achurchnearyou
CATEGORIES:
DESCRIPTION:Open for children between 5 and 11 years (MUST BE ACCOMOANIED 
 BY AN ADULT)\n\nSinging\, crafts\, storytelling\, arts and an light tea!
GEO:0.188848;51.471907
LOCATION:Slade Green: St Augustine
URL:https://www.achurchnearyou.com/church/9842/service-and-events/events/7
 69911/
END:VEVENT
BEGIN:VEVENT
SUMMARY:Messy Church
DTSTART;TZID=Europe/London:20261112T151500
DTEND;TZID=Europe/London:20261112T170000
DTSTAMP:20260423T021031Z
UID:7699112026-11-12 15:15:00+00:00achurchnearyou
CATEGORIES:
DESCRIPTION:Open for children between 5 and 11 years (MUST BE ACCOMOANIED 
 BY AN ADULT)\n\nSinging\, crafts\, storytelling\, arts and an light tea!
GEO:0.188848;51.471907
LOCATION:Slade Green: St Augustine
URL:https://www.achurchnearyou.com/church/9842/service-and-events/events/7
 69911/
END:VEVENT
BEGIN:VEVENT
SUMMARY:Messy Church
DTSTART;TZID=Europe/London:20261210T151500
DTEND;TZID=Europe/London:20261210T170000
DTSTAMP:20260423T021031Z
UID:7699112026-12-10 15:15:00+00:00achurchnearyou
CATEGORIES:
DESCRIPTION:Open for children between 5 and 11 years (MUST BE ACCOMOANIED 
 BY AN ADULT)\n\nSinging\, crafts\, storytelling\, arts and an light tea!
GEO:0.188848;51.471907
LOCATION:Slade Green: St Augustine
URL:https://www.achurchnearyou.com/church/9842/service-and-events/events/7
 69911/
END:VEVENT
BEGIN:VEVENT
SUMMARY:Messy Church
DTSTART;TZID=Europe/London:20270114T151500
DTEND;TZID=Europe/London:20270114T170000
DTSTAMP:20260423T021031Z
UID:7699112027-01-14 15:15:00+00:00achurchnearyou
CATEGORIES:
DESCRIPTION:Open for children between 5 and 11 years (MUST BE ACCOMOANIED 
 BY AN ADULT)\n\nSinging\, crafts\, storytelling\, arts and an light tea!
GEO:0.188848;51.471907
LOCATION:Slade Green: St Augustine
URL:https://www.achurchnearyou.com/church/9842/service-and-events/events/7
 69911/
END:VEVENT
BEGIN:VEVENT
SUMMARY:Messy Church
DTSTART;TZID=Europe/London:20270211T151500
DTEND;TZID=Europe/London:20270211T170000
DTSTAMP:20260423T021031Z
UID:7699112027-02-11 15:15:00+00:00achurchnearyou
CATEGORIES:
DESCRIPTION:Open for children between 5 and 11 years (MUST BE ACCOMOANIED 
 BY AN ADULT)\n\nSinging\, crafts\, storytelling\, arts and an light tea!
GEO:0.188848;51.471907
LOCATION:Slade Green: St Augustine
URL:https://www.achurchnearyou.com/church/9842/service-and-events/events/7
 69911/
END:VEVENT
BEGIN:VEVENT
SUMMARY:Messy Church
DTSTART;TZID=Europe/London:20270311T151500
DTEND;TZID=Europe/London:20270311T170000
DTSTAMP:20260423T021031Z
UID:7699112027-03-11 15:15:00+00:00achurchnearyou
CATEGORIES:
DESCRIPTION:Open for children between 5 and 11 years (MUST BE ACCOMOANIED 
 BY AN ADULT)\n\nSinging\, crafts\, storytelling\, arts and an light tea!
GEO:0.188848;51.471907
LOCATION:Slade Green: St Augustine
URL:https://www.achurchnearyou.com/church/9842/service-and-events/events/7
 69911/
END:VEVENT
BEGIN:VEVENT
SUMMARY:Messy Church
DTSTART;TZID=Europe/London:20270408T151500
DTEND;TZID=Europe/London:20270408T170000
DTSTAMP:20260423T021031Z
UID:7699112027-04-08 15:15:00+01:00achurchnearyou
CATEGORIES:
DESCRIPTION:Open for children between 5 and 11 years (MUST BE ACCOMOANIED 
 BY AN ADULT)\n\nSinging\, crafts\, storytelling\, arts and an light tea!
GEO:0.188848;51.471907
LOCATION:Slade Green: St Augustine
URL:https://www.achurchnearyou.com/church/9842/service-and-events/events/7
 69911/
END:VEVENT
END:VCALENDAR
