BEGIN:VCALENDAR
VERSION:2.0
PRODID:-//achurchnearyou.com//eventfeed//EN
CALSCALE:GREGORIAN
METHOD:PUBLISH
X-WR-TIMEZONE:UTC
BEGIN:VEVENT
SUMMARY:Concert: The Aliara Duo presented by 'Worlds End Music'
DTSTART:20250327T190000Z
DTEND:20250327T213000Z
DTSTAMP:20260425T122831Z
UID:11661572025-03-27 19:00:00+00:00achurchnearyou
CATEGORIES:
DESCRIPTION:Flute and Harp concert.  Tickets £10 children free - In St.Ma
 rtins Church Chelsfield
GEO:0.123804;51.355925
LOCATION:Chelsfield: St Martin of Tours
URL:https://www.achurchnearyou.com/church/9845/service-and-events/events/1
 166157/
END:VEVENT
END:VCALENDAR
