BEGIN:VCALENDAR
VERSION:2.0
PRODID:-//achurchnearyou.com//eventfeed//EN
CALSCALE:GREGORIAN
METHOD:PUBLISH
X-WR-TIMEZONE:UTC
BEGIN:VEVENT
SUMMARY:Sung Eucharist followed by the Rededication and Blessing of the Sp
 ire
DTSTART:20251207T183000Z
DTEND:20251207T200000Z
DTSTAMP:20260424T071243Z
UID:12581232025-12-07 18:30:00+00:00achurchnearyou
CATEGORIES:
DESCRIPTION:A Sunday Evening Communion Service using Common Worship Order 
 1\, with a robed choir leading the singing of the service by all.  Immedia
 tely after the service the spire will be rededicated and blessed following
  the major repair works this summer.
LOCATION:Chelsfield: St Martin of Tours
URL:https://www.youtube.com/channel/UCfQ1cMCAb46XDMWAyMYRD0A
END:VEVENT
END:VCALENDAR
