BEGIN:VCALENDAR
VERSION:2.0
PRODID:-//achurchnearyou.com//eventfeed//EN
CALSCALE:GREGORIAN
METHOD:PUBLISH
X-WR-TIMEZONE:UTC
BEGIN:VEVENT
SUMMARY:Morning Worship
DTSTART;TZID=Europe/London:20200726T100000
DTEND;TZID=Europe/London:20200726T104500
DTSTAMP:20260424T055722Z
UID:12780302020-07-26 10:00:00+01:00achurchnearyou
CATEGORIES:
DESCRIPTION:A Common Worship Service of the Word  - with hymns.
LOCATION:Chelsfield: St Martin of Tours
URL:http://www.stmartinchelsfield.org.uk
END:VEVENT
BEGIN:VEVENT
SUMMARY:Morning Worship
DTSTART;TZID=Europe/London:20200823T100000
DTEND;TZID=Europe/London:20200823T104500
DTSTAMP:20260424T055722Z
UID:12780302020-08-23 10:00:00+01:00achurchnearyou
CATEGORIES:
DESCRIPTION:A Common Worship Service of the Word  - with hymns.
LOCATION:Chelsfield: St Martin of Tours
URL:http://www.stmartinchelsfield.org.uk
END:VEVENT
BEGIN:VEVENT
SUMMARY:Morning Worship
DTSTART;TZID=Europe/London:20200927T100000
DTEND;TZID=Europe/London:20200927T104500
DTSTAMP:20260424T055722Z
UID:12780302020-09-27 10:00:00+01:00achurchnearyou
CATEGORIES:
DESCRIPTION:A Common Worship Service of the Word  - with hymns.
LOCATION:Chelsfield: St Martin of Tours
URL:http://www.stmartinchelsfield.org.uk
END:VEVENT
BEGIN:VEVENT
SUMMARY:Morning Worship
DTSTART;TZID=Europe/London:20201025T100000
DTEND;TZID=Europe/London:20201025T104500
DTSTAMP:20260424T055722Z
UID:12780302020-10-25 10:00:00+00:00achurchnearyou
CATEGORIES:
DESCRIPTION:A Common Worship Service of the Word  - with hymns.
LOCATION:Chelsfield: St Martin of Tours
URL:http://www.stmartinchelsfield.org.uk
END:VEVENT
BEGIN:VEVENT
SUMMARY:Morning Worship
DTSTART;TZID=Europe/London:20201122T100000
DTEND;TZID=Europe/London:20201122T104500
DTSTAMP:20260424T055722Z
UID:12780302020-11-22 10:00:00+00:00achurchnearyou
CATEGORIES:
DESCRIPTION:A Common Worship Service of the Word  - with hymns.
LOCATION:Chelsfield: St Martin of Tours
URL:http://www.stmartinchelsfield.org.uk
END:VEVENT
BEGIN:VEVENT
SUMMARY:Morning Worship
DTSTART;TZID=Europe/London:20201227T100000
DTEND;TZID=Europe/London:20201227T104500
DTSTAMP:20260424T055722Z
UID:12780302020-12-27 10:00:00+00:00achurchnearyou
CATEGORIES:
DESCRIPTION:A Common Worship Service of the Word  - with hymns.
LOCATION:Chelsfield: St Martin of Tours
URL:http://www.stmartinchelsfield.org.uk
END:VEVENT
BEGIN:VEVENT
SUMMARY:Morning Worship
DTSTART;TZID=Europe/London:20210124T100000
DTEND;TZID=Europe/London:20210124T104500
DTSTAMP:20260424T055722Z
UID:12780302021-01-24 10:00:00+00:00achurchnearyou
CATEGORIES:
DESCRIPTION:A Common Worship Service of the Word  - with hymns.
LOCATION:Chelsfield: St Martin of Tours
URL:http://www.stmartinchelsfield.org.uk
END:VEVENT
BEGIN:VEVENT
SUMMARY:Morning Worship
DTSTART;TZID=Europe/London:20210228T100000
DTEND;TZID=Europe/London:20210228T104500
DTSTAMP:20260424T055722Z
UID:12780302021-02-28 10:00:00+00:00achurchnearyou
CATEGORIES:
DESCRIPTION:A Common Worship Service of the Word  - with hymns.
LOCATION:Chelsfield: St Martin of Tours
URL:http://www.stmartinchelsfield.org.uk
END:VEVENT
BEGIN:VEVENT
SUMMARY:Morning Worship
DTSTART;TZID=Europe/London:20210328T100000
DTEND;TZID=Europe/London:20210328T104500
DTSTAMP:20260424T055722Z
UID:12780302021-03-28 10:00:00+01:00achurchnearyou
CATEGORIES:
DESCRIPTION:A Common Worship Service of the Word  - with hymns.
LOCATION:Chelsfield: St Martin of Tours
URL:http://www.stmartinchelsfield.org.uk
END:VEVENT
BEGIN:VEVENT
SUMMARY:Morning Worship
DTSTART;TZID=Europe/London:20210425T100000
DTEND;TZID=Europe/London:20210425T104500
DTSTAMP:20260424T055722Z
UID:12780302021-04-25 10:00:00+01:00achurchnearyou
CATEGORIES:
DESCRIPTION:A Common Worship Service of the Word  - with hymns.
LOCATION:Chelsfield: St Martin of Tours
URL:http://www.stmartinchelsfield.org.uk
END:VEVENT
BEGIN:VEVENT
SUMMARY:Morning Worship
DTSTART;TZID=Europe/London:20210523T100000
DTEND;TZID=Europe/London:20210523T104500
DTSTAMP:20260424T055722Z
UID:12780302021-05-23 10:00:00+01:00achurchnearyou
CATEGORIES:
DESCRIPTION:A Common Worship Service of the Word  - with hymns.
LOCATION:Chelsfield: St Martin of Tours
URL:http://www.stmartinchelsfield.org.uk
END:VEVENT
BEGIN:VEVENT
SUMMARY:Morning Worship
DTSTART;TZID=Europe/London:20210627T100000
DTEND;TZID=Europe/London:20210627T104500
DTSTAMP:20260424T055722Z
UID:12780302021-06-27 10:00:00+01:00achurchnearyou
CATEGORIES:
DESCRIPTION:A Common Worship Service of the Word  - with hymns.
LOCATION:Chelsfield: St Martin of Tours
URL:http://www.stmartinchelsfield.org.uk
END:VEVENT
BEGIN:VEVENT
SUMMARY:Morning Worship
DTSTART;TZID=Europe/London:20210725T100000
DTEND;TZID=Europe/London:20210725T104500
DTSTAMP:20260424T055722Z
UID:12780302021-07-25 10:00:00+01:00achurchnearyou
CATEGORIES:
DESCRIPTION:A Common Worship Service of the Word  - with hymns.
LOCATION:Chelsfield: St Martin of Tours
URL:http://www.stmartinchelsfield.org.uk
END:VEVENT
BEGIN:VEVENT
SUMMARY:Morning Worship
DTSTART;TZID=Europe/London:20210822T100000
DTEND;TZID=Europe/London:20210822T104500
DTSTAMP:20260424T055722Z
UID:12780302021-08-22 10:00:00+01:00achurchnearyou
CATEGORIES:
DESCRIPTION:A Common Worship Service of the Word  - with hymns.
LOCATION:Chelsfield: St Martin of Tours
URL:http://www.stmartinchelsfield.org.uk
END:VEVENT
BEGIN:VEVENT
SUMMARY:Morning Worship
DTSTART;TZID=Europe/London:20210926T100000
DTEND;TZID=Europe/London:20210926T104500
DTSTAMP:20260424T055722Z
UID:12780302021-09-26 10:00:00+01:00achurchnearyou
CATEGORIES:
DESCRIPTION:A Common Worship Service of the Word  - with hymns.
LOCATION:Chelsfield: St Martin of Tours
URL:http://www.stmartinchelsfield.org.uk
END:VEVENT
BEGIN:VEVENT
SUMMARY:Morning Worship
DTSTART;TZID=Europe/London:20211024T100000
DTEND;TZID=Europe/London:20211024T104500
DTSTAMP:20260424T055722Z
UID:12780302021-10-24 10:00:00+01:00achurchnearyou
CATEGORIES:
DESCRIPTION:A Common Worship Service of the Word  - with hymns.
LOCATION:Chelsfield: St Martin of Tours
URL:http://www.stmartinchelsfield.org.uk
END:VEVENT
BEGIN:VEVENT
SUMMARY:Morning Worship
DTSTART;TZID=Europe/London:20211128T100000
DTEND;TZID=Europe/London:20211128T104500
DTSTAMP:20260424T055722Z
UID:12780302021-11-28 10:00:00+00:00achurchnearyou
CATEGORIES:
DESCRIPTION:A Common Worship Service of the Word  - with hymns.
LOCATION:Chelsfield: St Martin of Tours
URL:http://www.stmartinchelsfield.org.uk
END:VEVENT
BEGIN:VEVENT
SUMMARY:Morning Worship
DTSTART;TZID=Europe/London:20211226T100000
DTEND;TZID=Europe/London:20211226T104500
DTSTAMP:20260424T055722Z
UID:12780302021-12-26 10:00:00+00:00achurchnearyou
CATEGORIES:
DESCRIPTION:A Common Worship Service of the Word  - with hymns.
LOCATION:Chelsfield: St Martin of Tours
URL:http://www.stmartinchelsfield.org.uk
END:VEVENT
BEGIN:VEVENT
SUMMARY:Morning Worship
DTSTART;TZID=Europe/London:20220123T100000
DTEND;TZID=Europe/London:20220123T104500
DTSTAMP:20260424T055722Z
UID:12780302022-01-23 10:00:00+00:00achurchnearyou
CATEGORIES:
DESCRIPTION:A Common Worship Service of the Word  - with hymns.
LOCATION:Chelsfield: St Martin of Tours
URL:http://www.stmartinchelsfield.org.uk
END:VEVENT
BEGIN:VEVENT
SUMMARY:Morning Worship
DTSTART;TZID=Europe/London:20220227T100000
DTEND;TZID=Europe/London:20220227T104500
DTSTAMP:20260424T055722Z
UID:12780302022-02-27 10:00:00+00:00achurchnearyou
CATEGORIES:
DESCRIPTION:A Common Worship Service of the Word  - with hymns.
LOCATION:Chelsfield: St Martin of Tours
URL:http://www.stmartinchelsfield.org.uk
END:VEVENT
BEGIN:VEVENT
SUMMARY:Morning Worship
DTSTART;TZID=Europe/London:20220327T100000
DTEND;TZID=Europe/London:20220327T104500
DTSTAMP:20260424T055722Z
UID:12780302022-03-27 10:00:00+01:00achurchnearyou
CATEGORIES:
DESCRIPTION:A Common Worship Service of the Word  - with hymns.
LOCATION:Chelsfield: St Martin of Tours
URL:http://www.stmartinchelsfield.org.uk
END:VEVENT
BEGIN:VEVENT
SUMMARY:Morning Worship
DTSTART;TZID=Europe/London:20220424T100000
DTEND;TZID=Europe/London:20220424T104500
DTSTAMP:20260424T055722Z
UID:12780302022-04-24 10:00:00+01:00achurchnearyou
CATEGORIES:
DESCRIPTION:A Common Worship Service of the Word  - with hymns.
LOCATION:Chelsfield: St Martin of Tours
URL:http://www.stmartinchelsfield.org.uk
END:VEVENT
BEGIN:VEVENT
SUMMARY:Morning Worship
DTSTART;TZID=Europe/London:20220522T100000
DTEND;TZID=Europe/London:20220522T104500
DTSTAMP:20260424T055722Z
UID:12780302022-05-22 10:00:00+01:00achurchnearyou
CATEGORIES:
DESCRIPTION:A Common Worship Service of the Word  - with hymns.
LOCATION:Chelsfield: St Martin of Tours
URL:http://www.stmartinchelsfield.org.uk
END:VEVENT
BEGIN:VEVENT
SUMMARY:Morning Worship
DTSTART;TZID=Europe/London:20220626T100000
DTEND;TZID=Europe/London:20220626T104500
DTSTAMP:20260424T055722Z
UID:12780302022-06-26 10:00:00+01:00achurchnearyou
CATEGORIES:
DESCRIPTION:A Common Worship Service of the Word  - with hymns.
LOCATION:Chelsfield: St Martin of Tours
URL:http://www.stmartinchelsfield.org.uk
END:VEVENT
BEGIN:VEVENT
SUMMARY:Morning Worship
DTSTART;TZID=Europe/London:20220724T100000
DTEND;TZID=Europe/London:20220724T104500
DTSTAMP:20260424T055722Z
UID:12780302022-07-24 10:00:00+01:00achurchnearyou
CATEGORIES:
DESCRIPTION:A Common Worship Service of the Word  - with hymns.
LOCATION:Chelsfield: St Martin of Tours
URL:http://www.stmartinchelsfield.org.uk
END:VEVENT
BEGIN:VEVENT
SUMMARY:Morning Worship
DTSTART;TZID=Europe/London:20220828T100000
DTEND;TZID=Europe/London:20220828T104500
DTSTAMP:20260424T055722Z
UID:12780302022-08-28 10:00:00+01:00achurchnearyou
CATEGORIES:
DESCRIPTION:A Common Worship Service of the Word  - with hymns.
LOCATION:Chelsfield: St Martin of Tours
URL:http://www.stmartinchelsfield.org.uk
END:VEVENT
BEGIN:VEVENT
SUMMARY:Morning Worship
DTSTART;TZID=Europe/London:20220925T100000
DTEND;TZID=Europe/London:20220925T104500
DTSTAMP:20260424T055722Z
UID:12780302022-09-25 10:00:00+01:00achurchnearyou
CATEGORIES:
DESCRIPTION:A Common Worship Service of the Word  - with hymns.
LOCATION:Chelsfield: St Martin of Tours
URL:http://www.stmartinchelsfield.org.uk
END:VEVENT
BEGIN:VEVENT
SUMMARY:Morning Worship
DTSTART;TZID=Europe/London:20221023T100000
DTEND;TZID=Europe/London:20221023T104500
DTSTAMP:20260424T055722Z
UID:12780302022-10-23 10:00:00+01:00achurchnearyou
CATEGORIES:
DESCRIPTION:A Common Worship Service of the Word  - with hymns.
LOCATION:Chelsfield: St Martin of Tours
URL:http://www.stmartinchelsfield.org.uk
END:VEVENT
BEGIN:VEVENT
SUMMARY:Morning Worship
DTSTART;TZID=Europe/London:20221127T100000
DTEND;TZID=Europe/London:20221127T104500
DTSTAMP:20260424T055722Z
UID:12780302022-11-27 10:00:00+00:00achurchnearyou
CATEGORIES:
DESCRIPTION:A Common Worship Service of the Word  - with hymns.
LOCATION:Chelsfield: St Martin of Tours
URL:http://www.stmartinchelsfield.org.uk
END:VEVENT
BEGIN:VEVENT
SUMMARY:Morning Worship
DTSTART;TZID=Europe/London:20221225T100000
DTEND;TZID=Europe/London:20221225T104500
DTSTAMP:20260424T055722Z
UID:12780302022-12-25 10:00:00+00:00achurchnearyou
CATEGORIES:
DESCRIPTION:A Common Worship Service of the Word  - with hymns.
LOCATION:Chelsfield: St Martin of Tours
URL:http://www.stmartinchelsfield.org.uk
END:VEVENT
BEGIN:VEVENT
SUMMARY:Morning Worship
DTSTART;TZID=Europe/London:20230122T100000
DTEND;TZID=Europe/London:20230122T104500
DTSTAMP:20260424T055722Z
UID:12780302023-01-22 10:00:00+00:00achurchnearyou
CATEGORIES:
DESCRIPTION:A Common Worship Service of the Word  - with hymns.
LOCATION:Chelsfield: St Martin of Tours
URL:http://www.stmartinchelsfield.org.uk
END:VEVENT
BEGIN:VEVENT
SUMMARY:Morning Worship
DTSTART;TZID=Europe/London:20230226T100000
DTEND;TZID=Europe/London:20230226T104500
DTSTAMP:20260424T055722Z
UID:12780302023-02-26 10:00:00+00:00achurchnearyou
CATEGORIES:
DESCRIPTION:A Common Worship Service of the Word  - with hymns.
LOCATION:Chelsfield: St Martin of Tours
URL:http://www.stmartinchelsfield.org.uk
END:VEVENT
BEGIN:VEVENT
SUMMARY:Morning Worship
DTSTART;TZID=Europe/London:20230326T100000
DTEND;TZID=Europe/London:20230326T104500
DTSTAMP:20260424T055722Z
UID:12780302023-03-26 10:00:00+01:00achurchnearyou
CATEGORIES:
DESCRIPTION:A Common Worship Service of the Word  - with hymns.
LOCATION:Chelsfield: St Martin of Tours
URL:http://www.stmartinchelsfield.org.uk
END:VEVENT
BEGIN:VEVENT
SUMMARY:Morning Worship
DTSTART;TZID=Europe/London:20230423T100000
DTEND;TZID=Europe/London:20230423T104500
DTSTAMP:20260424T055722Z
UID:12780302023-04-23 10:00:00+01:00achurchnearyou
CATEGORIES:
DESCRIPTION:A Common Worship Service of the Word  - with hymns.
LOCATION:Chelsfield: St Martin of Tours
URL:http://www.stmartinchelsfield.org.uk
END:VEVENT
BEGIN:VEVENT
SUMMARY:Morning Worship
DTSTART;TZID=Europe/London:20230528T100000
DTEND;TZID=Europe/London:20230528T104500
DTSTAMP:20260424T055722Z
UID:12780302023-05-28 10:00:00+01:00achurchnearyou
CATEGORIES:
DESCRIPTION:A Common Worship Service of the Word  - with hymns.
LOCATION:Chelsfield: St Martin of Tours
URL:http://www.stmartinchelsfield.org.uk
END:VEVENT
BEGIN:VEVENT
SUMMARY:Morning Worship
DTSTART;TZID=Europe/London:20230625T100000
DTEND;TZID=Europe/London:20230625T104500
DTSTAMP:20260424T055722Z
UID:12780302023-06-25 10:00:00+01:00achurchnearyou
CATEGORIES:
DESCRIPTION:A Common Worship Service of the Word  - with hymns.
LOCATION:Chelsfield: St Martin of Tours
URL:http://www.stmartinchelsfield.org.uk
END:VEVENT
BEGIN:VEVENT
SUMMARY:Morning Worship
DTSTART;TZID=Europe/London:20230723T100000
DTEND;TZID=Europe/London:20230723T104500
DTSTAMP:20260424T055722Z
UID:12780302023-07-23 10:00:00+01:00achurchnearyou
CATEGORIES:
DESCRIPTION:A Common Worship Service of the Word  - with hymns.
LOCATION:Chelsfield: St Martin of Tours
URL:http://www.stmartinchelsfield.org.uk
END:VEVENT
BEGIN:VEVENT
SUMMARY:Morning Worship
DTSTART;TZID=Europe/London:20230827T100000
DTEND;TZID=Europe/London:20230827T104500
DTSTAMP:20260424T055722Z
UID:12780302023-08-27 10:00:00+01:00achurchnearyou
CATEGORIES:
DESCRIPTION:A Common Worship Service of the Word  - with hymns.
LOCATION:Chelsfield: St Martin of Tours
URL:http://www.stmartinchelsfield.org.uk
END:VEVENT
BEGIN:VEVENT
SUMMARY:Morning Worship
DTSTART;TZID=Europe/London:20230924T100000
DTEND;TZID=Europe/London:20230924T104500
DTSTAMP:20260424T055722Z
UID:12780302023-09-24 10:00:00+01:00achurchnearyou
CATEGORIES:
DESCRIPTION:A Common Worship Service of the Word  - with hymns.
LOCATION:Chelsfield: St Martin of Tours
URL:http://www.stmartinchelsfield.org.uk
END:VEVENT
BEGIN:VEVENT
SUMMARY:Morning Worship
DTSTART;TZID=Europe/London:20231022T100000
DTEND;TZID=Europe/London:20231022T104500
DTSTAMP:20260424T055722Z
UID:12780302023-10-22 10:00:00+01:00achurchnearyou
CATEGORIES:
DESCRIPTION:A Common Worship Service of the Word  - with hymns.
LOCATION:Chelsfield: St Martin of Tours
URL:http://www.stmartinchelsfield.org.uk
END:VEVENT
BEGIN:VEVENT
SUMMARY:Morning Worship
DTSTART;TZID=Europe/London:20231126T100000
DTEND;TZID=Europe/London:20231126T104500
DTSTAMP:20260424T055722Z
UID:12780302023-11-26 10:00:00+00:00achurchnearyou
CATEGORIES:
DESCRIPTION:A Common Worship Service of the Word  - with hymns.
LOCATION:Chelsfield: St Martin of Tours
URL:http://www.stmartinchelsfield.org.uk
END:VEVENT
BEGIN:VEVENT
SUMMARY:Morning Worship
DTSTART;TZID=Europe/London:20231224T100000
DTEND;TZID=Europe/London:20231224T104500
DTSTAMP:20260424T055722Z
UID:12780302023-12-24 10:00:00+00:00achurchnearyou
CATEGORIES:
DESCRIPTION:A Common Worship Service of the Word  - with hymns.
LOCATION:Chelsfield: St Martin of Tours
URL:http://www.stmartinchelsfield.org.uk
END:VEVENT
BEGIN:VEVENT
SUMMARY:Morning Worship
DTSTART;TZID=Europe/London:20240128T100000
DTEND;TZID=Europe/London:20240128T104500
DTSTAMP:20260424T055722Z
UID:12780302024-01-28 10:00:00+00:00achurchnearyou
CATEGORIES:
DESCRIPTION:A Common Worship Service of the Word  - with hymns.
LOCATION:Chelsfield: St Martin of Tours
URL:http://www.stmartinchelsfield.org.uk
END:VEVENT
BEGIN:VEVENT
SUMMARY:Morning Worship
DTSTART;TZID=Europe/London:20240225T100000
DTEND;TZID=Europe/London:20240225T104500
DTSTAMP:20260424T055722Z
UID:12780302024-02-25 10:00:00+00:00achurchnearyou
CATEGORIES:
DESCRIPTION:A Common Worship Service of the Word  - with hymns.
LOCATION:Chelsfield: St Martin of Tours
URL:http://www.stmartinchelsfield.org.uk
END:VEVENT
BEGIN:VEVENT
SUMMARY:Morning Worship
DTSTART;TZID=Europe/London:20240324T100000
DTEND;TZID=Europe/London:20240324T104500
DTSTAMP:20260424T055722Z
UID:12780302024-03-24 10:00:00+00:00achurchnearyou
CATEGORIES:
DESCRIPTION:A Common Worship Service of the Word  - with hymns.
LOCATION:Chelsfield: St Martin of Tours
URL:http://www.stmartinchelsfield.org.uk
END:VEVENT
BEGIN:VEVENT
SUMMARY:Morning Worship
DTSTART;TZID=Europe/London:20240428T100000
DTEND;TZID=Europe/London:20240428T104500
DTSTAMP:20260424T055722Z
UID:12780302024-04-28 10:00:00+01:00achurchnearyou
CATEGORIES:
DESCRIPTION:A Common Worship Service of the Word  - with hymns.
LOCATION:Chelsfield: St Martin of Tours
URL:http://www.stmartinchelsfield.org.uk
END:VEVENT
BEGIN:VEVENT
SUMMARY:Morning Worship
DTSTART;TZID=Europe/London:20240526T100000
DTEND;TZID=Europe/London:20240526T104500
DTSTAMP:20260424T055722Z
UID:12780302024-05-26 10:00:00+01:00achurchnearyou
CATEGORIES:
DESCRIPTION:A Common Worship Service of the Word  - with hymns.
LOCATION:Chelsfield: St Martin of Tours
URL:http://www.stmartinchelsfield.org.uk
END:VEVENT
BEGIN:VEVENT
SUMMARY:Morning Worship
DTSTART;TZID=Europe/London:20240623T100000
DTEND;TZID=Europe/London:20240623T104500
DTSTAMP:20260424T055722Z
UID:12780302024-06-23 10:00:00+01:00achurchnearyou
CATEGORIES:
DESCRIPTION:A Common Worship Service of the Word  - with hymns.
LOCATION:Chelsfield: St Martin of Tours
URL:http://www.stmartinchelsfield.org.uk
END:VEVENT
BEGIN:VEVENT
SUMMARY:Morning Worship
DTSTART;TZID=Europe/London:20240728T100000
DTEND;TZID=Europe/London:20240728T104500
DTSTAMP:20260424T055722Z
UID:12780302024-07-28 10:00:00+01:00achurchnearyou
CATEGORIES:
DESCRIPTION:A Common Worship Service of the Word  - with hymns.
LOCATION:Chelsfield: St Martin of Tours
URL:http://www.stmartinchelsfield.org.uk
END:VEVENT
BEGIN:VEVENT
SUMMARY:Morning Worship
DTSTART;TZID=Europe/London:20240825T100000
DTEND;TZID=Europe/London:20240825T104500
DTSTAMP:20260424T055722Z
UID:12780302024-08-25 10:00:00+01:00achurchnearyou
CATEGORIES:
DESCRIPTION:A Common Worship Service of the Word  - with hymns.
LOCATION:Chelsfield: St Martin of Tours
URL:http://www.stmartinchelsfield.org.uk
END:VEVENT
BEGIN:VEVENT
SUMMARY:Morning Worship
DTSTART;TZID=Europe/London:20240922T100000
DTEND;TZID=Europe/London:20240922T104500
DTSTAMP:20260424T055722Z
UID:12780302024-09-22 10:00:00+01:00achurchnearyou
CATEGORIES:
DESCRIPTION:A Common Worship Service of the Word  - with hymns.
LOCATION:Chelsfield: St Martin of Tours
URL:http://www.stmartinchelsfield.org.uk
END:VEVENT
BEGIN:VEVENT
SUMMARY:Morning Worship
DTSTART;TZID=Europe/London:20241027T100000
DTEND;TZID=Europe/London:20241027T104500
DTSTAMP:20260424T055722Z
UID:12780302024-10-27 10:00:00+00:00achurchnearyou
CATEGORIES:
DESCRIPTION:A Common Worship Service of the Word  - with hymns.
LOCATION:Chelsfield: St Martin of Tours
URL:http://www.stmartinchelsfield.org.uk
END:VEVENT
BEGIN:VEVENT
SUMMARY:Morning Worship
DTSTART;TZID=Europe/London:20241124T100000
DTEND;TZID=Europe/London:20241124T104500
DTSTAMP:20260424T055722Z
UID:12780302024-11-24 10:00:00+00:00achurchnearyou
CATEGORIES:
DESCRIPTION:A Common Worship Service of the Word  - with hymns.
LOCATION:Chelsfield: St Martin of Tours
URL:http://www.stmartinchelsfield.org.uk
END:VEVENT
BEGIN:VEVENT
SUMMARY:Morning Worship
DTSTART;TZID=Europe/London:20241222T100000
DTEND;TZID=Europe/London:20241222T104500
DTSTAMP:20260424T055722Z
UID:12780302024-12-22 10:00:00+00:00achurchnearyou
CATEGORIES:
DESCRIPTION:A Common Worship Service of the Word  - with hymns.
LOCATION:Chelsfield: St Martin of Tours
URL:http://www.stmartinchelsfield.org.uk
END:VEVENT
BEGIN:VEVENT
SUMMARY:Morning Worship
DTSTART;TZID=Europe/London:20250126T100000
DTEND;TZID=Europe/London:20250126T104500
DTSTAMP:20260424T055722Z
UID:12780302025-01-26 10:00:00+00:00achurchnearyou
CATEGORIES:
DESCRIPTION:A Common Worship Service of the Word  - with hymns.
LOCATION:Chelsfield: St Martin of Tours
URL:http://www.stmartinchelsfield.org.uk
END:VEVENT
BEGIN:VEVENT
SUMMARY:Morning Worship
DTSTART;TZID=Europe/London:20250223T100000
DTEND;TZID=Europe/London:20250223T104500
DTSTAMP:20260424T055722Z
UID:12780302025-02-23 10:00:00+00:00achurchnearyou
CATEGORIES:
DESCRIPTION:A Common Worship Service of the Word  - with hymns.
LOCATION:Chelsfield: St Martin of Tours
URL:http://www.stmartinchelsfield.org.uk
END:VEVENT
BEGIN:VEVENT
SUMMARY:Morning Worship
DTSTART;TZID=Europe/London:20250323T100000
DTEND;TZID=Europe/London:20250323T104500
DTSTAMP:20260424T055722Z
UID:12780302025-03-23 10:00:00+00:00achurchnearyou
CATEGORIES:
DESCRIPTION:A Common Worship Service of the Word  - with hymns.
LOCATION:Chelsfield: St Martin of Tours
URL:http://www.stmartinchelsfield.org.uk
END:VEVENT
BEGIN:VEVENT
SUMMARY:Morning Worship
DTSTART;TZID=Europe/London:20250427T100000
DTEND;TZID=Europe/London:20250427T104500
DTSTAMP:20260424T055722Z
UID:12780302025-04-27 10:00:00+01:00achurchnearyou
CATEGORIES:
DESCRIPTION:A Common Worship Service of the Word  - with hymns.
LOCATION:Chelsfield: St Martin of Tours
URL:http://www.stmartinchelsfield.org.uk
END:VEVENT
BEGIN:VEVENT
SUMMARY:Morning Worship
DTSTART;TZID=Europe/London:20250525T100000
DTEND;TZID=Europe/London:20250525T104500
DTSTAMP:20260424T055722Z
UID:12780302025-05-25 10:00:00+01:00achurchnearyou
CATEGORIES:
DESCRIPTION:A Common Worship Service of the Word  - with hymns.
LOCATION:Chelsfield: St Martin of Tours
URL:http://www.stmartinchelsfield.org.uk
END:VEVENT
BEGIN:VEVENT
SUMMARY:Morning Worship
DTSTART;TZID=Europe/London:20250622T100000
DTEND;TZID=Europe/London:20250622T104500
DTSTAMP:20260424T055722Z
UID:12780302025-06-22 10:00:00+01:00achurchnearyou
CATEGORIES:
DESCRIPTION:A Common Worship Service of the Word  - with hymns.
LOCATION:Chelsfield: St Martin of Tours
URL:http://www.stmartinchelsfield.org.uk
END:VEVENT
BEGIN:VEVENT
SUMMARY:Morning Worship
DTSTART;TZID=Europe/London:20250727T100000
DTEND;TZID=Europe/London:20250727T104500
DTSTAMP:20260424T055722Z
UID:12780302025-07-27 10:00:00+01:00achurchnearyou
CATEGORIES:
DESCRIPTION:A Common Worship Service of the Word  - with hymns.
LOCATION:Chelsfield: St Martin of Tours
URL:http://www.stmartinchelsfield.org.uk
END:VEVENT
BEGIN:VEVENT
SUMMARY:Morning Worship
DTSTART;TZID=Europe/London:20250824T100000
DTEND;TZID=Europe/London:20250824T104500
DTSTAMP:20260424T055722Z
UID:12780302025-08-24 10:00:00+01:00achurchnearyou
CATEGORIES:
DESCRIPTION:A Common Worship Service of the Word  - with hymns.
LOCATION:Chelsfield: St Martin of Tours
URL:http://www.stmartinchelsfield.org.uk
END:VEVENT
BEGIN:VEVENT
SUMMARY:Morning Worship
DTSTART;TZID=Europe/London:20250928T100000
DTEND;TZID=Europe/London:20250928T104500
DTSTAMP:20260424T055722Z
UID:12780302025-09-28 10:00:00+01:00achurchnearyou
CATEGORIES:
DESCRIPTION:A Common Worship Service of the Word  - with hymns.
LOCATION:Chelsfield: St Martin of Tours
URL:http://www.stmartinchelsfield.org.uk
END:VEVENT
BEGIN:VEVENT
SUMMARY:Morning Worship
DTSTART;TZID=Europe/London:20251026T100000
DTEND;TZID=Europe/London:20251026T104500
DTSTAMP:20260424T055722Z
UID:12780302025-10-26 10:00:00+00:00achurchnearyou
CATEGORIES:
DESCRIPTION:A Common Worship Service of the Word  - with hymns.
LOCATION:Chelsfield: St Martin of Tours
URL:http://www.stmartinchelsfield.org.uk
END:VEVENT
BEGIN:VEVENT
SUMMARY:Morning Worship
DTSTART;TZID=Europe/London:20251123T100000
DTEND;TZID=Europe/London:20251123T104500
DTSTAMP:20260424T055722Z
UID:12780302025-11-23 10:00:00+00:00achurchnearyou
CATEGORIES:
DESCRIPTION:A Common Worship Service of the Word  - with hymns.
LOCATION:Chelsfield: St Martin of Tours
URL:http://www.stmartinchelsfield.org.uk
END:VEVENT
BEGIN:VEVENT
SUMMARY:Morning Worship
DTSTART;TZID=Europe/London:20251228T100000
DTEND;TZID=Europe/London:20251228T104500
DTSTAMP:20260424T055722Z
UID:12780302025-12-28 10:00:00+00:00achurchnearyou
CATEGORIES:
DESCRIPTION:A Common Worship Service of the Word  - with hymns.
LOCATION:Chelsfield: St Martin of Tours
URL:http://www.stmartinchelsfield.org.uk
END:VEVENT
END:VCALENDAR
