BEGIN:VCALENDAR
VERSION:2.0
PRODID:-//achurchnearyou.com//eventfeed//EN
CALSCALE:GREGORIAN
METHOD:PUBLISH
X-WR-TIMEZONE:UTC
BEGIN:VEVENT
SUMMARY:Messy Church
DTSTART:20250103T103000Z
DTEND:20250103T120000Z
DTSTAMP:20260419T235716Z
UID:11442122025-01-03 10:30:00+00:00achurchnearyou
CATEGORIES:
DESCRIPTION:Followed by a light buffet lunch.  Enjoy free art and craft ac
 tivities on the theme of Epiphany : the visit of the three kings and new b
 eginnings.  Don't forget to bring an adult or carer to supervise and to ha
 ve fun too!  Contact the parish office 01959 571515 for more details and t
 o book.
GEO:0.071511;51.319999
LOCATION:Cudham:St Peter & St Paul
URL:http://www.pcd.org.uk
END:VEVENT
END:VCALENDAR
