BEGIN:VCALENDAR
VERSION:2.0
PRODID:-//achurchnearyou.com//eventfeed//EN
CALSCALE:GREGORIAN
METHOD:PUBLISH
X-WR-TIMEZONE:UTC
BEGIN:VEVENT
SUMMARY:Evensong
DTSTART;TZID=Europe/London:20260531T160000
DTEND;TZID=Europe/London:20260531T170000
DTSTAMP:20260423T142706Z
UID:3282692026-05-31 16:00:00+01:00achurchnearyou
CATEGORIES:
DESCRIPTION:Traditional Evensong service
GEO:0.357542;51.390125
LOCATION:Nurstead: St Mildred
URL:https://stjohnsmeopham.co.uk/
END:VEVENT
BEGIN:VEVENT
SUMMARY:Evensong
DTSTART;TZID=Europe/London:20260830T160000
DTEND;TZID=Europe/London:20260830T170000
DTSTAMP:20260423T142706Z
UID:3282692026-08-30 16:00:00+01:00achurchnearyou
CATEGORIES:
DESCRIPTION:Traditional Evensong service
GEO:0.357542;51.390125
LOCATION:Nurstead: St Mildred
URL:https://stjohnsmeopham.co.uk/
END:VEVENT
BEGIN:VEVENT
SUMMARY:Evensong
DTSTART;TZID=Europe/London:20261129T160000
DTEND;TZID=Europe/London:20261129T170000
DTSTAMP:20260423T142706Z
UID:3282692026-11-29 16:00:00+00:00achurchnearyou
CATEGORIES:
DESCRIPTION:Traditional Evensong service
GEO:0.357542;51.390125
LOCATION:Nurstead: St Mildred
URL:https://stjohnsmeopham.co.uk/
END:VEVENT
BEGIN:VEVENT
SUMMARY:Evensong
DTSTART;TZID=Europe/London:20270131T160000
DTEND;TZID=Europe/London:20270131T170000
DTSTAMP:20260423T142706Z
UID:3282692027-01-31 16:00:00+00:00achurchnearyou
CATEGORIES:
DESCRIPTION:Traditional Evensong service
GEO:0.357542;51.390125
LOCATION:Nurstead: St Mildred
URL:https://stjohnsmeopham.co.uk/
END:VEVENT
END:VCALENDAR
