BEGIN:VCALENDAR
VERSION:2.0
PRODID:-//achurchnearyou.com//eventfeed//EN
CALSCALE:GREGORIAN
METHOD:PUBLISH
X-WR-TIMEZONE:UTC
BEGIN:VEVENT
SUMMARY:Live Wires!
DTSTART;TZID=Europe/London:20250202T110000
DTEND;TZID=Europe/London:20250202T120000
DTSTAMP:20260423T103720Z
UID:11509482025-02-02 11:00:00+00:00achurchnearyou
CATEGORIES:
DESCRIPTION:Our 'puppet led' family friendly service is back!  \nCome and 
 meet Rev. Bev\, Auntie Martha\, Rebecca\, Dave and others at this fun\, in
 formal service. \nWe meet on the first Sunday of every month.  Do join us 
 for puppet shenanigans\, singing\, craft and refreshments for all!
GEO:0.571713;51.349837
LOCATION:Hempstead: All Saints'
URL:https://www.achurchnearyou.com/church/9901/service-and-events/events/1
 150948/
END:VEVENT
BEGIN:VEVENT
SUMMARY:Live Wires!
DTSTART;TZID=Europe/London:20250302T110000
DTEND;TZID=Europe/London:20250302T120000
DTSTAMP:20260423T103720Z
UID:11509482025-03-02 11:00:00+00:00achurchnearyou
CATEGORIES:
DESCRIPTION:Our 'puppet led' family friendly service is back!  \nCome and 
 meet Rev. Bev\, Auntie Martha\, Rebecca\, Dave and others at this fun\, in
 formal service. \nWe meet on the first Sunday of every month.  Do join us 
 for puppet shenanigans\, singing\, craft and refreshments for all!
GEO:0.571713;51.349837
LOCATION:Hempstead: All Saints'
URL:https://www.achurchnearyou.com/church/9901/service-and-events/events/1
 150948/
END:VEVENT
BEGIN:VEVENT
SUMMARY:Live Wires!
DTSTART;TZID=Europe/London:20250406T110000
DTEND;TZID=Europe/London:20250406T120000
DTSTAMP:20260423T103720Z
UID:11509482025-04-06 11:00:00+01:00achurchnearyou
CATEGORIES:
DESCRIPTION:Our 'puppet led' family friendly service is back!  \nCome and 
 meet Rev. Bev\, Auntie Martha\, Rebecca\, Dave and others at this fun\, in
 formal service. \nWe meet on the first Sunday of every month.  Do join us 
 for puppet shenanigans\, singing\, craft and refreshments for all!
GEO:0.571713;51.349837
LOCATION:Hempstead: All Saints'
URL:https://www.achurchnearyou.com/church/9901/service-and-events/events/1
 150948/
END:VEVENT
BEGIN:VEVENT
SUMMARY:Live Wires!
DTSTART;TZID=Europe/London:20250504T110000
DTEND;TZID=Europe/London:20250504T120000
DTSTAMP:20260423T103720Z
UID:11509482025-05-04 11:00:00+01:00achurchnearyou
CATEGORIES:
DESCRIPTION:Our 'puppet led' family friendly service is back!  \nCome and 
 meet Rev. Bev\, Auntie Martha\, Rebecca\, Dave and others at this fun\, in
 formal service. \nWe meet on the first Sunday of every month.  Do join us 
 for puppet shenanigans\, singing\, craft and refreshments for all!
GEO:0.571713;51.349837
LOCATION:Hempstead: All Saints'
URL:https://www.achurchnearyou.com/church/9901/service-and-events/events/1
 150948/
END:VEVENT
BEGIN:VEVENT
SUMMARY:Live Wires!
DTSTART;TZID=Europe/London:20250601T110000
DTEND;TZID=Europe/London:20250601T120000
DTSTAMP:20260423T103720Z
UID:11509482025-06-01 11:00:00+01:00achurchnearyou
CATEGORIES:
DESCRIPTION:Our 'puppet led' family friendly service is back!  \nCome and 
 meet Rev. Bev\, Auntie Martha\, Rebecca\, Dave and others at this fun\, in
 formal service. \nWe meet on the first Sunday of every month.  Do join us 
 for puppet shenanigans\, singing\, craft and refreshments for all!
GEO:0.571713;51.349837
LOCATION:Hempstead: All Saints'
URL:https://www.achurchnearyou.com/church/9901/service-and-events/events/1
 150948/
END:VEVENT
BEGIN:VEVENT
SUMMARY:Live Wires!
DTSTART;TZID=Europe/London:20250706T110000
DTEND;TZID=Europe/London:20250706T120000
DTSTAMP:20260423T103720Z
UID:11509482025-07-06 11:00:00+01:00achurchnearyou
CATEGORIES:
DESCRIPTION:Our 'puppet led' family friendly service is back!  \nCome and 
 meet Rev. Bev\, Auntie Martha\, Rebecca\, Dave and others at this fun\, in
 formal service. \nWe meet on the first Sunday of every month.  Do join us 
 for puppet shenanigans\, singing\, craft and refreshments for all!
GEO:0.571713;51.349837
LOCATION:Hempstead: All Saints'
URL:https://www.achurchnearyou.com/church/9901/service-and-events/events/1
 150948/
END:VEVENT
BEGIN:VEVENT
SUMMARY:Live Wires!
DTSTART;TZID=Europe/London:20250803T110000
DTEND;TZID=Europe/London:20250803T120000
DTSTAMP:20260423T103720Z
UID:11509482025-08-03 11:00:00+01:00achurchnearyou
CATEGORIES:
DESCRIPTION:Our 'puppet led' family friendly service is back!  \nCome and 
 meet Rev. Bev\, Auntie Martha\, Rebecca\, Dave and others at this fun\, in
 formal service. \nWe meet on the first Sunday of every month.  Do join us 
 for puppet shenanigans\, singing\, craft and refreshments for all!
GEO:0.571713;51.349837
LOCATION:Hempstead: All Saints'
URL:https://www.achurchnearyou.com/church/9901/service-and-events/events/1
 150948/
END:VEVENT
BEGIN:VEVENT
SUMMARY:Live Wires!
DTSTART;TZID=Europe/London:20250907T110000
DTEND;TZID=Europe/London:20250907T120000
DTSTAMP:20260423T103720Z
UID:11509482025-09-07 11:00:00+01:00achurchnearyou
CATEGORIES:
DESCRIPTION:Our 'puppet led' family friendly service is back!  \nCome and 
 meet Rev. Bev\, Auntie Martha\, Rebecca\, Dave and others at this fun\, in
 formal service. \nWe meet on the first Sunday of every month.  Do join us 
 for puppet shenanigans\, singing\, craft and refreshments for all!
GEO:0.571713;51.349837
LOCATION:Hempstead: All Saints'
URL:https://www.achurchnearyou.com/church/9901/service-and-events/events/1
 150948/
END:VEVENT
BEGIN:VEVENT
SUMMARY:Live Wires!
DTSTART;TZID=Europe/London:20251005T110000
DTEND;TZID=Europe/London:20251005T120000
DTSTAMP:20260423T103720Z
UID:11509482025-10-05 11:00:00+01:00achurchnearyou
CATEGORIES:
DESCRIPTION:Our 'puppet led' family friendly service is back!  \nCome and 
 meet Rev. Bev\, Auntie Martha\, Rebecca\, Dave and others at this fun\, in
 formal service. \nWe meet on the first Sunday of every month.  Do join us 
 for puppet shenanigans\, singing\, craft and refreshments for all!
GEO:0.571713;51.349837
LOCATION:Hempstead: All Saints'
URL:https://www.achurchnearyou.com/church/9901/service-and-events/events/1
 150948/
END:VEVENT
BEGIN:VEVENT
SUMMARY:Live Wires!
DTSTART;TZID=Europe/London:20251102T110000
DTEND;TZID=Europe/London:20251102T120000
DTSTAMP:20260423T103720Z
UID:11509482025-11-02 11:00:00+00:00achurchnearyou
CATEGORIES:
DESCRIPTION:Our 'puppet led' family friendly service is back!  \nCome and 
 meet Rev. Bev\, Auntie Martha\, Rebecca\, Dave and others at this fun\, in
 formal service. \nWe meet on the first Sunday of every month.  Do join us 
 for puppet shenanigans\, singing\, craft and refreshments for all!
GEO:0.571713;51.349837
LOCATION:Hempstead: All Saints'
URL:https://www.achurchnearyou.com/church/9901/service-and-events/events/1
 150948/
END:VEVENT
BEGIN:VEVENT
SUMMARY:Live Wires!
DTSTART;TZID=Europe/London:20251207T110000
DTEND;TZID=Europe/London:20251207T120000
DTSTAMP:20260423T103720Z
UID:11509482025-12-07 11:00:00+00:00achurchnearyou
CATEGORIES:
DESCRIPTION:Our 'puppet led' family friendly service is back!  \nCome and 
 meet Rev. Bev\, Auntie Martha\, Rebecca\, Dave and others at this fun\, in
 formal service. \nWe meet on the first Sunday of every month.  Do join us 
 for puppet shenanigans\, singing\, craft and refreshments for all!
GEO:0.571713;51.349837
LOCATION:Hempstead: All Saints'
URL:https://www.achurchnearyou.com/church/9901/service-and-events/events/1
 150948/
END:VEVENT
BEGIN:VEVENT
SUMMARY:Live Wires!
DTSTART;TZID=Europe/London:20260104T110000
DTEND;TZID=Europe/London:20260104T120000
DTSTAMP:20260423T103720Z
UID:11509482026-01-04 11:00:00+00:00achurchnearyou
CATEGORIES:
DESCRIPTION:Our 'puppet led' family friendly service is back!  \nCome and 
 meet Rev. Bev\, Auntie Martha\, Rebecca\, Dave and others at this fun\, in
 formal service. \nWe meet on the first Sunday of every month.  Do join us 
 for puppet shenanigans\, singing\, craft and refreshments for all!
GEO:0.571713;51.349837
LOCATION:Hempstead: All Saints'
URL:https://www.achurchnearyou.com/church/9901/service-and-events/events/1
 150948/
END:VEVENT
BEGIN:VEVENT
SUMMARY:Live Wires!
DTSTART;TZID=Europe/London:20260201T110000
DTEND;TZID=Europe/London:20260201T120000
DTSTAMP:20260423T103720Z
UID:11509482026-02-01 11:00:00+00:00achurchnearyou
CATEGORIES:
DESCRIPTION:Our 'puppet led' family friendly service is back!  \nCome and 
 meet Rev. Bev\, Auntie Martha\, Rebecca\, Dave and others at this fun\, in
 formal service. \nWe meet on the first Sunday of every month.  Do join us 
 for puppet shenanigans\, singing\, craft and refreshments for all!
GEO:0.571713;51.349837
LOCATION:Hempstead: All Saints'
URL:https://www.achurchnearyou.com/church/9901/service-and-events/events/1
 150948/
END:VEVENT
BEGIN:VEVENT
SUMMARY:Live Wires!
DTSTART;TZID=Europe/London:20260301T110000
DTEND;TZID=Europe/London:20260301T120000
DTSTAMP:20260423T103720Z
UID:11509482026-03-01 11:00:00+00:00achurchnearyou
CATEGORIES:
DESCRIPTION:Our 'puppet led' family friendly service is back!  \nCome and 
 meet Rev. Bev\, Auntie Martha\, Rebecca\, Dave and others at this fun\, in
 formal service. \nWe meet on the first Sunday of every month.  Do join us 
 for puppet shenanigans\, singing\, craft and refreshments for all!
GEO:0.571713;51.349837
LOCATION:Hempstead: All Saints'
URL:https://www.achurchnearyou.com/church/9901/service-and-events/events/1
 150948/
END:VEVENT
BEGIN:VEVENT
SUMMARY:Live Wires!
DTSTART;TZID=Europe/London:20260405T110000
DTEND;TZID=Europe/London:20260405T120000
DTSTAMP:20260423T103720Z
UID:11509482026-04-05 11:00:00+01:00achurchnearyou
CATEGORIES:
DESCRIPTION:Our 'puppet led' family friendly service is back!  \nCome and 
 meet Rev. Bev\, Auntie Martha\, Rebecca\, Dave and others at this fun\, in
 formal service. \nWe meet on the first Sunday of every month.  Do join us 
 for puppet shenanigans\, singing\, craft and refreshments for all!
GEO:0.571713;51.349837
LOCATION:Hempstead: All Saints'
URL:https://www.achurchnearyou.com/church/9901/service-and-events/events/1
 150948/
END:VEVENT
BEGIN:VEVENT
SUMMARY:Live Wires!
DTSTART;TZID=Europe/London:20260503T110000
DTEND;TZID=Europe/London:20260503T120000
DTSTAMP:20260423T103720Z
UID:11509482026-05-03 11:00:00+01:00achurchnearyou
CATEGORIES:
DESCRIPTION:Our 'puppet led' family friendly service is back!  \nCome and 
 meet Rev. Bev\, Auntie Martha\, Rebecca\, Dave and others at this fun\, in
 formal service. \nWe meet on the first Sunday of every month.  Do join us 
 for puppet shenanigans\, singing\, craft and refreshments for all!
GEO:0.571713;51.349837
LOCATION:Hempstead: All Saints'
URL:https://www.achurchnearyou.com/church/9901/service-and-events/events/1
 150948/
END:VEVENT
BEGIN:VEVENT
SUMMARY:Live Wires!
DTSTART;TZID=Europe/London:20260607T110000
DTEND;TZID=Europe/London:20260607T120000
DTSTAMP:20260423T103720Z
UID:11509482026-06-07 11:00:00+01:00achurchnearyou
CATEGORIES:
DESCRIPTION:Our 'puppet led' family friendly service is back!  \nCome and 
 meet Rev. Bev\, Auntie Martha\, Rebecca\, Dave and others at this fun\, in
 formal service. \nWe meet on the first Sunday of every month.  Do join us 
 for puppet shenanigans\, singing\, craft and refreshments for all!
GEO:0.571713;51.349837
LOCATION:Hempstead: All Saints'
URL:https://www.achurchnearyou.com/church/9901/service-and-events/events/1
 150948/
END:VEVENT
BEGIN:VEVENT
SUMMARY:Live Wires!
DTSTART;TZID=Europe/London:20260705T110000
DTEND;TZID=Europe/London:20260705T120000
DTSTAMP:20260423T103720Z
UID:11509482026-07-05 11:00:00+01:00achurchnearyou
CATEGORIES:
DESCRIPTION:Our 'puppet led' family friendly service is back!  \nCome and 
 meet Rev. Bev\, Auntie Martha\, Rebecca\, Dave and others at this fun\, in
 formal service. \nWe meet on the first Sunday of every month.  Do join us 
 for puppet shenanigans\, singing\, craft and refreshments for all!
GEO:0.571713;51.349837
LOCATION:Hempstead: All Saints'
URL:https://www.achurchnearyou.com/church/9901/service-and-events/events/1
 150948/
END:VEVENT
BEGIN:VEVENT
SUMMARY:Live Wires!
DTSTART;TZID=Europe/London:20260802T110000
DTEND;TZID=Europe/London:20260802T120000
DTSTAMP:20260423T103720Z
UID:11509482026-08-02 11:00:00+01:00achurchnearyou
CATEGORIES:
DESCRIPTION:Our 'puppet led' family friendly service is back!  \nCome and 
 meet Rev. Bev\, Auntie Martha\, Rebecca\, Dave and others at this fun\, in
 formal service. \nWe meet on the first Sunday of every month.  Do join us 
 for puppet shenanigans\, singing\, craft and refreshments for all!
GEO:0.571713;51.349837
LOCATION:Hempstead: All Saints'
URL:https://www.achurchnearyou.com/church/9901/service-and-events/events/1
 150948/
END:VEVENT
BEGIN:VEVENT
SUMMARY:Live Wires!
DTSTART;TZID=Europe/London:20260906T110000
DTEND;TZID=Europe/London:20260906T120000
DTSTAMP:20260423T103720Z
UID:11509482026-09-06 11:00:00+01:00achurchnearyou
CATEGORIES:
DESCRIPTION:Our 'puppet led' family friendly service is back!  \nCome and 
 meet Rev. Bev\, Auntie Martha\, Rebecca\, Dave and others at this fun\, in
 formal service. \nWe meet on the first Sunday of every month.  Do join us 
 for puppet shenanigans\, singing\, craft and refreshments for all!
GEO:0.571713;51.349837
LOCATION:Hempstead: All Saints'
URL:https://www.achurchnearyou.com/church/9901/service-and-events/events/1
 150948/
END:VEVENT
BEGIN:VEVENT
SUMMARY:Live Wires!
DTSTART;TZID=Europe/London:20261004T110000
DTEND;TZID=Europe/London:20261004T120000
DTSTAMP:20260423T103720Z
UID:11509482026-10-04 11:00:00+01:00achurchnearyou
CATEGORIES:
DESCRIPTION:Our 'puppet led' family friendly service is back!  \nCome and 
 meet Rev. Bev\, Auntie Martha\, Rebecca\, Dave and others at this fun\, in
 formal service. \nWe meet on the first Sunday of every month.  Do join us 
 for puppet shenanigans\, singing\, craft and refreshments for all!
GEO:0.571713;51.349837
LOCATION:Hempstead: All Saints'
URL:https://www.achurchnearyou.com/church/9901/service-and-events/events/1
 150948/
END:VEVENT
BEGIN:VEVENT
SUMMARY:Live Wires!
DTSTART;TZID=Europe/London:20261101T110000
DTEND;TZID=Europe/London:20261101T120000
DTSTAMP:20260423T103720Z
UID:11509482026-11-01 11:00:00+00:00achurchnearyou
CATEGORIES:
DESCRIPTION:Our 'puppet led' family friendly service is back!  \nCome and 
 meet Rev. Bev\, Auntie Martha\, Rebecca\, Dave and others at this fun\, in
 formal service. \nWe meet on the first Sunday of every month.  Do join us 
 for puppet shenanigans\, singing\, craft and refreshments for all!
GEO:0.571713;51.349837
LOCATION:Hempstead: All Saints'
URL:https://www.achurchnearyou.com/church/9901/service-and-events/events/1
 150948/
END:VEVENT
BEGIN:VEVENT
SUMMARY:Live Wires!
DTSTART;TZID=Europe/London:20261206T110000
DTEND;TZID=Europe/London:20261206T120000
DTSTAMP:20260423T103720Z
UID:11509482026-12-06 11:00:00+00:00achurchnearyou
CATEGORIES:
DESCRIPTION:Our 'puppet led' family friendly service is back!  \nCome and 
 meet Rev. Bev\, Auntie Martha\, Rebecca\, Dave and others at this fun\, in
 formal service. \nWe meet on the first Sunday of every month.  Do join us 
 for puppet shenanigans\, singing\, craft and refreshments for all!
GEO:0.571713;51.349837
LOCATION:Hempstead: All Saints'
URL:https://www.achurchnearyou.com/church/9901/service-and-events/events/1
 150948/
END:VEVENT
BEGIN:VEVENT
SUMMARY:Live Wires!
DTSTART;TZID=Europe/London:20270103T110000
DTEND;TZID=Europe/London:20270103T120000
DTSTAMP:20260423T103720Z
UID:11509482027-01-03 11:00:00+00:00achurchnearyou
CATEGORIES:
DESCRIPTION:Our 'puppet led' family friendly service is back!  \nCome and 
 meet Rev. Bev\, Auntie Martha\, Rebecca\, Dave and others at this fun\, in
 formal service. \nWe meet on the first Sunday of every month.  Do join us 
 for puppet shenanigans\, singing\, craft and refreshments for all!
GEO:0.571713;51.349837
LOCATION:Hempstead: All Saints'
URL:https://www.achurchnearyou.com/church/9901/service-and-events/events/1
 150948/
END:VEVENT
BEGIN:VEVENT
SUMMARY:Live Wires!
DTSTART;TZID=Europe/London:20270207T110000
DTEND;TZID=Europe/London:20270207T120000
DTSTAMP:20260423T103720Z
UID:11509482027-02-07 11:00:00+00:00achurchnearyou
CATEGORIES:
DESCRIPTION:Our 'puppet led' family friendly service is back!  \nCome and 
 meet Rev. Bev\, Auntie Martha\, Rebecca\, Dave and others at this fun\, in
 formal service. \nWe meet on the first Sunday of every month.  Do join us 
 for puppet shenanigans\, singing\, craft and refreshments for all!
GEO:0.571713;51.349837
LOCATION:Hempstead: All Saints'
URL:https://www.achurchnearyou.com/church/9901/service-and-events/events/1
 150948/
END:VEVENT
BEGIN:VEVENT
SUMMARY:Live Wires!
DTSTART;TZID=Europe/London:20270307T110000
DTEND;TZID=Europe/London:20270307T120000
DTSTAMP:20260423T103720Z
UID:11509482027-03-07 11:00:00+00:00achurchnearyou
CATEGORIES:
DESCRIPTION:Our 'puppet led' family friendly service is back!  \nCome and 
 meet Rev. Bev\, Auntie Martha\, Rebecca\, Dave and others at this fun\, in
 formal service. \nWe meet on the first Sunday of every month.  Do join us 
 for puppet shenanigans\, singing\, craft and refreshments for all!
GEO:0.571713;51.349837
LOCATION:Hempstead: All Saints'
URL:https://www.achurchnearyou.com/church/9901/service-and-events/events/1
 150948/
END:VEVENT
BEGIN:VEVENT
SUMMARY:Live Wires!
DTSTART;TZID=Europe/London:20270404T110000
DTEND;TZID=Europe/London:20270404T120000
DTSTAMP:20260423T103720Z
UID:11509482027-04-04 11:00:00+01:00achurchnearyou
CATEGORIES:
DESCRIPTION:Our 'puppet led' family friendly service is back!  \nCome and 
 meet Rev. Bev\, Auntie Martha\, Rebecca\, Dave and others at this fun\, in
 formal service. \nWe meet on the first Sunday of every month.  Do join us 
 for puppet shenanigans\, singing\, craft and refreshments for all!
GEO:0.571713;51.349837
LOCATION:Hempstead: All Saints'
URL:https://www.achurchnearyou.com/church/9901/service-and-events/events/1
 150948/
END:VEVENT
END:VCALENDAR
