BEGIN:VCALENDAR
VERSION:2.0
PRODID:-//achurchnearyou.com//eventfeed//EN
CALSCALE:GREGORIAN
METHOD:PUBLISH
X-WR-TIMEZONE:UTC
BEGIN:VEVENT
SUMMARY:PARADE SERVICES
DTSTART;TZID=Europe/London:20260517T100000
DTEND;TZID=Europe/London:20260517T110000
DTSTAMP:20260425T004342Z
UID:13255852026-05-17 10:00:00+01:00achurchnearyou
CATEGORIES:
DESCRIPTION:Guide & Scout groups join us
GEO:0.3859;51.4392
LOCATION:Milton Parish Church       (St Peter & St Paul's)
URL:https://www.achurchnearyou.com/church/9912/service-and-events/events/1
 325585/
END:VEVENT
BEGIN:VEVENT
SUMMARY:PARADE SERVICES
DTSTART;TZID=Europe/London:20260621T100000
DTEND;TZID=Europe/London:20260621T110000
DTSTAMP:20260425T004342Z
UID:13255852026-06-21 10:00:00+01:00achurchnearyou
CATEGORIES:
DESCRIPTION:Guide & Scout groups join us
GEO:0.3859;51.4392
LOCATION:Milton Parish Church       (St Peter & St Paul's)
URL:https://www.achurchnearyou.com/church/9912/service-and-events/events/1
 325585/
END:VEVENT
BEGIN:VEVENT
SUMMARY:PARADE SERVICES
DTSTART;TZID=Europe/London:20260719T100000
DTEND;TZID=Europe/London:20260719T110000
DTSTAMP:20260425T004342Z
UID:13255852026-07-19 10:00:00+01:00achurchnearyou
CATEGORIES:
DESCRIPTION:Guide & Scout groups join us
GEO:0.3859;51.4392
LOCATION:Milton Parish Church       (St Peter & St Paul's)
URL:https://www.achurchnearyou.com/church/9912/service-and-events/events/1
 325585/
END:VEVENT
BEGIN:VEVENT
SUMMARY:PARADE SERVICES
DTSTART;TZID=Europe/London:20261011T100000
DTEND;TZID=Europe/London:20261011T110000
DTSTAMP:20260425T004342Z
UID:13255852026-10-11 10:00:00+01:00achurchnearyou
CATEGORIES:
DESCRIPTION:Guide & Scout groups join us
GEO:0.3859;51.4392
LOCATION:Milton Parish Church       (St Peter & St Paul's)
URL:https://www.achurchnearyou.com/church/9912/service-and-events/events/1
 325585/
END:VEVENT
BEGIN:VEVENT
SUMMARY:PARADE SERVICES
DTSTART;TZID=Europe/London:20261108T100000
DTEND;TZID=Europe/London:20261108T110000
DTSTAMP:20260425T004342Z
UID:13255852026-11-08 10:00:00+00:00achurchnearyou
CATEGORIES:
DESCRIPTION:Guide & Scout groups join us
GEO:0.3859;51.4392
LOCATION:Milton Parish Church       (St Peter & St Paul's)
URL:https://www.achurchnearyou.com/church/9912/service-and-events/events/1
 325585/
END:VEVENT
END:VCALENDAR
