BEGIN:VCALENDAR
VERSION:2.0
PRODID:-//achurchnearyou.com//eventfeed//EN
CALSCALE:GREGORIAN
METHOD:PUBLISH
X-WR-TIMEZONE:UTC
BEGIN:VEVENT
SUMMARY:First Sunday Eucharist
DTSTART;TZID=Europe/London:20260426T111500
DTEND;TZID=Europe/London:20260426T121500
DTSTAMP:20260419T234336Z
UID:3436592026-04-26 11:15:00+01:00achurchnearyou
CATEGORIES:
DESCRIPTION:Families with small children are particularly welcome to this 
 informal service with songs and Holy Communion\, which takes place on the 
 first Sunday each month. Children remain in church throughout and the shor
 t talk is always suitable for them (as well as grown-ups!).
GEO:0.352441;51.442523
LOCATION:St Mark's Church\, Rosherville
URL:https://www.achurchnearyou.com/church/9915/service-and-events/events/3
 43659/
END:VEVENT
BEGIN:VEVENT
SUMMARY:First Sunday Eucharist
DTSTART;TZID=Europe/London:20260503T111500
DTEND;TZID=Europe/London:20260503T121500
DTSTAMP:20260419T234336Z
UID:3436592026-05-03 11:15:00+01:00achurchnearyou
CATEGORIES:
DESCRIPTION:Families with small children are particularly welcome to this 
 informal service with songs and Holy Communion\, which takes place on the 
 first Sunday each month. Children remain in church throughout and the shor
 t talk is always suitable for them (as well as grown-ups!).
GEO:0.352441;51.442523
LOCATION:St Mark's Church\, Rosherville
URL:https://www.achurchnearyou.com/church/9915/service-and-events/events/3
 43659/
END:VEVENT
BEGIN:VEVENT
SUMMARY:First Sunday Eucharist
DTSTART;TZID=Europe/London:20260524T111500
DTEND;TZID=Europe/London:20260524T121500
DTSTAMP:20260419T234336Z
UID:3436592026-05-24 11:15:00+01:00achurchnearyou
CATEGORIES:
DESCRIPTION:Families with small children are particularly welcome to this 
 informal service with songs and Holy Communion\, which takes place on the 
 first Sunday each month. Children remain in church throughout and the shor
 t talk is always suitable for them (as well as grown-ups!).
GEO:0.352441;51.442523
LOCATION:St Mark's Church\, Rosherville
URL:https://www.achurchnearyou.com/church/9915/service-and-events/events/3
 43659/
END:VEVENT
BEGIN:VEVENT
SUMMARY:First Sunday Eucharist
DTSTART;TZID=Europe/London:20260607T111500
DTEND;TZID=Europe/London:20260607T121500
DTSTAMP:20260419T234336Z
UID:3436592026-06-07 11:15:00+01:00achurchnearyou
CATEGORIES:
DESCRIPTION:Families with small children are particularly welcome to this 
 informal service with songs and Holy Communion\, which takes place on the 
 first Sunday each month. Children remain in church throughout and the shor
 t talk is always suitable for them (as well as grown-ups!).
GEO:0.352441;51.442523
LOCATION:St Mark's Church\, Rosherville
URL:https://www.achurchnearyou.com/church/9915/service-and-events/events/3
 43659/
END:VEVENT
BEGIN:VEVENT
SUMMARY:First Sunday Eucharist
DTSTART;TZID=Europe/London:20260628T111500
DTEND;TZID=Europe/London:20260628T121500
DTSTAMP:20260419T234336Z
UID:3436592026-06-28 11:15:00+01:00achurchnearyou
CATEGORIES:
DESCRIPTION:Families with small children are particularly welcome to this 
 informal service with songs and Holy Communion\, which takes place on the 
 first Sunday each month. Children remain in church throughout and the shor
 t talk is always suitable for them (as well as grown-ups!).
GEO:0.352441;51.442523
LOCATION:St Mark's Church\, Rosherville
URL:https://www.achurchnearyou.com/church/9915/service-and-events/events/3
 43659/
END:VEVENT
BEGIN:VEVENT
SUMMARY:First Sunday Eucharist
DTSTART;TZID=Europe/London:20260705T111500
DTEND;TZID=Europe/London:20260705T121500
DTSTAMP:20260419T234336Z
UID:3436592026-07-05 11:15:00+01:00achurchnearyou
CATEGORIES:
DESCRIPTION:Families with small children are particularly welcome to this 
 informal service with songs and Holy Communion\, which takes place on the 
 first Sunday each month. Children remain in church throughout and the shor
 t talk is always suitable for them (as well as grown-ups!).
GEO:0.352441;51.442523
LOCATION:St Mark's Church\, Rosherville
URL:https://www.achurchnearyou.com/church/9915/service-and-events/events/3
 43659/
END:VEVENT
BEGIN:VEVENT
SUMMARY:First Sunday Eucharist
DTSTART;TZID=Europe/London:20260726T111500
DTEND;TZID=Europe/London:20260726T121500
DTSTAMP:20260419T234336Z
UID:3436592026-07-26 11:15:00+01:00achurchnearyou
CATEGORIES:
DESCRIPTION:Families with small children are particularly welcome to this 
 informal service with songs and Holy Communion\, which takes place on the 
 first Sunday each month. Children remain in church throughout and the shor
 t talk is always suitable for them (as well as grown-ups!).
GEO:0.352441;51.442523
LOCATION:St Mark's Church\, Rosherville
URL:https://www.achurchnearyou.com/church/9915/service-and-events/events/3
 43659/
END:VEVENT
BEGIN:VEVENT
SUMMARY:First Sunday Eucharist
DTSTART;TZID=Europe/London:20260802T111500
DTEND;TZID=Europe/London:20260802T121500
DTSTAMP:20260419T234336Z
UID:3436592026-08-02 11:15:00+01:00achurchnearyou
CATEGORIES:
DESCRIPTION:Families with small children are particularly welcome to this 
 informal service with songs and Holy Communion\, which takes place on the 
 first Sunday each month. Children remain in church throughout and the shor
 t talk is always suitable for them (as well as grown-ups!).
GEO:0.352441;51.442523
LOCATION:St Mark's Church\, Rosherville
URL:https://www.achurchnearyou.com/church/9915/service-and-events/events/3
 43659/
END:VEVENT
BEGIN:VEVENT
SUMMARY:First Sunday Eucharist
DTSTART;TZID=Europe/London:20260823T111500
DTEND;TZID=Europe/London:20260823T121500
DTSTAMP:20260419T234336Z
UID:3436592026-08-23 11:15:00+01:00achurchnearyou
CATEGORIES:
DESCRIPTION:Families with small children are particularly welcome to this 
 informal service with songs and Holy Communion\, which takes place on the 
 first Sunday each month. Children remain in church throughout and the shor
 t talk is always suitable for them (as well as grown-ups!).
GEO:0.352441;51.442523
LOCATION:St Mark's Church\, Rosherville
URL:https://www.achurchnearyou.com/church/9915/service-and-events/events/3
 43659/
END:VEVENT
BEGIN:VEVENT
SUMMARY:First Sunday Eucharist
DTSTART;TZID=Europe/London:20260906T111500
DTEND;TZID=Europe/London:20260906T121500
DTSTAMP:20260419T234336Z
UID:3436592026-09-06 11:15:00+01:00achurchnearyou
CATEGORIES:
DESCRIPTION:Families with small children are particularly welcome to this 
 informal service with songs and Holy Communion\, which takes place on the 
 first Sunday each month. Children remain in church throughout and the shor
 t talk is always suitable for them (as well as grown-ups!).
GEO:0.352441;51.442523
LOCATION:St Mark's Church\, Rosherville
URL:https://www.achurchnearyou.com/church/9915/service-and-events/events/3
 43659/
END:VEVENT
BEGIN:VEVENT
SUMMARY:First Sunday Eucharist
DTSTART;TZID=Europe/London:20260927T111500
DTEND;TZID=Europe/London:20260927T121500
DTSTAMP:20260419T234336Z
UID:3436592026-09-27 11:15:00+01:00achurchnearyou
CATEGORIES:
DESCRIPTION:Families with small children are particularly welcome to this 
 informal service with songs and Holy Communion\, which takes place on the 
 first Sunday each month. Children remain in church throughout and the shor
 t talk is always suitable for them (as well as grown-ups!).
GEO:0.352441;51.442523
LOCATION:St Mark's Church\, Rosherville
URL:https://www.achurchnearyou.com/church/9915/service-and-events/events/3
 43659/
END:VEVENT
BEGIN:VEVENT
SUMMARY:First Sunday Eucharist
DTSTART;TZID=Europe/London:20261004T111500
DTEND;TZID=Europe/London:20261004T121500
DTSTAMP:20260419T234336Z
UID:3436592026-10-04 11:15:00+01:00achurchnearyou
CATEGORIES:
DESCRIPTION:Families with small children are particularly welcome to this 
 informal service with songs and Holy Communion\, which takes place on the 
 first Sunday each month. Children remain in church throughout and the shor
 t talk is always suitable for them (as well as grown-ups!).
GEO:0.352441;51.442523
LOCATION:St Mark's Church\, Rosherville
URL:https://www.achurchnearyou.com/church/9915/service-and-events/events/3
 43659/
END:VEVENT
BEGIN:VEVENT
SUMMARY:First Sunday Eucharist
DTSTART;TZID=Europe/London:20261025T111500
DTEND;TZID=Europe/London:20261025T121500
DTSTAMP:20260419T234336Z
UID:3436592026-10-25 11:15:00+00:00achurchnearyou
CATEGORIES:
DESCRIPTION:Families with small children are particularly welcome to this 
 informal service with songs and Holy Communion\, which takes place on the 
 first Sunday each month. Children remain in church throughout and the shor
 t talk is always suitable for them (as well as grown-ups!).
GEO:0.352441;51.442523
LOCATION:St Mark's Church\, Rosherville
URL:https://www.achurchnearyou.com/church/9915/service-and-events/events/3
 43659/
END:VEVENT
BEGIN:VEVENT
SUMMARY:First Sunday Eucharist
DTSTART;TZID=Europe/London:20261101T111500
DTEND;TZID=Europe/London:20261101T121500
DTSTAMP:20260419T234336Z
UID:3436592026-11-01 11:15:00+00:00achurchnearyou
CATEGORIES:
DESCRIPTION:Families with small children are particularly welcome to this 
 informal service with songs and Holy Communion\, which takes place on the 
 first Sunday each month. Children remain in church throughout and the shor
 t talk is always suitable for them (as well as grown-ups!).
GEO:0.352441;51.442523
LOCATION:St Mark's Church\, Rosherville
URL:https://www.achurchnearyou.com/church/9915/service-and-events/events/3
 43659/
END:VEVENT
BEGIN:VEVENT
SUMMARY:First Sunday Eucharist
DTSTART;TZID=Europe/London:20261122T111500
DTEND;TZID=Europe/London:20261122T121500
DTSTAMP:20260419T234336Z
UID:3436592026-11-22 11:15:00+00:00achurchnearyou
CATEGORIES:
DESCRIPTION:Families with small children are particularly welcome to this 
 informal service with songs and Holy Communion\, which takes place on the 
 first Sunday each month. Children remain in church throughout and the shor
 t talk is always suitable for them (as well as grown-ups!).
GEO:0.352441;51.442523
LOCATION:St Mark's Church\, Rosherville
URL:https://www.achurchnearyou.com/church/9915/service-and-events/events/3
 43659/
END:VEVENT
BEGIN:VEVENT
SUMMARY:First Sunday Eucharist
DTSTART;TZID=Europe/London:20261206T111500
DTEND;TZID=Europe/London:20261206T121500
DTSTAMP:20260419T234336Z
UID:3436592026-12-06 11:15:00+00:00achurchnearyou
CATEGORIES:
DESCRIPTION:Families with small children are particularly welcome to this 
 informal service with songs and Holy Communion\, which takes place on the 
 first Sunday each month. Children remain in church throughout and the shor
 t talk is always suitable for them (as well as grown-ups!).
GEO:0.352441;51.442523
LOCATION:St Mark's Church\, Rosherville
URL:https://www.achurchnearyou.com/church/9915/service-and-events/events/3
 43659/
END:VEVENT
BEGIN:VEVENT
SUMMARY:First Sunday Eucharist
DTSTART;TZID=Europe/London:20261227T111500
DTEND;TZID=Europe/London:20261227T121500
DTSTAMP:20260419T234336Z
UID:3436592026-12-27 11:15:00+00:00achurchnearyou
CATEGORIES:
DESCRIPTION:Families with small children are particularly welcome to this 
 informal service with songs and Holy Communion\, which takes place on the 
 first Sunday each month. Children remain in church throughout and the shor
 t talk is always suitable for them (as well as grown-ups!).
GEO:0.352441;51.442523
LOCATION:St Mark's Church\, Rosherville
URL:https://www.achurchnearyou.com/church/9915/service-and-events/events/3
 43659/
END:VEVENT
BEGIN:VEVENT
SUMMARY:First Sunday Eucharist
DTSTART;TZID=Europe/London:20270103T111500
DTEND;TZID=Europe/London:20270103T121500
DTSTAMP:20260419T234336Z
UID:3436592027-01-03 11:15:00+00:00achurchnearyou
CATEGORIES:
DESCRIPTION:Families with small children are particularly welcome to this 
 informal service with songs and Holy Communion\, which takes place on the 
 first Sunday each month. Children remain in church throughout and the shor
 t talk is always suitable for them (as well as grown-ups!).
GEO:0.352441;51.442523
LOCATION:St Mark's Church\, Rosherville
URL:https://www.achurchnearyou.com/church/9915/service-and-events/events/3
 43659/
END:VEVENT
BEGIN:VEVENT
SUMMARY:First Sunday Eucharist
DTSTART;TZID=Europe/London:20270124T111500
DTEND;TZID=Europe/London:20270124T121500
DTSTAMP:20260419T234336Z
UID:3436592027-01-24 11:15:00+00:00achurchnearyou
CATEGORIES:
DESCRIPTION:Families with small children are particularly welcome to this 
 informal service with songs and Holy Communion\, which takes place on the 
 first Sunday each month. Children remain in church throughout and the shor
 t talk is always suitable for them (as well as grown-ups!).
GEO:0.352441;51.442523
LOCATION:St Mark's Church\, Rosherville
URL:https://www.achurchnearyou.com/church/9915/service-and-events/events/3
 43659/
END:VEVENT
BEGIN:VEVENT
SUMMARY:First Sunday Eucharist
DTSTART;TZID=Europe/London:20270207T111500
DTEND;TZID=Europe/London:20270207T121500
DTSTAMP:20260419T234336Z
UID:3436592027-02-07 11:15:00+00:00achurchnearyou
CATEGORIES:
DESCRIPTION:Families with small children are particularly welcome to this 
 informal service with songs and Holy Communion\, which takes place on the 
 first Sunday each month. Children remain in church throughout and the shor
 t talk is always suitable for them (as well as grown-ups!).
GEO:0.352441;51.442523
LOCATION:St Mark's Church\, Rosherville
URL:https://www.achurchnearyou.com/church/9915/service-and-events/events/3
 43659/
END:VEVENT
BEGIN:VEVENT
SUMMARY:First Sunday Eucharist
DTSTART;TZID=Europe/London:20270228T111500
DTEND;TZID=Europe/London:20270228T121500
DTSTAMP:20260419T234336Z
UID:3436592027-02-28 11:15:00+00:00achurchnearyou
CATEGORIES:
DESCRIPTION:Families with small children are particularly welcome to this 
 informal service with songs and Holy Communion\, which takes place on the 
 first Sunday each month. Children remain in church throughout and the shor
 t talk is always suitable for them (as well as grown-ups!).
GEO:0.352441;51.442523
LOCATION:St Mark's Church\, Rosherville
URL:https://www.achurchnearyou.com/church/9915/service-and-events/events/3
 43659/
END:VEVENT
BEGIN:VEVENT
SUMMARY:First Sunday Eucharist
DTSTART;TZID=Europe/London:20270307T111500
DTEND;TZID=Europe/London:20270307T121500
DTSTAMP:20260419T234336Z
UID:3436592027-03-07 11:15:00+00:00achurchnearyou
CATEGORIES:
DESCRIPTION:Families with small children are particularly welcome to this 
 informal service with songs and Holy Communion\, which takes place on the 
 first Sunday each month. Children remain in church throughout and the shor
 t talk is always suitable for them (as well as grown-ups!).
GEO:0.352441;51.442523
LOCATION:St Mark's Church\, Rosherville
URL:https://www.achurchnearyou.com/church/9915/service-and-events/events/3
 43659/
END:VEVENT
BEGIN:VEVENT
SUMMARY:First Sunday Eucharist
DTSTART;TZID=Europe/London:20270328T111500
DTEND;TZID=Europe/London:20270328T121500
DTSTAMP:20260419T234336Z
UID:3436592027-03-28 11:15:00+01:00achurchnearyou
CATEGORIES:
DESCRIPTION:Families with small children are particularly welcome to this 
 informal service with songs and Holy Communion\, which takes place on the 
 first Sunday each month. Children remain in church throughout and the shor
 t talk is always suitable for them (as well as grown-ups!).
GEO:0.352441;51.442523
LOCATION:St Mark's Church\, Rosherville
URL:https://www.achurchnearyou.com/church/9915/service-and-events/events/3
 43659/
END:VEVENT
BEGIN:VEVENT
SUMMARY:First Sunday Eucharist
DTSTART;TZID=Europe/London:20270404T111500
DTEND;TZID=Europe/London:20270404T121500
DTSTAMP:20260419T234336Z
UID:3436592027-04-04 11:15:00+01:00achurchnearyou
CATEGORIES:
DESCRIPTION:Families with small children are particularly welcome to this 
 informal service with songs and Holy Communion\, which takes place on the 
 first Sunday each month. Children remain in church throughout and the shor
 t talk is always suitable for them (as well as grown-ups!).
GEO:0.352441;51.442523
LOCATION:St Mark's Church\, Rosherville
URL:https://www.achurchnearyou.com/church/9915/service-and-events/events/3
 43659/
END:VEVENT
END:VCALENDAR
