BEGIN:VCALENDAR
VERSION:2.0
PRODID:-//achurchnearyou.com//eventfeed//EN
CALSCALE:GREGORIAN
METHOD:PUBLISH
X-WR-TIMEZONE:UTC
BEGIN:VEVENT
SUMMARY:Good Friday Reflection
DTSTART:20250418T090000Z
DTEND:20250418T094500Z
DTSTAMP:20260419T144943Z
UID:11815232025-04-18 09:00:00+00:00achurchnearyou
CATEGORIES:
DESCRIPTION:A quiet service of reflection for Good Friday
GEO:0.535288;51.375042
LOCATION:All Saints\, Chatham
URL:https://www.achurchnearyou.com/church/9921/service-and-events/events/1
 181523/
END:VEVENT
END:VCALENDAR
