BEGIN:VCALENDAR
VERSION:2.0
PRODID:-//achurchnearyou.com//eventfeed//EN
CALSCALE:GREGORIAN
METHOD:PUBLISH
X-WR-TIMEZONE:UTC
BEGIN:VEVENT
SUMMARY:EcoChurch Clothes Swap Event
DTSTART:20250607T090000Z
DTEND:20250607T120000Z
DTSTAMP:20260425T023953Z
UID:11985212025-06-07 09:00:00+00:00achurchnearyou
CATEGORIES:
DESCRIPTION:Bring along up to 10 items of clean good quality clothing and 
 exchange for something new to you.  There will be a tombola and a Gnome tr
 ail will take  place in the church yard\, raising funds for The British Be
 e Charity. Refreshments available.
LOCATION:All Saints Parish Hall
URL:https://www.achurchnearyou.com/church/9942/service-and-events/events/1
 198521/
END:VEVENT
END:VCALENDAR
