BEGIN:VCALENDAR
VERSION:2.0
PRODID:-//achurchnearyou.com//eventfeed//EN
CALSCALE:GREGORIAN
METHOD:PUBLISH
X-WR-TIMEZONE:UTC
BEGIN:VEVENT
SUMMARY:Maundy Thursday Service
DTSTART:20260402T180000Z
DTEND:20260402T190000Z
DTSTAMP:20260422T170108Z
UID:9282022026-04-02 18:00:00+00:00achurchnearyou
CATEGORIES:
DESCRIPTION:A service of quiet reflection on the day when we recall Jesus 
 last meal with his friends before his arrest.
GEO:0.457976;51.352311
LOCATION:Wouldham: All Saints
URL:https://www.achurchnearyou.com/church/9946/service-and-events/events/9
 28202/
END:VEVENT
END:VCALENDAR
