BEGIN:VCALENDAR
VERSION:2.0
PRODID:-//achurchnearyou.com//eventfeed//EN
CALSCALE:GREGORIAN
METHOD:PUBLISH
X-WR-TIMEZONE:UTC
BEGIN:VEVENT
SUMMARY:Eucharist
DTSTART:20250416T170000Z
DTEND:20250416T173000Z
DTSTAMP:20260419T183720Z
UID:11776922025-04-16 17:00:00+00:00achurchnearyou
CATEGORIES:
DESCRIPTION:Said Eucharist
GEO:-1.404951;50.899561
LOCATION:St Michael the Archangel
URL:https://www.achurchnearyou.com/church/9979/service-and-events/events/1
 177692/
END:VEVENT
END:VCALENDAR
