BEGIN:VCALENDAR
VERSION:2.0
PRODID:-//achurchnearyou.com//eventfeed//EN
CALSCALE:GREGORIAN
METHOD:PUBLISH
X-WR-TIMEZONE:UTC
BEGIN:VEVENT
SUMMARY:Easter Vigil
DTSTART:20250419T190000Z
DTEND:20250419T203000Z
DTSTAMP:20260419T184042Z
UID:11777112025-04-19 19:00:00+00:00achurchnearyou
CATEGORIES:
DESCRIPTION:First Mass of Easter\nWith Cantores Michaelis
GEO:-1.404951;50.899561
LOCATION:St Michael the Archangel
URL:https://www.achurchnearyou.com/church/9979/service-and-events/events/1
 177711/
END:VEVENT
END:VCALENDAR
