BEGIN:VCALENDAR
VERSION:2.0
PRODID:-//achurchnearyou.com//eventfeed//EN
CALSCALE:GREGORIAN
METHOD:PUBLISH
X-WR-TIMEZONE:UTC
BEGIN:VEVENT
SUMMARY:Community Carols in the Churchyard
DTSTART:20251222T190000Z
DTEND:20251222T203000Z
DTSTAMP:20260422T052032Z
UID:12731472025-12-22 19:00:00+00:00achurchnearyou
CATEGORIES:
DESCRIPTION:Come and join us for this fantastic community event - singing 
 Christmas Carols in the churchyard.  Led by Macclesfield Youth Brass Band.
 \nFire pits to keep you warm\, along with mulled wine and mince pies.\nCom
 munity event since 2016.
GEO:-2.119631;53.257126
LOCATION:St. Paul's\, Macclesfield
URL:https://www.achurchnearyou.com/church/9984/service-and-events/events/1
 273147/
END:VEVENT
END:VCALENDAR
