BEGIN:VCALENDAR
VERSION:2.0
PRODID:-//achurchnearyou.com//eventfeed//EN
CALSCALE:GREGORIAN
METHOD:PUBLISH
X-WR-TIMEZONE:UTC
BEGIN:VEVENT
SUMMARY:Ash Wednesday Holy Communion
DTSTART:20260218T190000Z
DTEND:20260218T200000Z
DTSTAMP:20260422T013039Z
UID:12929822026-02-18 19:00:00+00:00achurchnearyou
CATEGORIES:
DESCRIPTION:Evening service of Holy Communion with imposition of ashes.
GEO:-2.119631;53.257126
LOCATION:St. Paul's\, Macclesfield
URL:https://www.achurchnearyou.com/church/9984/service-and-events/events/1
 292982/
END:VEVENT
END:VCALENDAR
